BEGIN:VCALENDAR
VERSION:2.0
PRODID:-//Universidad Nacional Agraria - ECPv6.15.20//NONSGML v1.0//EN
CALSCALE:GREGORIAN
METHOD:PUBLISH
X-WR-CALNAME:Universidad Nacional Agraria
X-ORIGINAL-URL:https://www.una.edu.ni
X-WR-CALDESC:Eventos para Universidad Nacional Agraria
REFRESH-INTERVAL;VALUE=DURATION:PT1H
X-Robots-Tag:noindex
X-PUBLISHED-TTL:PT1H
BEGIN:VTIMEZONE
TZID:America/Managua
BEGIN:STANDARD
TZOFFSETFROM:-0600
TZOFFSETTO:-0600
TZNAME:CST
DTSTART:20240101T000000
END:STANDARD
END:VTIMEZONE
BEGIN:VTIMEZONE
TZID:Europe/Madrid
BEGIN:DAYLIGHT
TZOFFSETFROM:+0100
TZOFFSETTO:+0200
TZNAME:CEST
DTSTART:20240331T010000
END:DAYLIGHT
BEGIN:STANDARD
TZOFFSETFROM:+0200
TZOFFSETTO:+0100
TZNAME:CET
DTSTART:20241027T010000
END:STANDARD
BEGIN:DAYLIGHT
TZOFFSETFROM:+0100
TZOFFSETTO:+0200
TZNAME:CEST
DTSTART:20250330T010000
END:DAYLIGHT
BEGIN:STANDARD
TZOFFSETFROM:+0200
TZOFFSETTO:+0100
TZNAME:CET
DTSTART:20251026T010000
END:STANDARD
BEGIN:DAYLIGHT
TZOFFSETFROM:+0100
TZOFFSETTO:+0200
TZNAME:CEST
DTSTART:20260329T010000
END:DAYLIGHT
BEGIN:STANDARD
TZOFFSETFROM:+0200
TZOFFSETTO:+0100
TZNAME:CET
DTSTART:20261025T010000
END:STANDARD
END:VTIMEZONE
BEGIN:VEVENT
DTSTART;TZID=America/Managua:20250708T080000
DTEND;TZID=America/Managua:20250708T120000
DTSTAMP:20260423T002938
CREATED:20250707T143020Z
LAST-MODIFIED:20250707T143020Z
UID:24551-1751961600-1751976000@www.una.edu.ni
SUMMARY:Capacitación sobre mejoramiento genético de granos básicos
DESCRIPTION:
URL:https://www.una.edu.ni/event/capacitacion-sobre-mejoramiento-genetico-de-granos-basicos/
LOCATION:Centro Regional “Don Orlando”\, Niquinohomo\, Nicaragua
CATEGORIES:CAPACITACION
END:VEVENT
BEGIN:VEVENT
DTSTART;TZID=America/Managua:20250708T080000
DTEND;TZID=America/Managua:20250708T160000
DTSTAMP:20260423T002938
CREATED:20250707T143458Z
LAST-MODIFIED:20250707T143458Z
UID:24560-1751961600-1751990400@www.una.edu.ni
SUMMARY:Jornada de bienestar animal en ganado bovino
DESCRIPTION:
URL:https://www.una.edu.ni/event/jornada-de-bienestar-animal-en-ganado-bovino/
LOCATION:Universidad Nacional Agraria\, Managua\, km 12 1/2\, Managua\, Nicaragua
CATEGORIES:JORNADA
END:VEVENT
BEGIN:VEVENT
DTSTART;TZID=America/Managua:20250708T090000
DTEND;TZID=America/Managua:20250708T120000
DTSTAMP:20260423T002938
CREATED:20250707T163910Z
LAST-MODIFIED:20250707T163910Z
UID:24590-1751965200-1751976000@www.una.edu.ni
SUMMARY:Taller sobre Elaboración de variedades de quesos y derivados lácteos
DESCRIPTION:
URL:https://www.una.edu.ni/event/taller-sobre-elaboracion-de-variedades-de-quesos-y-derivados-lacteos/
LOCATION:Finca Experimental El Plantel\, Nicaragua
CATEGORIES:TALLER
END:VEVENT
BEGIN:VEVENT
DTSTART;TZID=America/Managua:20250708T090000
DTEND;TZID=America/Managua:20250708T120000
DTSTAMP:20260423T002938
CREATED:20250707T165446Z
LAST-MODIFIED:20250707T165446Z
UID:24615-1751965200-1751976000@www.una.edu.ni
SUMMARY:Torneo de ajedrez y dominó con estudiantes del Programa Especial de Educación Superior para presos
DESCRIPTION:
URL:https://www.una.edu.ni/event/torneo-de-ajedrez-y-domino-con-estudiantes-del-programa-especial-de-educacion-superior-para-presos/
LOCATION:Sistema Penitenciario de Granada\, Nicaragua
CATEGORIES:OTROS
END:VEVENT
BEGIN:VEVENT
DTSTART;TZID=America/Managua:20250708T130000
DTEND;TZID=America/Managua:20250708T170000
DTSTAMP:20260423T002938
CREATED:20250707T142811Z
LAST-MODIFIED:20250707T142811Z
UID:24547-1751979600-1751994000@www.una.edu.ni
SUMMARY:Desarrollo de curso sobre Cultivo y producción de plátano
DESCRIPTION:
URL:https://www.una.edu.ni/event/desarrollo-de-curso-sobre-cultivo-y-produccion-de-platano/
LOCATION:Comunidad Los Sábalos\, Managua\, Nicaragua
CATEGORIES:CURSO
END:VEVENT
BEGIN:VEVENT
DTSTART;TZID=America/Managua:20250709T080000
DTEND;TZID=America/Managua:20250709T120000
DTSTAMP:20260423T002938
CREATED:20250707T163756Z
LAST-MODIFIED:20250707T163756Z
UID:24588-1752048000-1752062400@www.una.edu.ni
SUMMARY:Taller sobre Fertilización del cultivo de maíz
DESCRIPTION:
URL:https://www.una.edu.ni/event/taller-sobre-fertilizacion-del-cultivo-de-maiz/
LOCATION:Universidad Nacional Agraria\, Managua\, km 12 1/2\, Managua\, Nicaragua
CATEGORIES:TALLER
END:VEVENT
BEGIN:VEVENT
DTSTART;TZID=America/Managua:20250709T080000
DTEND;TZID=America/Managua:20250709T120000
DTSTAMP:20260423T002938
CREATED:20250707T164025Z
LAST-MODIFIED:20250707T164025Z
UID:24592-1752048000-1752062400@www.una.edu.ni
SUMMARY:Taller sobre Establecimiento de cultivos tropicales
DESCRIPTION:
URL:https://www.una.edu.ni/event/taller-sobre-establecimiento-de-cultivos-tropicales/
LOCATION:Finca Experimental El Plantel\, Nicaragua
CATEGORIES:TALLER
END:VEVENT
BEGIN:VEVENT
DTSTART;TZID=America/Managua:20250709T080000
DTEND;TZID=America/Managua:20250709T120000
DTSTAMP:20260423T002938
CREATED:20250707T164127Z
LAST-MODIFIED:20250707T164127Z
UID:24594-1752048000-1752062400@www.una.edu.ni
SUMMARY:Taller sobre Nutrición alternativa para gallinas ponedoras y pollos de engorde
DESCRIPTION:
URL:https://www.una.edu.ni/event/taller-sobre-nutricion-alternativa-para-gallinas-ponedoras-y-pollos-de-engorde/
LOCATION:Universidad Nacional Agraria\, Managua\, km 12 1/2\, Managua\, Nicaragua
CATEGORIES:TALLER
END:VEVENT
BEGIN:VEVENT
DTSTART;TZID=America/Managua:20250709T090000
DTEND;TZID=America/Managua:20250709T120000
DTSTAMP:20260423T002938
CREATED:20250707T143137Z
LAST-MODIFIED:20250707T143137Z
UID:24554-1752051600-1752062400@www.una.edu.ni
SUMMARY:Intercambio científico de docentes de medicina veterinaria y zootecnia sobre nutrición y manejo reproductivo de alta genética porcina
DESCRIPTION:
URL:https://www.una.edu.ni/event/intercambio-cientifico-de-docentes-de-medicina-veterinaria-y-zootecnia-sobre-nutricion-y-manejo-reproductivo-de-alta-genetica-porcina/
LOCATION:Programa Porcino “Cocibolca”\, Nicaragua
CATEGORIES:OTROS
END:VEVENT
BEGIN:VEVENT
DTSTART;TZID=America/Managua:20250709T090000
DTEND;TZID=America/Managua:20250709T120000
DTSTAMP:20260423T002938
CREATED:20250707T162840Z
LAST-MODIFIED:20250707T162840Z
UID:24573-1752051600-1752062400@www.una.edu.ni
SUMMARY:Entrega de Certificados a protagonistas del Curso producción orgánica de hortalizas y frutales
DESCRIPTION:
URL:https://www.una.edu.ni/event/entrega-de-certificados-a-protagonistas-del-curso-produccion-organica-de-hortalizas-y-frutales/
LOCATION:Universidad Nacional Agraria\, Managua\, km 12 1/2\, Managua\, Nicaragua
CATEGORIES:OTROS
END:VEVENT
BEGIN:VEVENT
DTSTART;TZID=America/Managua:20250709T100000
DTEND;TZID=America/Managua:20250709T120000
DTSTAMP:20260423T002938
CREATED:20250707T164254Z
LAST-MODIFIED:20250707T164254Z
UID:24596-1752055200-1752062400@www.una.edu.ni
SUMMARY:Taller sobre Cosecha de agua como alternativa para mejorar la producción
DESCRIPTION:
URL:https://www.una.edu.ni/event/taller-sobre-cosecha-de-agua-como-alternativa-para-mejorar-la-produccion/
LOCATION:UNICAM Morrito\, Nicaragua
CATEGORIES:TALLER
END:VEVENT
BEGIN:VEVENT
DTSTART;TZID=America/Managua:20250709T113000
DTEND;TZID=America/Managua:20250709T160000
DTSTAMP:20260423T002938
CREATED:20250707T165015Z
LAST-MODIFIED:20250707T165015Z
UID:24608-1752060600-1752076800@www.una.edu.ni
SUMMARY:Jornada de reforestación
DESCRIPTION:
URL:https://www.una.edu.ni/event/jornada-de-reforestacion/
LOCATION:UNICAM Morrito\, Nicaragua
CATEGORIES:JORNADA
END:VEVENT
BEGIN:VEVENT
DTSTART;TZID=America/Managua:20250709T140000
DTEND;TZID=America/Managua:20250709T170000
DTSTAMP:20260423T002938
CREATED:20250707T142915Z
LAST-MODIFIED:20250707T142915Z
UID:24549-1752069600-1752080400@www.una.edu.ni
SUMMARY:Inicio del Curso sobre Manejo sanitario en ganado bovino
DESCRIPTION:
URL:https://www.una.edu.ni/event/inicio-del-curso-sobre-manejo-sanitario-en-ganado-bovino/
LOCATION:Finca Las Mercedes\, Nicaragua
CATEGORIES:CURSO
END:VEVENT
BEGIN:VEVENT
DTSTART;TZID=America/Managua:20250710T090000
DTEND;TZID=America/Managua:20250710T120000
DTSTAMP:20260423T002938
CREATED:20250707T164809Z
LAST-MODIFIED:20250707T164809Z
UID:24602-1752138000-1752148800@www.una.edu.ni
SUMMARY:Festival de Transformación de cerdo “Julio victorioso”
DESCRIPTION:
URL:https://www.una.edu.ni/event/festival-de-transformacion-de-cerdo-julio-victorioso/
LOCATION:Parque municipal de Tola\, Nicaragua
CATEGORIES:FESTIVAL
END:VEVENT
BEGIN:VEVENT
DTSTART;TZID=America/Managua:20250710T100000
DTEND;TZID=America/Managua:20250710T120000
DTSTAMP:20260423T002938
CREATED:20250707T162722Z
LAST-MODIFIED:20250707T162722Z
UID:24571-1752141600-1752148800@www.una.edu.ni
SUMMARY:Entrega de Certificados a productores protagonistas de diplomado en producción de cultivos no tradicionales
DESCRIPTION:
URL:https://www.una.edu.ni/event/entrega-de-certificados-a-productores-protagonistas-de-diplomado-en-produccion-de-cultivos-no-tradicionales/
LOCATION:Finca Experimental El Plantel\, Nicaragua
CATEGORIES:OTROS
END:VEVENT
BEGIN:VEVENT
DTSTART;TZID=America/Managua:20250710T110000
DTEND;TZID=America/Managua:20250710T140000
DTSTAMP:20260423T002938
CREATED:20250707T163330Z
LAST-MODIFIED:20250707T163330Z
UID:24581-1752145200-1752156000@www.una.edu.ni
SUMMARY:Sesión No. 23 del Diplomado en Tecnologías agropecuarias\, con el tema “Manejo y bienestar de lechones”
DESCRIPTION:
URL:https://www.una.edu.ni/event/sesion-no-23-del-diplomado-en-tecnologias-agropecuarias-con-el-tema-manejo-y-bienestar-de-lechones/
LOCATION:Plataforma UALN\, Nicaragua
CATEGORIES:DIPLOMADO
END:VEVENT
BEGIN:VEVENT
DTSTART;TZID=America/Managua:20250710T130000
DTEND;TZID=America/Managua:20250710T170000
DTSTAMP:20260423T002938
CREATED:20250707T163222Z
LAST-MODIFIED:20250707T163222Z
UID:24579-1752152400-1752166800@www.una.edu.ni
SUMMARY:Curso sobre transformación y valor agregado de productos agropecuarios
DESCRIPTION:
URL:https://www.una.edu.ni/event/curso-sobre-transformacion-y-valor-agregado-de-productos-agropecuarios/
LOCATION:UNICAM Muelle de los Bueyes\, Nicaragua
CATEGORIES:CURSO
END:VEVENT
BEGIN:VEVENT
DTSTART;TZID=America/Managua:20250711T090000
DTEND;TZID=America/Managua:20250711T120000
DTSTAMP:20260423T002938
CREATED:20250707T164352Z
LAST-MODIFIED:20250707T164352Z
UID:24598-1752224400-1752235200@www.una.edu.ni
SUMMARY:Taller sobre Manejo zootécnico en porcinos
DESCRIPTION:
URL:https://www.una.edu.ni/event/taller-sobre-manejo-zootecnico-en-porcinos/
LOCATION:UNICAM Esquipulas\, Nicaragua
CATEGORIES:TALLER
END:VEVENT
BEGIN:VEVENT
DTSTART;TZID=America/Managua:20250711T140000
DTEND;TZID=America/Managua:20250711T170000
DTSTAMP:20260423T002938
CREATED:20250707T162147Z
LAST-MODIFIED:20250707T162147Z
UID:24564-1752242400-1752253200@www.una.edu.ni
SUMMARY:Inauguración de granja didáctica de producción avícola
DESCRIPTION:
URL:https://www.una.edu.ni/event/inauguracion-de-granja-didactica-de-produccion-avicola/
LOCATION:Universidad Nacional Agraria\, Managua\, km 12 1/2\, Managua\, Nicaragua
CATEGORIES:INAUGURACIÓN
END:VEVENT
BEGIN:VEVENT
DTSTART;TZID=Europe/Madrid:20250711T140000
DTEND;TZID=Europe/Madrid:20250711T170000
DTSTAMP:20260423T002938
CREATED:20250707T162502Z
LAST-MODIFIED:20250707T162502Z
UID:24566-1752242400-1752253200@www.una.edu.ni
SUMMARY:Lanzamiento del Doctorado en cultivos agrícolas
DESCRIPTION:
URL:https://www.una.edu.ni/event/lanzamiento-del-doctorado-en-cultivos-agricolas/
LOCATION:Universidad Nacional Agraria\, Managua\, km 12 1/2\, Managua\, Nicaragua
CATEGORIES:LANZAMIENTO
END:VEVENT
BEGIN:VEVENT
DTSTART;TZID=America/Managua:20250711T140000
DTEND;TZID=America/Managua:20250711T170000
DTSTAMP:20260423T002938
CREATED:20250707T162952Z
LAST-MODIFIED:20250707T162952Z
UID:24575-1752242400-1752253200@www.una.edu.ni
SUMMARY:Inicio del Curso especializado en Camaronicultura
DESCRIPTION:
URL:https://www.una.edu.ni/event/inicio-del-curso-especializado-en-camaronicultura/
LOCATION:Centro Universitario “Héroes de Chinandega”\, Nicaragua
CATEGORIES:CURSO
END:VEVENT
BEGIN:VEVENT
DTSTART;TZID=America/Managua:20250711T140000
DTEND;TZID=America/Managua:20250711T170000
DTSTAMP:20260423T002938
CREATED:20250707T163115Z
LAST-MODIFIED:20250707T163115Z
UID:24577-1752242400-1752253200@www.una.edu.ni
SUMMARY:Inicio del Curso especializado en Calidad de Agua
DESCRIPTION:
URL:https://www.una.edu.ni/event/inicio-del-curso-especializado-en-calidad-de-agua/
LOCATION:Centro Universitario “Héroes de Chinandega”\, Nicaragua
CATEGORIES:CURSO
END:VEVENT
BEGIN:VEVENT
DTSTART;TZID=America/Managua:20250712T080000
DTEND;TZID=America/Managua:20250712T120000
DTSTAMP:20260423T002938
CREATED:20250707T164910Z
LAST-MODIFIED:20250707T164910Z
UID:24605-1752307200-1752321600@www.una.edu.ni
SUMMARY:Jornada ambientalista “Verde\, que te quiero Verde”
DESCRIPTION:
URL:https://www.una.edu.ni/event/jornada-ambientalista-verde-que-te-quiero-verde/
LOCATION:San José de los Remates\, Boaco\, Nicaragua
CATEGORIES:JORNADA
END:VEVENT
BEGIN:VEVENT
DTSTART;TZID=America/Managua:20250712T090000
DTEND;TZID=America/Managua:20250712T120000
DTSTAMP:20260423T002938
CREATED:20250707T163508Z
LAST-MODIFIED:20250707T163508Z
UID:24583-1752310800-1752321600@www.una.edu.ni
SUMMARY:Diplomado manejo de colmena y producción apícola
DESCRIPTION:
URL:https://www.una.edu.ni/event/diplomado-manejo-de-colmena-y-produccion-apicola/
LOCATION:UNICAM Mulukukú\, Nicaragua
CATEGORIES:DIPLOMADO
END:VEVENT
BEGIN:VEVENT
DTSTART;TZID=America/Managua:20250712T090000
DTEND;TZID=America/Managua:20250712T120000
DTSTAMP:20260423T002938
CREATED:20250707T165229Z
LAST-MODIFIED:20250707T165229Z
UID:24613-1752310800-1752321600@www.una.edu.ni
SUMMARY:Jornada de reforestación
DESCRIPTION:
URL:https://www.una.edu.ni/event/jornada-de-reforestacion-3/
LOCATION:UNICAM San Pedro de Lóvago\, Nicaragua
CATEGORIES:JORNADA
END:VEVENT
BEGIN:VEVENT
DTSTART;TZID=America/Managua:20250712T100000
DTEND;TZID=America/Managua:20250712T120000
DTSTAMP:20260423T002938
CREATED:20250707T162618Z
LAST-MODIFIED:20250707T162618Z
UID:24568-1752314400-1752321600@www.una.edu.ni
SUMMARY:Graduación de productores protagonistas del Diplomado en Tecnologías para mejora la producción y productividad agropecuaria
DESCRIPTION:
URL:https://www.una.edu.ni/event/graduacion-de-productores-protagonistas-del-diplomado-en-tecnologias-para-mejora-la-produccion-y-productividad-agropecuaria/
LOCATION:Municipio de Granada\, Nicaragua
CATEGORIES:OTROS
END:VEVENT
BEGIN:VEVENT
DTSTART;TZID=America/Managua:20250712T100000
DTEND;TZID=America/Managua:20250712T120000
DTSTAMP:20260423T002938
CREATED:20250707T163621Z
LAST-MODIFIED:20250707T163621Z
UID:24586-1752314400-1752321600@www.una.edu.ni
SUMMARY:Foro Tecnológico sobre tratamiento de enfermedades en ganado mayor y menor
DESCRIPTION:
URL:https://www.una.edu.ni/event/foro-tecnologico-sobre-tratamiento-de-enfermedades-en-ganado-mayor-y-menor/
LOCATION:UNICAM El Rama\, Nicaragua
CATEGORIES:FORO
END:VEVENT
BEGIN:VEVENT
DTSTART;TZID=America/Managua:20250712T100000
DTEND;TZID=America/Managua:20250712T120000
DTSTAMP:20260423T002938
CREATED:20250707T164504Z
LAST-MODIFIED:20250707T164504Z
UID:24600-1752314400-1752321600@www.una.edu.ni
SUMMARY:Taller sobre Manejo zootécnico en porcinos
DESCRIPTION:
URL:https://www.una.edu.ni/event/taller-sobre-manejo-zootecnico-en-porcinos-2/
LOCATION:UNICAM Mulukukú\, Nicaragua
CATEGORIES:TALLER
END:VEVENT
BEGIN:VEVENT
DTSTART;TZID=America/Managua:20250712T100000
DTEND;TZID=America/Managua:20250712T130000
DTSTAMP:20260423T002938
CREATED:20250707T170513Z
LAST-MODIFIED:20250707T170513Z
UID:24617-1752314400-1752325200@www.una.edu.ni
SUMMARY:Concurso Literario “Un pensamiento a los héroes y mártires de la revolución”
DESCRIPTION:
URL:https://www.una.edu.ni/event/concurso-literario-un-pensamiento-a-los-heroes-y-martires-de-la-revolucion/
LOCATION:UNICAM San Pedro de Lóvago\, Nicaragua
CATEGORIES:OTROS
END:VEVENT
BEGIN:VEVENT
DTSTART;TZID=America/Managua:20250712T113000
DTEND;TZID=America/Managua:20250712T160000
DTSTAMP:20260423T002938
CREATED:20250707T165107Z
LAST-MODIFIED:20250707T165107Z
UID:24610-1752319800-1752336000@www.una.edu.ni
SUMMARY:Jornada de reforestación
DESCRIPTION:
URL:https://www.una.edu.ni/event/jornada-de-reforestacion-2/
LOCATION:UNICAM Jinotega\, Nicaragua
CATEGORIES:JORNADA
END:VEVENT
END:VCALENDAR