BEGIN:VCALENDAR
VERSION:2.0
PRODID:-//Universidad Nacional Agraria - ECPv6.15.20//NONSGML v1.0//EN
CALSCALE:GREGORIAN
METHOD:PUBLISH
X-WR-CALNAME:Universidad Nacional Agraria
X-ORIGINAL-URL:https://www.una.edu.ni
X-WR-CALDESC:Eventos para Universidad Nacional Agraria
REFRESH-INTERVAL;VALUE=DURATION:PT1H
X-Robots-Tag:noindex
X-PUBLISHED-TTL:PT1H
BEGIN:VTIMEZONE
TZID:Europe/Madrid
BEGIN:DAYLIGHT
TZOFFSETFROM:+0100
TZOFFSETTO:+0200
TZNAME:CEST
DTSTART:20240331T010000
END:DAYLIGHT
BEGIN:STANDARD
TZOFFSETFROM:+0200
TZOFFSETTO:+0100
TZNAME:CET
DTSTART:20241027T010000
END:STANDARD
BEGIN:DAYLIGHT
TZOFFSETFROM:+0100
TZOFFSETTO:+0200
TZNAME:CEST
DTSTART:20250330T010000
END:DAYLIGHT
BEGIN:STANDARD
TZOFFSETFROM:+0200
TZOFFSETTO:+0100
TZNAME:CET
DTSTART:20251026T010000
END:STANDARD
BEGIN:DAYLIGHT
TZOFFSETFROM:+0100
TZOFFSETTO:+0200
TZNAME:CEST
DTSTART:20260329T010000
END:DAYLIGHT
BEGIN:STANDARD
TZOFFSETFROM:+0200
TZOFFSETTO:+0100
TZNAME:CET
DTSTART:20261025T010000
END:STANDARD
END:VTIMEZONE
BEGIN:VTIMEZONE
TZID:America/Managua
BEGIN:STANDARD
TZOFFSETFROM:-0600
TZOFFSETTO:-0600
TZNAME:CST
DTSTART:20240101T000000
END:STANDARD
END:VTIMEZONE
BEGIN:VEVENT
DTSTART;TZID=Europe/Madrid:20250803T100000
DTEND;TZID=Europe/Madrid:20250803T140000
DTSTAMP:20260422T204105
CREATED:20250728T192750Z
LAST-MODIFIED:20250728T192750Z
UID:25238-1754215200-1754229600@www.una.edu.ni
SUMMARY:Jornada ambiental para la conservación del suelo y la sostenibilidad productiva
DESCRIPTION:
URL:https://www.una.edu.ni/event/jornada-ambiental-para-la-conservacion-del-suelo-y-la-sostenibilidad-productiva-2/
LOCATION:UNICAM San Lorenzo\, Boaco\, Nicaragua
CATEGORIES:JORNADA
END:VEVENT
BEGIN:VEVENT
DTSTART;TZID=America/Managua:20250803T110000
DTEND;TZID=America/Managua:20250803T130000
DTSTAMP:20260422T204105
CREATED:20250728T175157Z
LAST-MODIFIED:20250728T175157Z
UID:25227-1754218800-1754226000@www.una.edu.ni
SUMMARY:Conferencia sobre Alternativas de producción del cultivo de arroz ante los efectos del cambio climático
DESCRIPTION:
URL:https://www.una.edu.ni/event/conferencia-sobre-alternativas-de-produccion-del-cultivo-de-arroz-ante-los-efectos-del-cambio-climatico/
LOCATION:UNICAM El Rama\, Nicaragua
CATEGORIES:CONFERENCIA
END:VEVENT
BEGIN:VEVENT
DTSTART;TZID=America/Managua:20250803T130000
DTEND;TZID=America/Managua:20250803T170000
DTSTAMP:20260422T204105
CREATED:20250728T193243Z
LAST-MODIFIED:20250728T193243Z
UID:25245-1754226000-1754240400@www.una.edu.ni
SUMMARY:Campeonato de Ajedrez con la participación de estudiantes del CUR Juigalpa
DESCRIPTION:
URL:https://www.una.edu.ni/event/campeonato-de-ajedrez-con-la-participacion-de-estudiantes-del-cur-juigalpa/
LOCATION:Centro Universitario Regional UNA Juigalpa\, Juigapa
CATEGORIES:OTROS
END:VEVENT
BEGIN:VEVENT
DTSTART;TZID=America/Managua:20250804T080000
DTEND;TZID=America/Managua:20250804T120000
DTSTAMP:20260422T204105
CREATED:20250804T162253Z
LAST-MODIFIED:20250804T162253Z
UID:25285-1754294400-1754308800@www.una.edu.ni
SUMMARY:Taller sobre Técnicas de reproducción en bovinos
DESCRIPTION:
URL:https://www.una.edu.ni/event/taller-sobre-tecnicas-de-reproduccion-en-bovinos/
LOCATION:UNICAM El Ayote\, Juigalpa\, Nicaragua
CATEGORIES:TALLER
END:VEVENT
BEGIN:VEVENT
DTSTART;TZID=America/Managua:20250804T083000
DTEND;TZID=America/Managua:20250804T120000
DTSTAMP:20260422T204105
CREATED:20250804T162138Z
LAST-MODIFIED:20250804T162138Z
UID:25283-1754296200-1754308800@www.una.edu.ni
SUMMARY:Taller sobre Control de plagas en pastos de forraje
DESCRIPTION:
URL:https://www.una.edu.ni/event/taller-sobre-control-de-plagas-en-pastos-de-forraje/
LOCATION:Universidad Nacional Agraria\, Managua\, km 12 1/2\, Managua\, Nicaragua
CATEGORIES:TALLER
END:VEVENT
BEGIN:VEVENT
DTSTART;TZID=America/Managua:20250804T090000
DTEND;TZID=America/Managua:20250804T120000
DTSTAMP:20260422T204105
CREATED:20250804T162517Z
LAST-MODIFIED:20250804T162517Z
UID:25287-1754298000-1754308800@www.una.edu.ni
SUMMARY:Conversatorio “18 años de victorias revolucionarias con la participación de la mujer”
DESCRIPTION:
URL:https://www.una.edu.ni/event/conversatorio-18-anos-de-victorias-revolucionarias-con-la-participacion-de-la-mujer/
LOCATION:Universidad Nacional Agraria\, Managua\, km 12 1/2\, Managua\, Nicaragua
CATEGORIES:CONVERSATORIO
END:VEVENT
BEGIN:VEVENT
DTSTART;TZID=America/Managua:20250805T080000
DTEND;TZID=America/Managua:20250805T120000
DTSTAMP:20260422T204105
CREATED:20250804T163147Z
LAST-MODIFIED:20250804T163147Z
UID:25296-1754380800-1754395200@www.una.edu.ni
SUMMARY:Intercambio de experiencia con productores sobre mejoramiento de granos básicos
DESCRIPTION:
URL:https://www.una.edu.ni/event/intercambio-de-experiencia-con-productores-sobre-mejoramiento-de-granos-basicos/
LOCATION:Centro Regional “Don Orlando”\, Niquinohomo\, Nicaragua
CATEGORIES:OTROS
END:VEVENT
BEGIN:VEVENT
DTSTART;TZID=America/Managua:20250805T080000
DTEND;TZID=America/Managua:20250805T120000
DTSTAMP:20260422T204105
CREATED:20250804T163252Z
LAST-MODIFIED:20250804T163252Z
UID:25298-1754380800-1754395200@www.una.edu.ni
SUMMARY:Capacitación a productores sobre cultivo de hortalizas en condiciones de agricultura protegida
DESCRIPTION:
URL:https://www.una.edu.ni/event/capacitacion-a-productores-sobre-cultivo-de-hortalizas-en-condiciones-de-agricultura-protegida/
LOCATION:Centro Regional “Don Orlando”\, Niquinohomo\, Nicaragua
CATEGORIES:CAPACITACION
END:VEVENT
BEGIN:VEVENT
DTSTART;TZID=America/Managua:20250805T090000
DTEND;TZID=America/Managua:20250805T120000
DTSTAMP:20260422T204105
CREATED:20250804T163352Z
LAST-MODIFIED:20250804T163352Z
UID:25300-1754384400-1754395200@www.una.edu.ni
SUMMARY:Encuentro de jóvenes emprendedores
DESCRIPTION:
URL:https://www.una.edu.ni/event/encuentro-de-jovenes-emprendedores/
LOCATION:Universidad La Sandino\, Nicaragua
CATEGORIES:ENCUENTRO
END:VEVENT
BEGIN:VEVENT
DTSTART;TZID=America/Managua:20250805T090000
DTEND;TZID=America/Managua:20250805T120000
DTSTAMP:20260422T204105
CREATED:20250804T163908Z
LAST-MODIFIED:20250804T163908Z
UID:25308-1754384400-1754395200@www.una.edu.ni
SUMMARY:Feria de emprendimientos agropecuarios
DESCRIPTION:
URL:https://www.una.edu.ni/event/feria-de-emprendimientos-agropecuarios/
LOCATION:Universidad Nacional Agraria\, Managua\, km 12 1/2\, Managua\, Nicaragua
CATEGORIES:FERIA
END:VEVENT
BEGIN:VEVENT
DTSTART;TZID=America/Managua:20250805T093000
DTEND;TZID=America/Managua:20250805T120000
DTSTAMP:20260422T204105
CREATED:20250804T162751Z
LAST-MODIFIED:20250804T162751Z
UID:25289-1754386200-1754395200@www.una.edu.ni
SUMMARY:Lanzamiento de Diplomado “Manejo sostenible del Café”
DESCRIPTION:
URL:https://www.una.edu.ni/event/lanzamiento-de-diplomado-manejo-sostenible-del-cafe/
LOCATION:Centro Universitario “Camilo Torres Restrepo”\, Matagalpa\, Nicaragua
CATEGORIES:LANZAMIENTO
END:VEVENT
BEGIN:VEVENT
DTSTART;TZID=America/Managua:20250805T093000
DTEND;TZID=America/Managua:20250805T120000
DTSTAMP:20260422T204105
CREATED:20250804T163036Z
LAST-MODIFIED:20250804T163036Z
UID:25294-1754386200-1754395200@www.una.edu.ni
SUMMARY:Diplomado sobre establecimiento de huertos urbanos para el desarrollo local
DESCRIPTION:
URL:https://www.una.edu.ni/event/diplomado-sobre-establecimiento-de-huertos-urbanos-para-el-desarrollo-local/
LOCATION:Municipio de Tisma\, Masaya\, Nicaragua
CATEGORIES:DIPLOMADO
END:VEVENT
BEGIN:VEVENT
DTSTART;TZID=America/Managua:20250805T100000
DTEND;TZID=America/Managua:20250805T120000
DTSTAMP:20260422T204105
CREATED:20250804T163632Z
LAST-MODIFIED:20250804T163632Z
UID:25304-1754388000-1754395200@www.una.edu.ni
SUMMARY:Conferencia sobre Agroexportación en Nicaragua: desafíos y oportunidades
DESCRIPTION:
URL:https://www.una.edu.ni/event/conferencia-sobre-agroexportacion-en-nicaragua-desafios-y-oportunidades/
LOCATION:Universidad Nacional Agraria\, Managua\, km 12 1/2\, Managua\, Nicaragua
CATEGORIES:CONFERENCIA
END:VEVENT
BEGIN:VEVENT
DTSTART;TZID=America/Managua:20250805T100000
DTEND;TZID=America/Managua:20250805T120000
DTSTAMP:20260422T204105
CREATED:20250804T163813Z
LAST-MODIFIED:20250804T163813Z
UID:25306-1754388000-1754395200@www.una.edu.ni
SUMMARY:Webinar sobre Gestión y Educación Ambiental Agropecuaria
DESCRIPTION:
URL:https://www.una.edu.ni/event/webinar-sobre-gestion-y-educacion-ambiental-agropecuaria/
LOCATION:Universidad Nacional Agraria\, Managua\, km 12 1/2\, Managua\, Nicaragua
CATEGORIES:WEBINAR
END:VEVENT
BEGIN:VEVENT
DTSTART;TZID=America/Managua:20250805T100000
DTEND;TZID=America/Managua:20250805T140000
DTSTAMP:20260422T204105
CREATED:20250804T163501Z
LAST-MODIFIED:20250804T163501Z
UID:25302-1754388000-1754402400@www.una.edu.ni
SUMMARY:Encuentro de productores apícolas
DESCRIPTION:
URL:https://www.una.edu.ni/event/encuentro-de-productores-apicolas/
LOCATION:UNICAM Muelle de los Bueyes\, Nicaragua
CATEGORIES:ENCUENTRO
END:VEVENT
BEGIN:VEVENT
DTSTART;TZID=Europe/Madrid:20250806T080000
DTEND;TZID=Europe/Madrid:20250806T120000
DTSTAMP:20260422T204105
CREATED:20250804T164859Z
LAST-MODIFIED:20250804T164859Z
UID:25319-1754467200-1754481600@www.una.edu.ni
SUMMARY:Taller sobre Elaboración de suplementos nutricionales para bovinos\, porcinos y aves
DESCRIPTION:
URL:https://www.una.edu.ni/event/taller-sobre-elaboracion-de-suplementos-nutricionales-para-bovinos-porcinos-y-aves/
LOCATION:Centro Universitario Regional UNA Camoapa / UNA Juigalpa\, Nicaragua
CATEGORIES:TALLER
END:VEVENT
BEGIN:VEVENT
DTSTART;TZID=America/Managua:20250806T083000
DTEND;TZID=America/Managua:20250806T120000
DTSTAMP:20260422T204105
CREATED:20250804T162941Z
LAST-MODIFIED:20250804T162941Z
UID:25292-1754469000-1754481600@www.una.edu.ni
SUMMARY:Lanzamiento de Diplomado en Diagnóstico y control de plagas en cultivos
DESCRIPTION:
URL:https://www.una.edu.ni/event/lanzamiento-de-diplomado-en-diagnostico-y-control-de-plagas-en-cultivos/
LOCATION:Universidad Nacional Agraria\, Managua\, km 12 1/2\, Managua\, Nicaragua
CATEGORIES:LANZAMIENTO
END:VEVENT
BEGIN:VEVENT
DTSTART;TZID=America/Managua:20250806T090000
DTEND;TZID=America/Managua:20250806T120000
DTSTAMP:20260422T204105
CREATED:20250804T164549Z
LAST-MODIFIED:20250804T164549Z
UID:25315-1754470800-1754481600@www.una.edu.ni
SUMMARY:Encuentro con productores sobre mejoramiento genético de ovinos y caprinos
DESCRIPTION:
URL:https://www.una.edu.ni/event/encuentro-con-productores-sobre-mejoramiento-genetico-de-ovinos-y-caprinos/
LOCATION:Universidad Nacional Agraria\, Managua\, km 12 1/2\, Managua\, Nicaragua
CATEGORIES:ENCUENTRO
END:VEVENT
BEGIN:VEVENT
DTSTART;TZID=Europe/Madrid:20250806T090000
DTEND;TZID=Europe/Madrid:20250806T120000
DTSTAMP:20260422T204105
CREATED:20250805T181922Z
LAST-MODIFIED:20250805T181922Z
UID:25322-1754470800-1754481600@www.una.edu.ni
SUMMARY:Taller sobre Elaboración de quesos y derivados lácteos
DESCRIPTION:
URL:https://www.una.edu.ni/event/taller-sobre-elaboracion-de-quesos-y-derivados-lacteos/
LOCATION:Finca Experimental El Plantel\, Nicaragua
CATEGORIES:TALLER
END:VEVENT
BEGIN:VEVENT
DTSTART;TZID=America/Managua:20250806T090000
DTEND;TZID=America/Managua:20250806T120000
DTSTAMP:20260422T204105
CREATED:20250805T182219Z
LAST-MODIFIED:20250805T182219Z
UID:25326-1754470800-1754481600@www.una.edu.ni
SUMMARY:Exposición de arte popular “A la vanguardia agropecuaria”
DESCRIPTION:
URL:https://www.una.edu.ni/event/exposicion-de-arte-popular-a-la-vanguardia-agropecuaria/
LOCATION:Universidad Nacional Agraria\, Managua\, km 12 1/2\, Managua\, Nicaragua
CATEGORIES:OTROS
END:VEVENT
BEGIN:VEVENT
DTSTART;TZID=America/Managua:20250806T100000
DTEND;TZID=America/Managua:20250806T120000
DTSTAMP:20260422T204105
CREATED:20250804T164353Z
LAST-MODIFIED:20250804T164353Z
UID:25311-1754474400-1754481600@www.una.edu.ni
SUMMARY:Curso sobre análisis de muestras en ganado bovino y porcino
DESCRIPTION:
URL:https://www.una.edu.ni/event/curso-sobre-analisis-de-muestras-en-ganado-bovino-y-porcino/
LOCATION:UNICAM Muelle de los Bueyes\, Nicaragua
CATEGORIES:CURSO
END:VEVENT
BEGIN:VEVENT
DTSTART;TZID=America/Managua:20250806T100000
DTEND;TZID=America/Managua:20250806T120000
DTSTAMP:20260422T204105
CREATED:20250805T182042Z
LAST-MODIFIED:20250805T182042Z
UID:25324-1754474400-1754481600@www.una.edu.ni
SUMMARY:Taller sobre Diagnóstico de enfermedades en animales domésticos
DESCRIPTION:
URL:https://www.una.edu.ni/event/taller-sobre-diagnostico-de-enfermedades-en-animales-domesticos/
LOCATION:UNICAM Morrito\, Nicaragua
CATEGORIES:TALLER
END:VEVENT
BEGIN:VEVENT
DTSTART;TZID=America/Managua:20250806T100000
DTEND;TZID=America/Managua:20250806T140000
DTSTAMP:20260422T204105
CREATED:20250804T164647Z
LAST-MODIFIED:20250804T164647Z
UID:25317-1754474400-1754488800@www.una.edu.ni
SUMMARY:Conferencia sobre Registro de variedades mejoradas de semillas criollas
DESCRIPTION:
URL:https://www.una.edu.ni/event/conferencia-sobre-registro-de-variedades-mejoradas-de-semillas-criollas/
LOCATION:Universidad Nacional Agraria\, Managua\, km 12 1/2\, Managua\, Nicaragua
CATEGORIES:CONFERENCIA
END:VEVENT
BEGIN:VEVENT
DTSTART;TZID=America/Managua:20250806T140000
DTEND;TZID=America/Managua:20250806T170000
DTSTAMP:20260422T204105
CREATED:20250804T164457Z
LAST-MODIFIED:20250804T164457Z
UID:25313-1754488800-1754499600@www.una.edu.ni
SUMMARY:Curso especializado en Manejo de enfermedades parasitarias en ganado bovino
DESCRIPTION:
URL:https://www.una.edu.ni/event/curso-especializado-en-manejo-de-enfermedades-parasitarias-en-ganado-bovino/
LOCATION:Municipio de San Francisco Libre\, Nicaragua
CATEGORIES:CURSO
END:VEVENT
BEGIN:VEVENT
DTSTART;TZID=America/Managua:20250807T080000
DTEND;TZID=America/Managua:20250807T120000
DTSTAMP:20260422T204105
CREATED:20250806T164415Z
LAST-MODIFIED:20250806T164415Z
UID:25345-1754553600-1754568000@www.una.edu.ni
SUMMARY:Intercambio de experiencias con productores sobre polinización artificial
DESCRIPTION:
URL:https://www.una.edu.ni/event/intercambio-de-experiencias-con-productores-sobre-polinizacion-artificial/
LOCATION:Centro Universitario “Don Orlando”\, Niquinohomo\, Nicaragua
CATEGORIES:OTROS
END:VEVENT
BEGIN:VEVENT
DTSTART;TZID=America/Managua:20250807T090000
DTEND;TZID=America/Managua:20250807T120000
DTSTAMP:20260422T204105
CREATED:20250805T182844Z
LAST-MODIFIED:20250805T182844Z
UID:25334-1754557200-1754568000@www.una.edu.ni
SUMMARY:Curso sobre Diagnóstico y tratamiento de plagas en cultivos
DESCRIPTION:
URL:https://www.una.edu.ni/event/curso-sobre-diagnostico-y-tratamiento-de-plagas-en-cultivos/
LOCATION:Universidad Nacional Agraria\, Managua\, km 12 1/2\, Managua\, Nicaragua
CATEGORIES:CURSO
END:VEVENT
BEGIN:VEVENT
DTSTART;TZID=America/Managua:20250807T090000
DTEND;TZID=America/Managua:20250807T120000
DTSTAMP:20260422T204105
CREATED:20250806T164309Z
LAST-MODIFIED:20250806T164309Z
UID:25343-1754557200-1754568000@www.una.edu.ni
SUMMARY:Jornada de aprendizaje con productores sobre elaboración de productos cosmeticos a base de marango
DESCRIPTION:
URL:https://www.una.edu.ni/event/jornada-de-aprendizaje-con-productores-sobre-elaboracion-de-productos-cosmeticos-a-base-de-marango/
LOCATION:Centro de Desarrollo Moringa Comandante Fidel\, municipio de León\, Nicaragua
CATEGORIES:JORNADA
END:VEVENT
BEGIN:VEVENT
DTSTART;TZID=America/Managua:20250807T090000
DTEND;TZID=America/Managua:20250807T120000
DTSTAMP:20260422T204105
CREATED:20250806T164509Z
LAST-MODIFIED:20250806T164509Z
UID:25347-1754557200-1754568000@www.una.edu.ni
SUMMARY:Encuentro pedagógico docente “Sembrando saberes\, cosechando victorias”
DESCRIPTION:
URL:https://www.una.edu.ni/event/encuentro-pedagogico-docente-sembrando-saberes-cosechando-victorias/
LOCATION:Universidad Nacional Agraria\, Managua\, km 12 1/2\, Managua\, Nicaragua
CATEGORIES:ENCUENTRO
END:VEVENT
BEGIN:VEVENT
DTSTART;TZID=America/Managua:20250807T100000
DTEND;TZID=America/Managua:20250807T120000
DTSTAMP:20260422T204105
CREATED:20250805T182412Z
LAST-MODIFIED:20250805T182412Z
UID:25328-1754560800-1754568000@www.una.edu.ni
SUMMARY:Inauguración de la Sala de Sistemas de Información Geográfica “Julio Buitrago Urroz”
DESCRIPTION:
URL:https://www.una.edu.ni/event/inauguracion-de-la-sala-de-sistemas-de-informacion-geografica-julio-buitrago-urroz/
LOCATION:Universidad Nacional Agraria\, Managua\, km 12 1/2\, Managua\, Nicaragua
CATEGORIES:INAUGURACIÓN
END:VEVENT
BEGIN:VEVENT
DTSTART;TZID=America/Managua:20250807T100000
DTEND;TZID=America/Managua:20250807T120000
DTSTAMP:20260422T204105
CREATED:20250805T182535Z
LAST-MODIFIED:20250805T182535Z
UID:25330-1754560800-1754568000@www.una.edu.ni
SUMMARY:Presentación de oferta académica de carreras\, maestrías y doctorados que se impartirán desde el Centro de Matagalpa
DESCRIPTION:
URL:https://www.una.edu.ni/event/presentacion-de-oferta-academica-de-carreras-maestrias-y-doctorados-que-se-impartiran-desde-el-centro-de-matagalpa/
LOCATION:Centro Universitario “Camilo Torres Restrepo”\, Matagalpa\, Nicaragua
CATEGORIES:PRESENTACIÓN
END:VEVENT
END:VCALENDAR