BEGIN:VCALENDAR
VERSION:2.0
PRODID:-//Universidad Nacional Agraria - ECPv6.15.20//NONSGML v1.0//EN
CALSCALE:GREGORIAN
METHOD:PUBLISH
X-WR-CALNAME:Universidad Nacional Agraria
X-ORIGINAL-URL:https://www.una.edu.ni
X-WR-CALDESC:Eventos para Universidad Nacional Agraria
REFRESH-INTERVAL;VALUE=DURATION:PT1H
X-Robots-Tag:noindex
X-PUBLISHED-TTL:PT1H
BEGIN:VTIMEZONE
TZID:America/Managua
BEGIN:STANDARD
TZOFFSETFROM:-0600
TZOFFSETTO:-0600
TZNAME:CST
DTSTART:20240101T000000
END:STANDARD
END:VTIMEZONE
BEGIN:VTIMEZONE
TZID:Europe/Madrid
BEGIN:DAYLIGHT
TZOFFSETFROM:+0100
TZOFFSETTO:+0200
TZNAME:CEST
DTSTART:20240331T010000
END:DAYLIGHT
BEGIN:STANDARD
TZOFFSETFROM:+0200
TZOFFSETTO:+0100
TZNAME:CET
DTSTART:20241027T010000
END:STANDARD
BEGIN:DAYLIGHT
TZOFFSETFROM:+0100
TZOFFSETTO:+0200
TZNAME:CEST
DTSTART:20250330T010000
END:DAYLIGHT
BEGIN:STANDARD
TZOFFSETFROM:+0200
TZOFFSETTO:+0100
TZNAME:CET
DTSTART:20251026T010000
END:STANDARD
BEGIN:DAYLIGHT
TZOFFSETFROM:+0100
TZOFFSETTO:+0200
TZNAME:CEST
DTSTART:20260329T010000
END:DAYLIGHT
BEGIN:STANDARD
TZOFFSETFROM:+0200
TZOFFSETTO:+0100
TZNAME:CET
DTSTART:20261025T010000
END:STANDARD
END:VTIMEZONE
BEGIN:VEVENT
DTSTART;TZID=America/Managua:20250808T080000
DTEND;TZID=America/Managua:20250808T120000
DTSTAMP:20260422T233110
CREATED:20250806T164153Z
LAST-MODIFIED:20250806T164153Z
UID:25341-1754640000-1754654400@www.una.edu.ni
SUMMARY:Diplomado sobre Agro transformación de productos agropecuarios
DESCRIPTION:
URL:https://www.una.edu.ni/event/diplomado-sobre-agro-transformacion-de-productos-agropecuarios/
LOCATION:UNICAM San Lorenzo\, Boaco\, Nicaragua
CATEGORIES:DIPLOMADO
END:VEVENT
BEGIN:VEVENT
DTSTART;TZID=America/Managua:20250808T090000
DTEND;TZID=America/Managua:20250808T120000
DTSTAMP:20260422T233110
CREATED:20250806T165923Z
LAST-MODIFIED:20250806T165923Z
UID:25353-1754643600-1754654400@www.una.edu.ni
SUMMARY:Taller sobre Montaje de arreglos de orquídeas
DESCRIPTION:
URL:https://www.una.edu.ni/event/taller-sobre-montaje-de-arreglos-de-orquideas/
LOCATION:Universidad La Sandino\, Nicaragua
CATEGORIES:TALLER
END:VEVENT
BEGIN:VEVENT
DTSTART;TZID=America/Managua:20250808T100000
DTEND;TZID=America/Managua:20250808T120000
DTSTAMP:20260422T233110
CREATED:20250806T164041Z
LAST-MODIFIED:20250806T164041Z
UID:25339-1754647200-1754654400@www.una.edu.ni
SUMMARY:Entrega de Certificados a protagonistas del Curso de Gestión Aduanera y Trámites de Exportación
DESCRIPTION:
URL:https://www.una.edu.ni/event/entrega-de-certificados-a-protagonistas-del-curso-de-gestion-aduanera-y-tramites-de-exportacion/
LOCATION:Centro Universitario “Camilo Torres Restrepo”\, Matagalpa\, Nicaragua
CATEGORIES:OTROS
END:VEVENT
BEGIN:VEVENT
DTSTART;TZID=America/Managua:20250808T130000
DTEND;TZID=America/Managua:20250808T170000
DTSTAMP:20260422T233110
CREATED:20250806T165457Z
LAST-MODIFIED:20250806T165457Z
UID:25351-1754658000-1754672400@www.una.edu.ni
SUMMARY:Taller sobre Diagnóstico de enfermedades en animales domésticos
DESCRIPTION:
URL:https://www.una.edu.ni/event/taller-sobre-diagnostico-de-enfermedades-en-animales-domesticos-3/
LOCATION:Centro Universitario Regional UNA Juigalpa\, Juigapa
CATEGORIES:TALLER
END:VEVENT
BEGIN:VEVENT
DTSTART;TZID=America/Managua:20250808T140000
DTEND;TZID=America/Managua:20250808T170000
DTSTAMP:20260422T233110
CREATED:20250806T170156Z
LAST-MODIFIED:20250806T170156Z
UID:25355-1754661600-1754672400@www.una.edu.ni
SUMMARY:Taller sobre Alternativas alimenticias para tilapia
DESCRIPTION:
URL:https://www.una.edu.ni/event/taller-sobre-alternativas-alimenticias-para-tilapia/
LOCATION:UNICAM El Ayote\, Juigalpa\, Nicaragua
CATEGORIES:TALLER
END:VEVENT
BEGIN:VEVENT
DTSTART;TZID=America/Managua:20250808T140000
DTEND;TZID=America/Managua:20250808T170000
DTSTAMP:20260422T233110
CREATED:20250806T170433Z
LAST-MODIFIED:20250806T170433Z
UID:25357-1754661600-1754672400@www.una.edu.ni
SUMMARY:Taller sobre Manejo de pastos y forrajes
DESCRIPTION:
URL:https://www.una.edu.ni/event/taller-sobre-manejo-de-pastos-y-forrajes/
LOCATION:UNICAM El Ayote\, Juigalpa\, Nicaragua
CATEGORIES:TALLER
END:VEVENT
BEGIN:VEVENT
DTSTART;TZID=America/Managua:20250808T140000
DTEND;TZID=America/Managua:20250808T170000
DTSTAMP:20260422T233110
CREATED:20250806T171146Z
LAST-MODIFIED:20250806T171146Z
UID:25365-1754661600-1754672400@www.una.edu.ni
SUMMARY:Jornada de atención veterinaria
DESCRIPTION:
URL:https://www.una.edu.ni/event/jornada-de-atencion-veterinaria/
LOCATION:UNICAM Morrito\, Nicaragua
CATEGORIES:JORNADA
END:VEVENT
BEGIN:VEVENT
DTSTART;TZID=America/Managua:20250809T080000
DTEND;TZID=America/Managua:20250809T120000
DTSTAMP:20260422T233110
CREATED:20250806T163900Z
LAST-MODIFIED:20250806T163900Z
UID:25336-1754726400-1754740800@www.una.edu.ni
SUMMARY:Bienvenida a clases del Segundo semestre a los estudiantes de sabatino de las 11 carreras que se imparten en la Universidad Nacional Agraria
DESCRIPTION:
URL:https://www.una.edu.ni/event/bienvenida-a-clases-del-segundo-semestre-a-los-estudiantes-de-sabatino-de-las-11-carreras-que-se-imparten-en-la-universidad-nacional-agraria/
LOCATION:UNA Managua\, Juigalpa\, Matagalpa\, Camoapa y Chinandega\, Nicaragua
CATEGORIES:OTROS
END:VEVENT
BEGIN:VEVENT
DTSTART;TZID=America/Managua:20250809T080000
DTEND;TZID=America/Managua:20250809T120000
DTSTAMP:20260422T233110
CREATED:20250806T171037Z
LAST-MODIFIED:20250806T171037Z
UID:25363-1754726400-1754740800@www.una.edu.ni
SUMMARY:Feria de emprendimientos agropecuarios
DESCRIPTION:
URL:https://www.una.edu.ni/event/feria-de-emprendimientos-agropecuarios-2/
LOCATION:UNICAM Matiguás\, Nicaragua
CATEGORIES:FERIA
END:VEVENT
BEGIN:VEVENT
DTSTART;TZID=Europe/Madrid:20250809T140000
DTEND;TZID=Europe/Madrid:20250809T170000
DTSTAMP:20260422T233110
CREATED:20250806T170621Z
LAST-MODIFIED:20250806T170621Z
UID:25359-1754748000-1754758800@www.una.edu.ni
SUMMARY:Taller sobre Manejo sanitario en granjas porcinas
DESCRIPTION:
URL:https://www.una.edu.ni/event/taller-sobre-manejo-sanitario-en-granjas-porcinas/
LOCATION:UNICAM El Ayote\, Juigalpa\, Nicaragua
CATEGORIES:TALLER
END:VEVENT
BEGIN:VEVENT
DTSTART;TZID=America/Managua:20250809T140000
DTEND;TZID=America/Managua:20250809T170000
DTSTAMP:20260422T233110
CREATED:20250806T171434Z
LAST-MODIFIED:20250806T171434Z
UID:25369-1754748000-1754758800@www.una.edu.ni
SUMMARY:Torneo relámpago de Kickinball
DESCRIPTION:
URL:https://www.una.edu.ni/event/torneo-relampago-de-kickinball/
LOCATION:UNICAM San Pedro de Lóvago\, Nicaragua
CATEGORIES:OTROS
END:VEVENT
BEGIN:VEVENT
DTSTART;TZID=America/Managua:20250810T080000
DTEND;TZID=America/Managua:20250810T120000
DTSTAMP:20260422T233110
CREATED:20250806T170727Z
LAST-MODIFIED:20250806T170727Z
UID:25361-1754812800-1754827200@www.una.edu.ni
SUMMARY:Taller sobre Diagnóstico reproductivo en bovinos
DESCRIPTION:
URL:https://www.una.edu.ni/event/taller-sobre-diagnostico-reproductivo-en-bovinos/
LOCATION:Centro Universitario Regional UNA Camoapa\, Camoapa
CATEGORIES:TALLER
END:VEVENT
BEGIN:VEVENT
DTSTART;TZID=America/Managua:20250810T080000
DTEND;TZID=America/Managua:20250810T120000
DTSTAMP:20260422T233110
CREATED:20250806T171331Z
LAST-MODIFIED:20250806T171331Z
UID:25367-1754812800-1754827200@www.una.edu.ni
SUMMARY:Establecimiento de vivero forestal de plantas medicinales
DESCRIPTION:
URL:https://www.una.edu.ni/event/establecimiento-de-vivero-forestal-de-plantas-medicinales/
LOCATION:UNICAM San Pedro de Lóvago\, Nicaragua
CATEGORIES:OTROS
END:VEVENT
BEGIN:VEVENT
DTSTART;TZID=America/Managua:20250811T090000
DTEND;TZID=America/Managua:20250811T120000
DTSTAMP:20260422T233110
CREATED:20250811T122257Z
LAST-MODIFIED:20250811T122257Z
UID:25380-1754902800-1754913600@www.una.edu.ni
SUMMARY:Acto de Bienvenida al Segundo Semestre de estudiantes de las diferentes carreras
DESCRIPTION:
URL:https://www.una.edu.ni/event/acto-de-bienvenida-al-segundo-semestre-de-estudiantes-de-las-diferentes-carreras/
LOCATION:Sede Central\, CUR UNA Juigalpa y Camoapa\, Nicaragua
CATEGORIES:OTROS
END:VEVENT
BEGIN:VEVENT
DTSTART;TZID=America/Managua:20250811T090000
DTEND;TZID=America/Managua:20250811T120000
DTSTAMP:20260422T233110
CREATED:20250811T122529Z
LAST-MODIFIED:20250811T122529Z
UID:25385-1754902800-1754913600@www.una.edu.ni
SUMMARY:Jornada de vacunación a mascotas “Juventud por la salud animal”
DESCRIPTION:
URL:https://www.una.edu.ni/event/jornada-de-vacunacion-a-mascotas-juventud-por-la-salud-animal/
LOCATION:UNICAM Muelle de los Bueyes\, Nicaragua
CATEGORIES:JORNADA
END:VEVENT
BEGIN:VEVENT
DTSTART;TZID=America/Managua:20250811T090000
DTEND;TZID=America/Managua:20250811T120000
DTSTAMP:20260422T233110
CREATED:20250811T133006Z
LAST-MODIFIED:20250811T133006Z
UID:25415-1754902800-1754913600@www.una.edu.ni
SUMMARY:Acto político cultural en conmemoración del natalicio de los Comandantes Fidel Castro Ruz y Tomás Borge Martínez
DESCRIPTION:
URL:https://www.una.edu.ni/event/acto-politico-cultural-en-conmemoracion-del-natalicio-de-los-comandantes-fidel-castro-ruz-y-tomas-borge-martinez-2/
LOCATION:Centro Universitario Regional UNA Juigalpa\, Juigapa
CATEGORIES:OTROS
END:VEVENT
BEGIN:VEVENT
DTSTART;TZID=America/Managua:20250811T100000
DTEND;TZID=America/Managua:20250811T120000
DTSTAMP:20260422T233110
CREATED:20250811T122349Z
LAST-MODIFIED:20250811T122349Z
UID:25383-1754906400-1754913600@www.una.edu.ni
SUMMARY:Presentación de variedad de maíz genéticamente mejorada
DESCRIPTION:
URL:https://www.una.edu.ni/event/presentacion-de-variedad-de-maiz-geneticamente-mejorada/
LOCATION:Universidad Nacional Agraria\, Managua\, km 12 1/2\, Managua\, Nicaragua
CATEGORIES:PRESENTACIÓN
END:VEVENT
BEGIN:VEVENT
DTSTART;TZID=America/Managua:20250812T080000
DTEND;TZID=America/Managua:20250812T120000
DTSTAMP:20260422T233110
CREATED:20250811T122652Z
LAST-MODIFIED:20250811T122652Z
UID:25387-1754985600-1755000000@www.una.edu.ni
SUMMARY:Entrega de Certificados a protagonistas del Curso “Calidad y atención en el sector turístico y medio ambiente”
DESCRIPTION:
URL:https://www.una.edu.ni/event/entrega-de-certificados-a-protagonistas-del-curso-calidad-y-atencion-en-el-sector-turistico-y-medio-ambiente/
LOCATION:Reserva Natural La Makina\, Nicaragua
CATEGORIES:OTROS
END:VEVENT
BEGIN:VEVENT
DTSTART;TZID=America/Managua:20250812T080000
DTEND;TZID=America/Managua:20250812T120000
DTSTAMP:20260422T233110
CREATED:20250811T122940Z
LAST-MODIFIED:20250811T122940Z
UID:25389-1754985600-1755000000@www.una.edu.ni
SUMMARY:Ofrenda Floral y Gala cultural en conmemoración al natalicio del Comandante Julio Buitrago
DESCRIPTION:
URL:https://www.una.edu.ni/event/ofrenda-floral-y-gala-cultural-en-conmemoracion-al-natalicio-del-comandante-julio-buitrago/
LOCATION:Universidad Nacional Agraria\, Managua\, km 12 1/2\, Managua\, Nicaragua
CATEGORIES:OTROS
END:VEVENT
BEGIN:VEVENT
DTSTART;TZID=Europe/Madrid:20250813T080000
DTEND;TZID=Europe/Madrid:20250813T120000
DTSTAMP:20260422T233110
CREATED:20250811T123141Z
LAST-MODIFIED:20250811T123141Z
UID:25391-1755072000-1755086400@www.una.edu.ni
SUMMARY:Inauguración de Plaza “Fidel y Tomás”\, con develación de monumento y Exposición de productos a base de moringa
DESCRIPTION:
URL:https://www.una.edu.ni/event/inauguracion-de-plaza-fidel-y-tomas-con-develacion-de-monumento-y-exposicion-de-productos-a-base-de-moringa/
LOCATION:Universidad Nacional Agraria\, Managua\, km 12 1/2\, Managua\, Nicaragua
CATEGORIES:INAUGURACIÓN
END:VEVENT
BEGIN:VEVENT
DTSTART;TZID=America/Managua:20250813T080000
DTEND;TZID=America/Managua:20250813T120000
DTSTAMP:20260422T233110
CREATED:20250811T123247Z
LAST-MODIFIED:20250811T123247Z
UID:25393-1755072000-1755086400@www.una.edu.ni
SUMMARY:Inauguración del Centro de Documentación y Lectura
DESCRIPTION:
URL:https://www.una.edu.ni/event/inauguracion-del-centro-de-documentacion-y-lectura/
LOCATION:Centro Universitario Regional UNA Camoapa\, Camoapa
CATEGORIES:INAUGURACIÓN
END:VEVENT
BEGIN:VEVENT
DTSTART;TZID=America/Managua:20250813T080000
DTEND;TZID=America/Managua:20250813T120000
DTSTAMP:20260422T233110
CREATED:20250811T125002Z
LAST-MODIFIED:20250811T125002Z
UID:25395-1755072000-1755086400@www.una.edu.ni
SUMMARY:Feria de investigaciones científicas de moringa y productos derivados
DESCRIPTION:
URL:https://www.una.edu.ni/event/feria-de-investigaciones-cientificas-de-moringa-y-productos-derivados/
LOCATION:Centro de Desarrollo Moringa Comandante Fidel\, municipio de León\, Nicaragua
CATEGORIES:FERIA
END:VEVENT
BEGIN:VEVENT
DTSTART;TZID=America/Managua:20250813T080000
DTEND;TZID=America/Managua:20250813T120000
DTSTAMP:20260422T233110
CREATED:20250811T125106Z
LAST-MODIFIED:20250811T125106Z
UID:25398-1755072000-1755086400@www.una.edu.ni
SUMMARY:Curso de producción de hortalizas en sistemas protegidos
DESCRIPTION:
URL:https://www.una.edu.ni/event/curso-de-produccion-de-hortalizas-en-sistemas-protegidos/
LOCATION:UNICAM Esquipulas\, Nicaragua
CATEGORIES:CURSO
END:VEVENT
BEGIN:VEVENT
DTSTART;TZID=America/Managua:20250813T080000
DTEND;TZID=America/Managua:20250813T120000
DTSTAMP:20260422T233110
CREATED:20250811T125215Z
LAST-MODIFIED:20250811T125215Z
UID:25400-1755072000-1755086400@www.una.edu.ni
SUMMARY:Curso sobre Manejo sanitario de enfermedades en ganado bovino
DESCRIPTION:
URL:https://www.una.edu.ni/event/curso-sobre-manejo-sanitario-de-enfermedades-en-ganado-bovino/
LOCATION:Municipio de San Francisco Libre\, Nicaragua
CATEGORIES:CURSO
END:VEVENT
BEGIN:VEVENT
DTSTART;TZID=America/Managua:20250813T090000
DTEND;TZID=America/Managua:20250813T120000
DTSTAMP:20260422T233110
CREATED:20250811T132857Z
LAST-MODIFIED:20250811T132857Z
UID:25413-1755075600-1755086400@www.una.edu.ni
SUMMARY:Acto político cultural en conmemoración del natalicio de los Comandantes Fidel Castro Ruz y Tomás Borge Martínez
DESCRIPTION:
URL:https://www.una.edu.ni/event/acto-politico-cultural-en-conmemoracion-del-natalicio-de-los-comandantes-fidel-castro-ruz-y-tomas-borge-martinez/
LOCATION:Centro de Desarrollo Moringa Comandante Fidel\, municipio de León\, Nicaragua
CATEGORIES:OTROS
END:VEVENT
BEGIN:VEVENT
DTSTART;TZID=America/Managua:20250813T100000
DTEND;TZID=America/Managua:20250813T120000
DTSTAMP:20260422T233110
CREATED:20250811T125808Z
LAST-MODIFIED:20250811T125808Z
UID:25404-1755079200-1755086400@www.una.edu.ni
SUMMARY:Ofrenda Floral\, guardia de honor y festival cultural revolucionario en conmemoración del natalicio de los Comandantes Fidel Castro Ruz y Tomás Borge Martínez
DESCRIPTION:
URL:https://www.una.edu.ni/event/ofrenda-floral-guardia-de-honor-y-festival-cultural-revolucionario-en-conmemoracion-del-natalicio-de-los-comandantes-fidel-castro-ruz-y-tomas-borge-martinez/
LOCATION:Universidad Nacional Agraria\, Managua\, km 12 1/2\, Managua\, Nicaragua
CATEGORIES:OTROS
END:VEVENT
BEGIN:VEVENT
DTSTART;TZID=America/Managua:20250813T110000
DTEND;TZID=America/Managua:20250813T150000
DTSTAMP:20260422T233110
CREATED:20250811T132414Z
LAST-MODIFIED:20250811T132414Z
UID:25408-1755082800-1755097200@www.una.edu.ni
SUMMARY:Exposición de escritos políticos literarios del comandante Tomás Borge
DESCRIPTION:
URL:https://www.una.edu.ni/event/exposicion-de-escritos-politicos-literarios-del-comandante-tomas-borge/
LOCATION:Universidad Nacional Agraria\, Managua\, km 12 1/2\, Managua\, Nicaragua
CATEGORIES:OTROS
END:VEVENT
BEGIN:VEVENT
DTSTART;TZID=America/Managua:20250813T110000
DTEND;TZID=America/Managua:20250813T160000
DTSTAMP:20260422T233110
CREATED:20250811T132150Z
LAST-MODIFIED:20250811T132150Z
UID:25406-1755082800-1755100800@www.una.edu.ni
SUMMARY:Exposición de productos a base de moringa\, Presentación de investigaciones y emprendimientos exitosos en conmemoración del natalicio de los Comandantes Fidel Castro Ruz y Tomás Borge Martínez
DESCRIPTION:
URL:https://www.una.edu.ni/event/exposicion-de-productos-a-base-de-moringa-presentacion-de-investigaciones-y-emprendimientos-exitosos-en-conmemoracion-del-natalicio-de-los-comandantes-fidel-castro-ruz-y-tomas-borge-martinez/
LOCATION:Universidad Nacional Agraria\, Managua\, km 12 1/2\, Managua\, Nicaragua
CATEGORIES:OTROS
END:VEVENT
BEGIN:VEVENT
DTSTART;TZID=America/Managua:20250813T130000
DTEND;TZID=America/Managua:20250813T170000
DTSTAMP:20260422T233110
CREATED:20250811T125331Z
LAST-MODIFIED:20250811T125331Z
UID:25402-1755090000-1755104400@www.una.edu.ni
SUMMARY:Taller sobre Establecimiento de bancos forrajeros
DESCRIPTION:
URL:https://www.una.edu.ni/event/taller-sobre-establecimiento-de-bancos-forrajeros/
LOCATION:UNICAM Muelle de los Bueyes\, Nicaragua
CATEGORIES:TALLER
END:VEVENT
BEGIN:VEVENT
DTSTART;TZID=America/Managua:20250813T160000
DTEND;TZID=America/Managua:20250813T190000
DTSTAMP:20260422T233110
CREATED:20250811T132701Z
LAST-MODIFIED:20250811T132701Z
UID:25411-1755100800-1755111600@www.una.edu.ni
SUMMARY:Torneo de futbol masculino en conmemoración del natalicio de los Comandantes Fidel Castro Ruz y Tomás Borge Martínez
DESCRIPTION:
URL:https://www.una.edu.ni/event/torneo-de-futbol-masculino-en-conmemoracion-del-natalicio-de-los-comandantes-fidel-castro-ruz-y-tomas-borge-martinez/
LOCATION:Universidad Nacional Agraria\, Managua\, km 12 1/2\, Managua\, Nicaragua
CATEGORIES:OTROS
END:VEVENT
END:VCALENDAR