BEGIN:VCALENDAR
VERSION:2.0
PRODID:-//Universidad Nacional Agraria - ECPv6.15.20//NONSGML v1.0//EN
CALSCALE:GREGORIAN
METHOD:PUBLISH
X-WR-CALNAME:Universidad Nacional Agraria
X-ORIGINAL-URL:https://www.una.edu.ni
X-WR-CALDESC:Eventos para Universidad Nacional Agraria
REFRESH-INTERVAL;VALUE=DURATION:PT1H
X-Robots-Tag:noindex
X-PUBLISHED-TTL:PT1H
BEGIN:VTIMEZONE
TZID:America/Managua
BEGIN:STANDARD
TZOFFSETFROM:-0600
TZOFFSETTO:-0600
TZNAME:CST
DTSTART:20240101T000000
END:STANDARD
END:VTIMEZONE
BEGIN:VTIMEZONE
TZID:Europe/Madrid
BEGIN:DAYLIGHT
TZOFFSETFROM:+0100
TZOFFSETTO:+0200
TZNAME:CEST
DTSTART:20240331T010000
END:DAYLIGHT
BEGIN:STANDARD
TZOFFSETFROM:+0200
TZOFFSETTO:+0100
TZNAME:CET
DTSTART:20241027T010000
END:STANDARD
BEGIN:DAYLIGHT
TZOFFSETFROM:+0100
TZOFFSETTO:+0200
TZNAME:CEST
DTSTART:20250330T010000
END:DAYLIGHT
BEGIN:STANDARD
TZOFFSETFROM:+0200
TZOFFSETTO:+0100
TZNAME:CET
DTSTART:20251026T010000
END:STANDARD
BEGIN:DAYLIGHT
TZOFFSETFROM:+0100
TZOFFSETTO:+0200
TZNAME:CEST
DTSTART:20260329T010000
END:DAYLIGHT
BEGIN:STANDARD
TZOFFSETFROM:+0200
TZOFFSETTO:+0100
TZNAME:CET
DTSTART:20261025T010000
END:STANDARD
END:VTIMEZONE
BEGIN:VEVENT
DTSTART;TZID=America/Managua:20250820T080000
DTEND;TZID=America/Managua:20250820T120000
DTSTAMP:20260422T233110
CREATED:20250818T170642Z
LAST-MODIFIED:20250818T170642Z
UID:25555-1755676800-1755691200@www.una.edu.ni
SUMMARY:Taller sobre Elaboración de quesos y derivados lácteos
DESCRIPTION:
URL:https://www.una.edu.ni/event/taller-sobre-elaboracion-de-quesos-y-derivados-lacteos-2/
LOCATION:Universidad La Sandino\, Nicaragua
CATEGORIES:TALLER
END:VEVENT
BEGIN:VEVENT
DTSTART;TZID=America/Managua:20250820T090000
DTEND;TZID=America/Managua:20250820T120000
DTSTAMP:20260422T233110
CREATED:20250818T170500Z
LAST-MODIFIED:20250818T170500Z
UID:25551-1755680400-1755691200@www.una.edu.ni
SUMMARY:Presentación de resultados sobre tecnologías aplicadas en la producción agropecuaria
DESCRIPTION:
URL:https://www.una.edu.ni/event/presentacion-de-resultados-sobre-tecnologias-aplicadas-en-la-produccion-agropecuaria/
LOCATION:Municipio de San Francisco Libre\, Nicaragua
CATEGORIES:PRESENTACIÓN
END:VEVENT
BEGIN:VEVENT
DTSTART;TZID=America/Managua:20250820T090000
DTEND;TZID=America/Managua:20250820T120000
DTSTAMP:20260422T233110
CREATED:20250818T170545Z
LAST-MODIFIED:20250818T170545Z
UID:25553-1755680400-1755691200@www.una.edu.ni
SUMMARY:Diplomado en Educación Financiera en granjas porcinas
DESCRIPTION:
URL:https://www.una.edu.ni/event/diplomado-en-educacion-financiera-en-granjas-porcinas/
LOCATION:Programa Porcino “Cocibolca”\, Nicaragua
CATEGORIES:DIPLOMADO
END:VEVENT
BEGIN:VEVENT
DTSTART;TZID=America/Managua:20250820T100000
DTEND;TZID=America/Managua:20250820T120000
DTSTAMP:20260422T233110
CREATED:20250818T172032Z
LAST-MODIFIED:20250818T172032Z
UID:25559-1755684000-1755691200@www.una.edu.ni
SUMMARY:Jornada de reforestación en nuestras sedes universitarias “Verde que te quiero verde”
DESCRIPTION:
URL:https://www.una.edu.ni/event/jornada-de-reforestacion-en-nuestras-sedes-universitarias-verde-que-te-quiero-verde/
LOCATION:Centro Universitario Regional UNA Juigalpa\, Juigapa
CATEGORIES:JORNADA
END:VEVENT
BEGIN:VEVENT
DTSTART;TZID=America/Managua:20250820T140000
DTEND;TZID=America/Managua:20250820T170000
DTSTAMP:20260422T233110
CREATED:20250818T171814Z
LAST-MODIFIED:20250818T171814Z
UID:25557-1755698400-1755709200@www.una.edu.ni
SUMMARY:Taller sobre Proceso de transformación de tubérculos
DESCRIPTION:
URL:https://www.una.edu.ni/event/taller-sobre-proceso-de-transformacion-de-tuberculos/
LOCATION:UNICAM El Ayote\, Juigalpa\, Nicaragua
CATEGORIES:TALLER
END:VEVENT
BEGIN:VEVENT
DTSTART;TZID=America/Managua:20250821T090000
DTEND;TZID=America/Managua:20250821T120000
DTSTAMP:20260422T233110
CREATED:20250819T212457Z
LAST-MODIFIED:20250819T212457Z
UID:25588-1755766800-1755777600@www.una.edu.ni
SUMMARY:Lanzamiento del Programa Universidades Verdes en la UNA
DESCRIPTION:
URL:https://www.una.edu.ni/event/lanzamiento-del-programa-universidades-verdes-en-la-una/
LOCATION:Universidad Nacional Agraria\, Managua\, km 12 1/2\, Managua\, Nicaragua
CATEGORIES:LANZAMIENTO
END:VEVENT
BEGIN:VEVENT
DTSTART;TZID=America/Managua:20250821T100000
DTEND;TZID=America/Managua:20250821T120000
DTSTAMP:20260422T233110
CREATED:20250819T212052Z
LAST-MODIFIED:20250819T212052Z
UID:25581-1755770400-1755777600@www.una.edu.ni
SUMMARY:Entrega de Certificados a protagonistas de Tecnologías Agropecuarias
DESCRIPTION:
URL:https://www.una.edu.ni/event/entrega-de-certificados-a-protagonistas-de-tecnologias-agropecuarias/
LOCATION:Casa de Cultura. Municipio de Nandaime\, Nicaragua
CATEGORIES:OTROS
END:VEVENT
BEGIN:VEVENT
DTSTART;TZID=Europe/Madrid:20250821T140000
DTEND;TZID=Europe/Madrid:20250821T170000
DTSTAMP:20260422T233110
CREATED:20250819T213147Z
LAST-MODIFIED:20250819T213147Z
UID:25594-1755784800-1755795600@www.una.edu.ni
SUMMARY:Conferencia sobre Estrategias de nutrición animal
DESCRIPTION:
URL:https://www.una.edu.ni/event/conferencia-sobre-estrategias-de-nutricion-animal/
LOCATION:UNICAM El Ayote\, Juigalpa\, Nicaragua
CATEGORIES:CONFERENCIA
END:VEVENT
BEGIN:VEVENT
DTSTART;TZID=America/Managua:20250821T140000
DTEND;TZID=America/Managua:20250821T170000
DTSTAMP:20260422T233110
CREATED:20250819T213758Z
LAST-MODIFIED:20250819T213758Z
UID:25597-1755784800-1755795600@www.una.edu.ni
SUMMARY:Taller sobre Transformación de productos agrícolas para la mejora de la producción
DESCRIPTION:
URL:https://www.una.edu.ni/event/taller-sobre-transformacion-de-productos-agricolas-para-la-mejora-de-la-produccion/
LOCATION:Centro Universitario Regional UNA Juigalpa\, Juigapa
CATEGORIES:TALLER
END:VEVENT
BEGIN:VEVENT
DTSTART;TZID=America/Managua:20250821T150000
DTEND;TZID=America/Managua:20250821T170000
DTSTAMP:20260422T233110
CREATED:20250819T213057Z
LAST-MODIFIED:20250819T213057Z
UID:25592-1755788400-1755795600@www.una.edu.ni
SUMMARY:Conferencia magistral “Historias de la alfabetización\, victorias de los protagonistas”  Presentada por Juan Osorio\, Rector de la Universidad Multidisciplinaria “Ricardo Morales Avilés”
DESCRIPTION:
URL:https://www.una.edu.ni/event/conferencia-magistral-historias-de-la-alfabetizacion-victorias-de-los-protagonistas-presentada-por-juan-osorio-rector-de-la-universidad-multidisciplinaria-ricardo-morales/
LOCATION:Universidad Nacional Agraria\, Managua\, km 12 1/2\, Managua\, Nicaragua
CATEGORIES:CONFERENCIA
END:VEVENT
BEGIN:VEVENT
DTSTART;TZID=America/Managua:20250822T080000
DTEND;TZID=America/Managua:20250822T120000
DTSTAMP:20260422T233110
CREATED:20250819T212951Z
LAST-MODIFIED:20250819T212951Z
UID:25590-1755849600-1755864000@www.una.edu.ni
SUMMARY:Diplomado en Manejo sostenible de café
DESCRIPTION:
URL:https://www.una.edu.ni/event/diplomado-en-manejo-sostenible-de-cafe/
LOCATION:Centro Universitario “Camilo Torres Restrepo”\, Matagalpa\, Nicaragua
CATEGORIES:DIPLOMADO
END:VEVENT
BEGIN:VEVENT
DTSTART;TZID=America/Managua:20250822T080000
DTEND;TZID=America/Managua:20250822T120000
DTSTAMP:20260422T233110
CREATED:20250819T213915Z
LAST-MODIFIED:20250819T213915Z
UID:25599-1755849600-1755864000@www.una.edu.ni
SUMMARY:Taller sobre Elaboración de fertilizantes agropecuarios
DESCRIPTION:
URL:https://www.una.edu.ni/event/taller-sobre-elaboracion-de-fertilizantes-agropecuarios/
LOCATION:UNICAM Boaco Viejo\, Nicaragua
CATEGORIES:TALLER
END:VEVENT
BEGIN:VEVENT
DTSTART;TZID=America/Managua:20250822T083000
DTEND;TZID=America/Managua:20250822T120000
DTSTAMP:20260422T233110
CREATED:20250819T211951Z
LAST-MODIFIED:20250819T211951Z
UID:25579-1755851400-1755864000@www.una.edu.ni
SUMMARY:Entrega de Certificados a protagonistas del Curso en Gestión aduanera de productos agropecuarios
DESCRIPTION:
URL:https://www.una.edu.ni/event/entrega-de-certificados-a-protagonistas-del-curso-en-gestion-aduanera-de-productos-agropecuarios/
LOCATION:Centro Universitario “Héroes de Chinandega”\, Nicaragua
CATEGORIES:OTROS
END:VEVENT
BEGIN:VEVENT
DTSTART;TZID=Europe/Madrid:20250822T100000
DTEND;TZID=Europe/Madrid:20250822T120000
DTSTAMP:20260422T233110
CREATED:20250819T211828Z
LAST-MODIFIED:20250819T211828Z
UID:25577-1755856800-1755864000@www.una.edu.ni
SUMMARY:Inauguración del Laboratorio de computación en conmemoración de la Gesta heroica de la toma del Palacio Nacional y del 45 Aniversario de la Cruzada Nacional de Alfabetización
DESCRIPTION:
URL:https://www.una.edu.ni/event/inauguracion-del-laboratorio-de-computacion-en-conmemoracion-de-la-gesta-heroica-de-la-toma-del-palacio-nacional-y-del-45-aniversario-de-la-cruzada-nacional-de-alfabetizacion/
LOCATION:Universidad Nacional Agraria\, Managua\, km 12 1/2\, Managua\, Nicaragua
CATEGORIES:INAUGURACIÓN
END:VEVENT
BEGIN:VEVENT
DTSTART;TZID=America/Managua:20250822T100000
DTEND;TZID=America/Managua:20250822T120000
DTSTAMP:20260422T233110
CREATED:20250819T212303Z
LAST-MODIFIED:20250819T212303Z
UID:25583-1755856800-1755864000@www.una.edu.ni
SUMMARY:Entrega de Certificados a protagonistas de Tecnologías Agropecuarias
DESCRIPTION:
URL:https://www.una.edu.ni/event/entrega-de-certificados-a-protagonistas-de-tecnologias-agropecuarias-2/
LOCATION:Casa sandinista. Municipio de Nandaime\, Nicaragua
CATEGORIES:OTROS
END:VEVENT
BEGIN:VEVENT
DTSTART;TZID=America/Managua:20250822T100000
DTEND;TZID=America/Managua:20250822T120000
DTSTAMP:20260422T233110
CREATED:20250819T212400Z
LAST-MODIFIED:20250819T212400Z
UID:25586-1755856800-1755864000@www.una.edu.ni
SUMMARY:Entrega de Certificados a protagonistas del Curso de Manejo Sanitario de enfermedades en ganado bovino
DESCRIPTION:
URL:https://www.una.edu.ni/event/entrega-de-certificados-a-protagonistas-del-curso-de-manejo-sanitario-de-enfermedades-en-ganado-bovino/
LOCATION:Municipio de San Francisco Libre\, Nicaragua
CATEGORIES:OTROS
END:VEVENT
BEGIN:VEVENT
DTSTART;TZID=America/Managua:20250823T100000
DTEND;TZID=America/Managua:20250823T120000
DTSTAMP:20260422T233110
CREATED:20250819T214022Z
LAST-MODIFIED:20250819T214022Z
UID:25602-1755943200-1755950400@www.una.edu.ni
SUMMARY:Festival intercultural con bailes representativos de Nicaragua\, en conmemoración del 45 Aniversario de la Cruzada Nacional de Alfabetización
DESCRIPTION:
URL:https://www.una.edu.ni/event/festival-intercultural-con-bailes-representativos-de-nicaragua-en-conmemoracion-del-45-aniversario-de-la-cruzada-nacional-de-alfabetizacion/
LOCATION:UNICAM El Rama\, Nicaragua
CATEGORIES:FESTIVAL
END:VEVENT
BEGIN:VEVENT
DTSTART;TZID=America/Managua:20250825T083000
DTEND;TZID=America/Managua:20250825T120000
DTSTAMP:20260422T233110
CREATED:20250825T162746Z
LAST-MODIFIED:20250825T162746Z
UID:25690-1756110600-1756123200@www.una.edu.ni
SUMMARY:Capacitación sobre innovación y emprendimientos agropecuarios
DESCRIPTION:
URL:https://www.una.edu.ni/event/capacitacion-sobre-innovacion-y-emprendimientos-agropecuarios/
LOCATION:Universidad Nacional Agraria\, Managua\, km 12 1/2\, Managua\, Nicaragua
CATEGORIES:CAPACITACION
END:VEVENT
BEGIN:VEVENT
DTSTART;TZID=America/Managua:20250825T100000
DTEND;TZID=America/Managua:20250825T120000
DTSTAMP:20260422T233110
CREATED:20250825T161821Z
LAST-MODIFIED:20250825T161821Z
UID:25677-1756116000-1756123200@www.una.edu.ni
SUMMARY:Inicio del Curso sobre buenas prácticas agrícolas y agricultura orgánica
DESCRIPTION:
URL:https://www.una.edu.ni/event/inicio-del-curso-sobre-buenas-practicas-agricolas-y-agricultura-organica/
LOCATION:Universidad Nacional Agraria\, Managua\, km 12 1/2\, Managua\, Nicaragua
CATEGORIES:CURSO
END:VEVENT
BEGIN:VEVENT
DTSTART;TZID=America/Managua:20250825T100000
DTEND;TZID=America/Managua:20250825T120000
DTSTAMP:20260422T233110
CREATED:20250825T161935Z
LAST-MODIFIED:20250825T161935Z
UID:25679-1756116000-1756123200@www.una.edu.ni
SUMMARY:Encuentro con estudiantes de secundaria sobre continuidad educativa universitaria y la proyección agropecuaria
DESCRIPTION:
URL:https://www.una.edu.ni/event/encuentro-con-estudiantes-de-secundaria-sobre-continuidad-educativa-universitaria-y-la-proyeccion-agropecuaria/
LOCATION:UNICAM San Francisco Libre\, Nicaragua
CATEGORIES:ENCUENTRO
END:VEVENT
BEGIN:VEVENT
DTSTART;TZID=America/Managua:20250825T140000
DTEND;TZID=America/Managua:20250825T200000
DTSTAMP:20260422T233110
CREATED:20250825T162238Z
LAST-MODIFIED:20250825T162238Z
UID:25682-1756130400-1756152000@www.una.edu.ni
SUMMARY:Inicio de Campeonato estudiantil de voleibol y baloncesto\, en conmemoración al 45 Aniversario del cierre de la Gran Cruzada Nacional de Alfabetización
DESCRIPTION:
URL:https://www.una.edu.ni/event/inicio-de-campeonato-estudiantil-de-voleibol-y-baloncesto-en-conmemoracion-al-45-aniversario-del-cierre-de-la-gran-cruzada-nacional-de-alfabetizacion/
LOCATION:Universidad Nacional Agraria\, Managua\, km 12 1/2\, Managua\, Nicaragua
CATEGORIES:OTROS
END:VEVENT
BEGIN:VEVENT
DTSTART;TZID=America/Managua:20250826T080000
DTEND;TZID=America/Managua:20250826T120000
DTSTAMP:20260422T233110
CREATED:20250825T162648Z
LAST-MODIFIED:20250825T162648Z
UID:25688-1756195200-1756209600@www.una.edu.ni
SUMMARY:Curso sobre Producción de microorganismos para el control de plagas en suelo
DESCRIPTION:
URL:https://www.una.edu.ni/event/curso-sobre-produccion-de-microorganismos-para-el-control-de-plagas-en-suelo/
LOCATION:Universidad Nacional Agraria\, Managua\, km 12 1/2\, Managua\, Nicaragua
CATEGORIES:CURSO
END:VEVENT
BEGIN:VEVENT
DTSTART;TZID=America/Managua:20250826T083000
DTEND;TZID=America/Managua:20250826T120000
DTSTAMP:20260422T233110
CREATED:20250825T164550Z
LAST-MODIFIED:20250825T164550Z
UID:25716-1756197000-1756209600@www.una.edu.ni
SUMMARY:Sesión No. 2 del Diplomado en Educación Financiera y análisis de indicadores en una granja porcina
DESCRIPTION:
URL:https://www.una.edu.ni/event/sesion-no-2-del-diplomado-en-educacion-financiera-y-analisis-de-indicadores-en-una-granja-porcina/
LOCATION:Programa Porcino “Cocibolca”\, Nicaragua
CATEGORIES:DIPLOMADO
END:VEVENT
BEGIN:VEVENT
DTSTART;TZID=America/Managua:20250826T090000
DTEND;TZID=America/Managua:20250826T120000
DTSTAMP:20260422T233110
CREATED:20250825T162538Z
LAST-MODIFIED:20250825T162538Z
UID:25686-1756198800-1756209600@www.una.edu.ni
SUMMARY:Lanzamiento del Diplomado en Agronegocios para cafeterías rentables
DESCRIPTION:
URL:https://www.una.edu.ni/event/lanzamiento-del-diplomado-en-agronegocios-para-cafeterias-rentables/
LOCATION:Universidad Nacional Agraria\, Managua\, km 12 1/2\, Managua\, Nicaragua
CATEGORIES:LANZAMIENTO
END:VEVENT
BEGIN:VEVENT
DTSTART;TZID=America/Managua:20250826T093000
DTEND;TZID=America/Managua:20250826T120000
DTSTAMP:20260422T233110
CREATED:20250825T163042Z
LAST-MODIFIED:20250825T163042Z
UID:25694-1756200600-1756209600@www.una.edu.ni
SUMMARY:Conferencia sobre establecimiento de cultivos en sistemas hidropónicos
DESCRIPTION:
URL:https://www.una.edu.ni/event/conferencia-sobre-establecimiento-de-cultivos-en-sistemas-hidroponicos/
LOCATION:Universidad Nacional Agraria\, Managua\, km 12 1/2\, Managua\, Nicaragua
CATEGORIES:CONFERENCIA
END:VEVENT
BEGIN:VEVENT
DTSTART;TZID=America/Managua:20250826T093000
DTEND;TZID=America/Managua:20250827T120000
DTSTAMP:20260422T233110
CREATED:20250825T162840Z
LAST-MODIFIED:20250825T162907Z
UID:25692-1756200600-1756296000@www.una.edu.ni
SUMMARY:Encuentro con productores sobre transformación de hoja de marango
DESCRIPTION:
URL:https://www.una.edu.ni/event/encuentro-con-productores-sobre-transformacion-de-hoja-de-marango/
LOCATION:Centro de Desarrollo Moringa Comandante Fidel\, municipio de León\, Nicaragua
CATEGORIES:ENCUENTRO
END:VEVENT
BEGIN:VEVENT
DTSTART;TZID=America/Managua:20250826T100000
DTEND;TZID=America/Managua:20250826T120000
DTSTAMP:20260422T233110
CREATED:20250825T162422Z
LAST-MODIFIED:20250825T162422Z
UID:25684-1756202400-1756209600@www.una.edu.ni
SUMMARY:Entrega de Becas Universidades del Pueblo\, a estudiantes de la Universidad Nacional Agraria
DESCRIPTION:
URL:https://www.una.edu.ni/event/entrega-de-becas-universidades-del-pueblo-a-estudiantes-de-la-universidad-nacional-agraria/
LOCATION:Universidad Nacional Agraria\, Managua\, km 12 1/2\, Managua\, Nicaragua
CATEGORIES:OTROS
END:VEVENT
BEGIN:VEVENT
DTSTART;TZID=America/Managua:20250827T083000
DTEND;TZID=America/Managua:20250827T120000
DTSTAMP:20260422T233110
CREATED:20250825T163328Z
LAST-MODIFIED:20250825T163328Z
UID:25699-1756283400-1756296000@www.una.edu.ni
SUMMARY:Capacitación a mujeres productoras sobre gestión de emprendimiento agropecuario
DESCRIPTION:
URL:https://www.una.edu.ni/event/capacitacion-a-mujeres-productoras-sobre-gestion-de-emprendimiento-agropecuario/
LOCATION:UNICAM Boaco Viejo\, Nicaragua
CATEGORIES:CAPACITACION
END:VEVENT
BEGIN:VEVENT
DTSTART;TZID=America/Managua:20250827T083000
DTEND;TZID=America/Managua:20250827T120000
DTSTAMP:20260422T233110
CREATED:20250825T163914Z
LAST-MODIFIED:20250825T163914Z
UID:25710-1756283400-1756296000@www.una.edu.ni
SUMMARY:Panel de expertos sobre la investigación en la evolución agropecuaria nicaragüense
DESCRIPTION:
URL:https://www.una.edu.ni/event/panel-de-expertos-sobre-la-investigacion-en-la-evolucion-agropecuaria-nicaraguense/
LOCATION:Centro Universitario Regional UNA Juigalpa\, Juigapa
CATEGORIES:PANEL
END:VEVENT
BEGIN:VEVENT
DTSTART;TZID=America/Managua:20250827T090000
DTEND;TZID=America/Managua:20250827T120000
DTSTAMP:20260422T233110
CREATED:20250825T163218Z
LAST-MODIFIED:20250825T163218Z
UID:25696-1756285200-1756296000@www.una.edu.ni
SUMMARY:Curso sobre elaboración de variedades de quesos y derivados lácteos
DESCRIPTION:
URL:https://www.una.edu.ni/event/curso-sobre-elaboracion-de-variedades-de-quesos-y-derivados-lacteos/
LOCATION:Sistema Penitenciario Matagalpa\, Nicaragua
CATEGORIES:CURSO
END:VEVENT
END:VCALENDAR