BEGIN:VCALENDAR
VERSION:2.0
PRODID:-//Universidad Nacional Agraria - ECPv6.15.20//NONSGML v1.0//EN
CALSCALE:GREGORIAN
METHOD:PUBLISH
X-WR-CALNAME:Universidad Nacional Agraria
X-ORIGINAL-URL:https://www.una.edu.ni
X-WR-CALDESC:Eventos para Universidad Nacional Agraria
REFRESH-INTERVAL;VALUE=DURATION:PT1H
X-Robots-Tag:noindex
X-PUBLISHED-TTL:PT1H
BEGIN:VTIMEZONE
TZID:America/Managua
BEGIN:STANDARD
TZOFFSETFROM:-0600
TZOFFSETTO:-0600
TZNAME:CST
DTSTART:20240101T000000
END:STANDARD
END:VTIMEZONE
BEGIN:VEVENT
DTSTART;TZID=America/Managua:20251003T080000
DTEND;TZID=America/Managua:20251003T120000
DTSTAMP:20260423T021457
CREATED:20250929T170142Z
LAST-MODIFIED:20250929T170142Z
UID:26546-1759478400-1759492800@www.una.edu.ni
SUMMARY:Encuentro de mujeres emprendedoras
DESCRIPTION:
URL:https://www.una.edu.ni/event/encuentro-de-mujeres-emprendedoras/
LOCATION:UNICAM Morrito\, Nicaragua
CATEGORIES:ENCUENTRO
END:VEVENT
BEGIN:VEVENT
DTSTART;TZID=America/Managua:20251003T090000
DTEND;TZID=America/Managua:20251003T120000
DTSTAMP:20260423T021457
CREATED:20250929T163618Z
LAST-MODIFIED:20250929T163618Z
UID:26532-1759482000-1759492800@www.una.edu.ni
SUMMARY:Diplomado sobre Caficultura
DESCRIPTION:
URL:https://www.una.edu.ni/event/diplomado-sobre-caficultura/
LOCATION:Centro Universitario “Padre y Comandante Camilo Tórres Restrepo”\, Matagalpa\, Nicaragua
CATEGORIES:DIPLOMADO
END:VEVENT
BEGIN:VEVENT
DTSTART;TZID=America/Managua:20251003T090000
DTEND;TZID=America/Managua:20251003T120000
DTSTAMP:20260423T021457
CREATED:20250929T163720Z
LAST-MODIFIED:20250929T163720Z
UID:26534-1759482000-1759492800@www.una.edu.ni
SUMMARY:Curso sobre “Corte selectos en bovinos”
DESCRIPTION:
URL:https://www.una.edu.ni/event/curso-sobre-corte-selectos-en-bovinos-2/
LOCATION:Centro Universitario “Héroes de Chinandega”\, Nicaragua
CATEGORIES:CURSO
END:VEVENT
BEGIN:VEVENT
DTSTART;TZID=America/Managua:20251003T090000
DTEND;TZID=America/Managua:20251003T120000
DTSTAMP:20260423T021457
CREATED:20250929T170247Z
LAST-MODIFIED:20250929T170247Z
UID:26548-1759482000-1759492800@www.una.edu.ni
SUMMARY:Feria vocacional agropecuaria “Por el futuro del agro”
DESCRIPTION:
URL:https://www.una.edu.ni/event/feria-vocacional-agropecuaria-por-el-futuro-del-agro/
LOCATION:Centro Universitario Regional UNA Camoapa\, Camoapa
CATEGORIES:FERIA
END:VEVENT
BEGIN:VEVENT
DTSTART;TZID=America/Managua:20251003T100000
DTEND;TZID=America/Managua:20251003T120000
DTSTAMP:20260423T021457
CREATED:20250929T162928Z
LAST-MODIFIED:20250929T163433Z
UID:26530-1759485600-1759492800@www.una.edu.ni
SUMMARY:Inauguración de obras de mejora del Auditorio “Benjamín Zeledón”\, conmemorando el 146 aniversario de su natalicio y 113 de su tránsito a la inmortalidad
DESCRIPTION:
URL:https://www.una.edu.ni/event/inauguracion-de-obras-de-mejora-del-auditorio-benjamin-zeledon-conmemorando-el-146-aniversario-de-su-natalicio-y-113-de-su-transito-a-la-inmortalidad/
LOCATION:Universidad Nacional Agraria\, Managua\, km 12 1/2\, Managua\, Nicaragua
CATEGORIES:INAUGURACIÓN
END:VEVENT
BEGIN:VEVENT
DTSTART;TZID=America/Managua:20251003T130000
DTEND;TZID=America/Managua:20251003T170000
DTSTAMP:20260423T021457
CREATED:20250929T163841Z
LAST-MODIFIED:20250929T163841Z
UID:26536-1759496400-1759510800@www.una.edu.ni
SUMMARY:Curso sobre apicultura sostenible
DESCRIPTION:
URL:https://www.una.edu.ni/event/curso-sobre-apicultura-sostenible/
LOCATION:UNICAM Boaco Viejo\, Nicaragua
CATEGORIES:CURSO
END:VEVENT
BEGIN:VEVENT
DTSTART;TZID=America/Managua:20251003T140000
DTEND;TZID=America/Managua:20251003T170000
DTSTAMP:20260423T021457
CREATED:20250929T170358Z
LAST-MODIFIED:20250929T170358Z
UID:26550-1759500000-1759510800@www.una.edu.ni
SUMMARY:Jornada veterinaria de atención a mascotas
DESCRIPTION:
URL:https://www.una.edu.ni/event/jornada-veterinaria-de-atencion-a-mascotas-2/
LOCATION:UNICAM El Ayote\, Juigalpa\, Nicaragua
CATEGORIES:JORNADA
END:VEVENT
BEGIN:VEVENT
DTSTART;TZID=America/Managua:20251004T080000
DTEND;TZID=America/Managua:20251004T120000
DTSTAMP:20260423T021457
CREATED:20250929T170031Z
LAST-MODIFIED:20250929T170031Z
UID:26544-1759564800-1759579200@www.una.edu.ni
SUMMARY:Foro Lácteo “Transformación de productos lácteos y derivados”
DESCRIPTION:
URL:https://www.una.edu.ni/event/foro-lacteo-transformacion-de-productos-lacteos-y-derivados/
LOCATION:UNICAM Matiguás\, Nicaragua
CATEGORIES:FORO
END:VEVENT
BEGIN:VEVENT
DTSTART;TZID=America/Managua:20251004T090000
DTEND;TZID=America/Managua:20251004T120000
DTSTAMP:20260423T021457
CREATED:20250929T164417Z
LAST-MODIFIED:20250929T164417Z
UID:26538-1759568400-1759579200@www.una.edu.ni
SUMMARY:Curso sobre Transformación de productos a base de plátano
DESCRIPTION:
URL:https://www.una.edu.ni/event/curso-sobre-transformacion-de-productos-a-base-de-platano/
LOCATION:Centro Universitario “Héroes de Chinandega”\, Nicaragua
CATEGORIES:CURSO
END:VEVENT
BEGIN:VEVENT
DTSTART;TZID=America/Managua:20251004T100000
DTEND;TZID=America/Managua:20251004T120000
DTSTAMP:20260423T021457
CREATED:20250929T165653Z
LAST-MODIFIED:20250929T165653Z
UID:26540-1759572000-1759579200@www.una.edu.ni
SUMMARY:Diplomado en diagnóstico en ganado bovino
DESCRIPTION:
URL:https://www.una.edu.ni/event/diplomado-en-diagnostico-en-ganado-bovino/
LOCATION:UNICAM El Rama\, Nicaragua
CATEGORIES:DIPLOMADO
END:VEVENT
BEGIN:VEVENT
DTSTART;TZID=America/Managua:20251005T130000
DTEND;TZID=America/Managua:20251005T170000
DTSTAMP:20260423T021457
CREATED:20250929T165747Z
LAST-MODIFIED:20250929T165747Z
UID:26542-1759669200-1759683600@www.una.edu.ni
SUMMARY:Curso sobre Nutrición animal
DESCRIPTION:
URL:https://www.una.edu.ni/event/curso-sobre-nutricion-animal/
LOCATION:UNICAM Muelle de los Bueyes\, Nicaragua
CATEGORIES:CURSO
END:VEVENT
BEGIN:VEVENT
DTSTART;TZID=America/Managua:20251006T090000
DTEND;TZID=America/Managua:20251006T120000
DTSTAMP:20260423T021457
CREATED:20251006T142008Z
LAST-MODIFIED:20251006T142008Z
UID:26656-1759741200-1759752000@www.una.edu.ni
SUMMARY:Taller sobre Procesamiento de café
DESCRIPTION:
URL:https://www.una.edu.ni/event/taller-sobre-procesamiento-de-cafe/
LOCATION:UNICAM Sitio Histórico Pancasán\, Nicaragua
CATEGORIES:TALLER
END:VEVENT
BEGIN:VEVENT
DTSTART;TZID=America/Managua:20251007T080000
DTEND;TZID=America/Managua:20251007T120000
DTSTAMP:20260423T021457
CREATED:20251006T142817Z
LAST-MODIFIED:20251006T142817Z
UID:26666-1759824000-1759838400@www.una.edu.ni
SUMMARY:Taller sobre Manejo de granjas apícolas
DESCRIPTION:
URL:https://www.una.edu.ni/event/taller-sobre-manejo-de-granjas-apicolas/
LOCATION:Finca Experimental El Plantel\, Nicaragua
CATEGORIES:TALLER
END:VEVENT
BEGIN:VEVENT
DTSTART;TZID=America/Managua:20251007T080000
DTEND;TZID=America/Managua:20251007T120000
DTSTAMP:20260423T021457
CREATED:20251006T142923Z
LAST-MODIFIED:20251006T142923Z
UID:26668-1759824000-1759838400@www.una.edu.ni
SUMMARY:Feria de productos agropecuarios
DESCRIPTION:
URL:https://www.una.edu.ni/event/feria-de-productos-agropecuarios-2/
LOCATION:Universidad Nacional Agraria\, Managua\, km 12 1/2\, Managua\, Nicaragua
CATEGORIES:FERIA
END:VEVENT
BEGIN:VEVENT
DTSTART;TZID=America/Managua:20251007T083000
DTEND;TZID=America/Managua:20251007T120000
DTSTAMP:20260423T021457
CREATED:20251006T142707Z
LAST-MODIFIED:20251006T142707Z
UID:26664-1759825800-1759838400@www.una.edu.ni
SUMMARY:Conferencia sobre Emprendimiento e innovación agrícola
DESCRIPTION:
URL:https://www.una.edu.ni/event/conferencia-sobre-emprendimiento-e-innovacion-agricola/
LOCATION:Universidad Nacional Agraria\, Managua\, km 12 1/2\, Managua\, Nicaragua
CATEGORIES:CONFERENCIA
END:VEVENT
BEGIN:VEVENT
DTSTART;TZID=America/Managua:20251007T100000
DTEND;TZID=America/Managua:20251007T120000
DTSTAMP:20260423T021457
CREATED:20251006T142151Z
LAST-MODIFIED:20251006T142151Z
UID:26658-1759831200-1759838400@www.una.edu.ni
SUMMARY:Taller sobre Manejo zootécnico de granjas avícolas
DESCRIPTION:
URL:https://www.una.edu.ni/event/taller-sobre-manejo-zootecnico-de-granjas-avicolas/
LOCATION:UNICAM Morrito\, Nicaragua
CATEGORIES:TALLER
END:VEVENT
BEGIN:VEVENT
DTSTART;TZID=America/Managua:20251007T100000
DTEND;TZID=America/Managua:20251007T120000
DTSTAMP:20260423T021457
CREATED:20251006T142313Z
LAST-MODIFIED:20251006T142313Z
UID:26660-1759831200-1759838400@www.una.edu.ni
SUMMARY:Entrega de Certificados a protagonistas del Diplomado sobre Manejo sanitario de cultivos
DESCRIPTION:
URL:https://www.una.edu.ni/event/entrega-de-certificados-a-protagonistas-del-diplomado-sobre-manejo-sanitario-de-cultivos/
LOCATION:Universidad Nacional Agraria\, Managua\, km 12 1/2\, Managua\, Nicaragua
CATEGORIES:OTROS
END:VEVENT
BEGIN:VEVENT
DTSTART;TZID=America/Managua:20251007T100000
DTEND;TZID=America/Managua:20251007T120000
DTSTAMP:20260423T021457
CREATED:20251006T142455Z
LAST-MODIFIED:20251006T142455Z
UID:26662-1759831200-1759838400@www.una.edu.ni
SUMMARY:Curso sobre Manejo y control de hemoparásitos en ganado bovino
DESCRIPTION:
URL:https://www.una.edu.ni/event/curso-sobre-manejo-y-control-de-hemoparasitos-en-ganado-bovino/
LOCATION:Centro Universitario Regional UNA Juigalpa\, Juigapa
CATEGORIES:CURSO
END:VEVENT
BEGIN:VEVENT
DTSTART;TZID=America/Managua:20251008T080000
DTEND;TZID=America/Managua:20251008T120000
DTSTAMP:20260423T021457
CREATED:20251006T144000Z
LAST-MODIFIED:20251006T144000Z
UID:26676-1759910400-1759924800@www.una.edu.ni
SUMMARY:Presentación de Oferta académica del Centro Universitario “Héroes de Chinandega”\, a productores\, jóvenes y estudiantes de Somotillo y Villanueva
DESCRIPTION:
URL:https://www.una.edu.ni/event/presentacion-de-oferta-academica-del-centro-universitario-heroes-de-chinandega-a-productores-jovenes-y-estudiantes-de-somotillo-y-villanueva/
LOCATION:municipios de Somotillo y Villanueva\, departamento de Chinandega\, Nicaragua
CATEGORIES:PRESENTACIÓN
END:VEVENT
BEGIN:VEVENT
DTSTART;TZID=America/Managua:20251008T080000
DTEND;TZID=America/Managua:20251008T120000
DTSTAMP:20260423T021457
CREATED:20251006T144316Z
LAST-MODIFIED:20251006T144316Z
UID:26681-1759910400-1759924800@www.una.edu.ni
SUMMARY:Capacitación sobre Manejo y control de enfermedades en la apicultura
DESCRIPTION:
URL:https://www.una.edu.ni/event/capacitacion-sobre-manejo-y-control-de-enfermedades-en-la-apicultura/
LOCATION:UNICAM Boaco Viejo\, Nicaragua
CATEGORIES:CAPACITACION
END:VEVENT
BEGIN:VEVENT
DTSTART;TZID=America/Managua:20251008T080000
DTEND;TZID=America/Managua:20251008T120000
DTSTAMP:20260423T021457
CREATED:20251006T144502Z
LAST-MODIFIED:20251006T144502Z
UID:26683-1759910400-1759924800@www.una.edu.ni
SUMMARY:Diplomado en producción de hortalizas en sistemas protegidos
DESCRIPTION:
URL:https://www.una.edu.ni/event/diplomado-en-produccion-de-hortalizas-en-sistemas-protegidos/
LOCATION:Centro Universitario Regional UNA Camoapa\, Camoapa
CATEGORIES:DIPLOMADO
END:VEVENT
BEGIN:VEVENT
DTSTART;TZID=America/Managua:20251008T080000
DTEND;TZID=America/Managua:20251008T120000
DTSTAMP:20260423T021457
CREATED:20251006T144911Z
LAST-MODIFIED:20251006T144911Z
UID:26689-1759910400-1759924800@www.una.edu.ni
SUMMARY:Taller sobre Calidad de agua
DESCRIPTION:
URL:https://www.una.edu.ni/event/taller-sobre-calidad-de-agua/
LOCATION:Universidad Nacional Agraria\, Managua\, km 12 1/2\, Managua\, Nicaragua
CATEGORIES:TALLER
END:VEVENT
BEGIN:VEVENT
DTSTART;TZID=America/Managua:20251008T090000
DTEND;TZID=America/Managua:20251008T120000
DTSTAMP:20260423T021457
CREATED:20251006T143541Z
LAST-MODIFIED:20251006T143541Z
UID:26670-1759914000-1759924800@www.una.edu.ni
SUMMARY:Feria gastronómica “Rescatando nuestra identidad\, sabores y aromas” en conmemoración al Día de la Resistencia Indígena
DESCRIPTION:
URL:https://www.una.edu.ni/event/feria-gastronomica-rescatando-nuestra-identidad-sabores-y-aromas-en-conmemoracion-al-dia-de-la-resistencia-indigena/
LOCATION:Centro Universitario Regional UNA Camoapa\, Camoapa
CATEGORIES:FERIA
END:VEVENT
BEGIN:VEVENT
DTSTART;TZID=America/Managua:20251008T090000
DTEND;TZID=America/Managua:20251008T120000
DTSTAMP:20260423T021457
CREATED:20251006T144210Z
LAST-MODIFIED:20251006T144210Z
UID:26679-1759914000-1759924800@www.una.edu.ni
SUMMARY:Diplomado en fertilidad del suelo para mejorar la producción agropecuaria
DESCRIPTION:
URL:https://www.una.edu.ni/event/diplomado-en-fertilidad-del-suelo-para-mejorar-la-produccion-agropecuaria/
LOCATION:Municipio de Tisma\, Masaya\, Nicaragua
CATEGORIES:DIPLOMADO
END:VEVENT
BEGIN:VEVENT
DTSTART;TZID=America/Managua:20251008T090000
DTEND;TZID=America/Managua:20251008T120000
DTSTAMP:20260423T021457
CREATED:20251006T144647Z
LAST-MODIFIED:20251006T144647Z
UID:26685-1759914000-1759924800@www.una.edu.ni
SUMMARY:Encuentro Estudiantil de investigación agropecuaria
DESCRIPTION:
URL:https://www.una.edu.ni/event/encuentro-estudiantil-de-investigacion-agropecuaria/
LOCATION:UNICAM El Ayote\, Juigalpa\, Nicaragua
CATEGORIES:ENCUENTRO
END:VEVENT
BEGIN:VEVENT
DTSTART;TZID=America/Managua:20251008T100000
DTEND;TZID=America/Managua:20251008T120000
DTSTAMP:20260423T021457
CREATED:20251006T143837Z
LAST-MODIFIED:20251006T143837Z
UID:26674-1759917600-1759924800@www.una.edu.ni
SUMMARY:Inauguración de Salón - Museo de la Revolución
DESCRIPTION:
URL:https://www.una.edu.ni/event/inauguracion-de-salon-museo-de-la-revolucion/
LOCATION:Centro Universitario Regional UNA Juigalpa\, Juigapa
CATEGORIES:INAUGURACIÓN
END:VEVENT
BEGIN:VEVENT
DTSTART;TZID=America/Managua:20251008T140000
DTEND;TZID=America/Managua:20251008T170000
DTSTAMP:20260423T021457
CREATED:20251006T144808Z
LAST-MODIFIED:20251006T144808Z
UID:26687-1759932000-1759942800@www.una.edu.ni
SUMMARY:Taller sobre  Elaboración de suplementos nutricionales para: Cerdos de engorde
DESCRIPTION:
URL:https://www.una.edu.ni/event/taller-sobre-elaboracion-de-suplementos-nutricionales-para-cerdos-de-engorde/
LOCATION:UNICAM El Ayote\, Juigalpa\, Nicaragua
CATEGORIES:TALLER
END:VEVENT
BEGIN:VEVENT
DTSTART;TZID=America/Managua:20251008T150000
DTEND;TZID=America/Managua:20251008T170000
DTSTAMP:20260423T021457
CREATED:20251006T143713Z
LAST-MODIFIED:20251006T143713Z
UID:26672-1759935600-1759942800@www.una.edu.ni
SUMMARY:Campeonato estudiantil de tenis de mesa en conmemoración al Día de la Resistencia Indígena
DESCRIPTION:
URL:https://www.una.edu.ni/event/campeonato-estudiantil-de-tenis-de-mesa-en-conmemoracion-al-dia-de-la-resistencia-indigena/
LOCATION:Universidad Nacional Agraria\, Managua\, km 12 1/2\, Managua\, Nicaragua
CATEGORIES:OTROS
END:VEVENT
BEGIN:VEVENT
DTSTART;TZID=America/Managua:20251009T080000
DTEND;TZID=America/Managua:20251009T120000
DTSTAMP:20260423T021457
CREATED:20251007T144542Z
LAST-MODIFIED:20251007T144542Z
UID:26711-1759996800-1760011200@www.una.edu.ni
SUMMARY:Curso sobre Mejora genética en el cultivo de frijol
DESCRIPTION:
URL:https://www.una.edu.ni/event/curso-sobre-mejora-genetica-en-el-cultivo-de-frijol/
LOCATION:Centro Universitario Regional UNA Juigalpa\, Juigapa
CATEGORIES:CURSO
END:VEVENT
BEGIN:VEVENT
DTSTART;TZID=America/Managua:20251009T090000
DTEND;TZID=America/Managua:20251009T120000
DTSTAMP:20260423T021457
CREATED:20251007T143333Z
LAST-MODIFIED:20251007T143333Z
UID:26694-1760000400-1760011200@www.una.edu.ni
SUMMARY:Lanzamiento del Diplomado “Emprendimiento de cafés”
DESCRIPTION:
URL:https://www.una.edu.ni/event/lanzamiento-del-diplomado-emprendimiento-de-cafes/
LOCATION:Palacio de Bellas Artes\, departamento de Carazo\, Nicaragua
CATEGORIES:LANZAMIENTO
END:VEVENT
END:VCALENDAR