BEGIN:VCALENDAR
VERSION:2.0
PRODID:-//Universidad Nacional Agraria - ECPv6.15.20//NONSGML v1.0//EN
CALSCALE:GREGORIAN
METHOD:PUBLISH
X-WR-CALNAME:Universidad Nacional Agraria
X-ORIGINAL-URL:https://www.una.edu.ni
X-WR-CALDESC:Eventos para Universidad Nacional Agraria
REFRESH-INTERVAL;VALUE=DURATION:PT1H
X-Robots-Tag:noindex
X-PUBLISHED-TTL:PT1H
BEGIN:VTIMEZONE
TZID:America/Managua
BEGIN:STANDARD
TZOFFSETFROM:-0600
TZOFFSETTO:-0600
TZNAME:CST
DTSTART:20240101T000000
END:STANDARD
END:VTIMEZONE
BEGIN:VEVENT
DTSTART;TZID=America/Managua:20251030T083000
DTEND;TZID=America/Managua:20251031T170000
DTSTAMP:20260423T113240
CREATED:20251028T224654Z
LAST-MODIFIED:20251028T224654Z
UID:27792-1761813000-1761930000@www.una.edu.ni
SUMMARY:Jornada Universitaria de Desarrollo Científico
DESCRIPTION:
URL:https://www.una.edu.ni/event/jornada-universitaria-de-desarrollo-cientifico-2/
LOCATION:Universidad Nacional Agraria\, Managua\, km 12 1/2\, Managua\, Nicaragua
CATEGORIES:JORNADA
END:VEVENT
BEGIN:VEVENT
DTSTART;TZID=America/Managua:20251031T070000
DTEND;TZID=America/Managua:20251031T120000
DTSTAMP:20260423T113240
CREATED:20251029T145300Z
LAST-MODIFIED:20251029T145300Z
UID:27827-1761894000-1761912000@www.una.edu.ni
SUMMARY:Establecimiento de viveros de plantas forestales y frutales en el marco del Programa “Verde que te quiero verde
DESCRIPTION:
URL:https://www.una.edu.ni/event/establecimiento-de-viveros-de-plantas-forestales-y-frutales-en-el-marco-del-programa-verde-que-te-quiero-verde/
LOCATION:Villa El Carmen\, Nicaragua
CATEGORIES:OTROS
END:VEVENT
BEGIN:VEVENT
DTSTART;TZID=America/Managua:20251031T080000
DTEND;TZID=America/Managua:20251031T120000
DTSTAMP:20260423T113240
CREATED:20251029T145621Z
LAST-MODIFIED:20251029T145621Z
UID:27832-1761897600-1761912000@www.una.edu.ni
SUMMARY:Diplomado de Agronegocios en café
DESCRIPTION:
URL:https://www.una.edu.ni/event/diplomado-de-agronegocios-en-cafe/
LOCATION:Museo del Café\, Jinotega\, Nicaragua
CATEGORIES:DIPLOMADO
END:VEVENT
BEGIN:VEVENT
DTSTART;TZID=America/Managua:20251031T090000
DTEND;TZID=America/Managua:20251031T120000
DTSTAMP:20260423T113240
CREATED:20251029T145856Z
LAST-MODIFIED:20251029T145856Z
UID:27834-1761901200-1761912000@www.una.edu.ni
SUMMARY:Presentación de Catálogo de bacterias y hongos que afectan el ganado mayor y menor
DESCRIPTION:
URL:https://www.una.edu.ni/event/presentacion-de-catalogo-de-bacterias-y-hongos-que-afectan-el-ganado-mayor-y-menor/
LOCATION:Universidad Nacional Agraria\, Managua\, km 12 1/2\, Managua\, Nicaragua
CATEGORIES:OTROS
END:VEVENT
BEGIN:VEVENT
DTSTART;TZID=America/Managua:20251031T100000
DTEND;TZID=America/Managua:20251031T120000
DTSTAMP:20260423T113240
CREATED:20251029T145432Z
LAST-MODIFIED:20251029T145432Z
UID:27830-1761904800-1761912000@www.una.edu.ni
SUMMARY:Diplomado sobre Técnicas de Biotecnología reproductiva en bovinos
DESCRIPTION:
URL:https://www.una.edu.ni/event/diplomado-sobre-tecnicas-de-biotecnologia-reproductiva-en-bovinos/
LOCATION:UNICAM El Rama\, Nicaragua
CATEGORIES:DIPLOMADO
END:VEVENT
BEGIN:VEVENT
DTSTART;TZID=America/Managua:20251031T100000
DTEND;TZID=America/Managua:20251031T120000
DTSTAMP:20260423T113240
CREATED:20251029T150049Z
LAST-MODIFIED:20251029T150049Z
UID:27836-1761904800-1761912000@www.una.edu.ni
SUMMARY:Inauguración del Laboratorio de Hongos Comestibles
DESCRIPTION:
URL:https://www.una.edu.ni/event/inauguracion-del-laboratorio-de-hongos-comestibles/
LOCATION:Universidad Nacional Agraria\, Managua\, km 12 1/2\, Managua\, Nicaragua
CATEGORIES:INAUGURACIÓN
END:VEVENT
BEGIN:VEVENT
DTSTART;TZID=America/Managua:20251031T100000
DTEND;TZID=America/Managua:20251031T120000
DTSTAMP:20260423T113240
CREATED:20251029T150154Z
LAST-MODIFIED:20251029T150154Z
UID:27838-1761904800-1761912000@www.una.edu.ni
SUMMARY:Establecimiento de viveros frutales
DESCRIPTION:
URL:https://www.una.edu.ni/event/establecimiento-de-viveros-frutales/
LOCATION:Centro Penitenciario de Juigalpa\, Nicaragua
CATEGORIES:OTROS
END:VEVENT
BEGIN:VEVENT
DTSTART;TZID=America/Managua:20251101T090000
DTEND;TZID=America/Managua:20251101T120000
DTSTAMP:20260423T113240
CREATED:20251029T193805Z
LAST-MODIFIED:20251029T193805Z
UID:27872-1761987600-1761998400@www.una.edu.ni
SUMMARY:Olimpiadas matemáticas
DESCRIPTION:
URL:https://www.una.edu.ni/event/olimpiadas-matematicas/
LOCATION:Centros Penitenciarios de Tipitapa e Integral de mujeres\, Nicaragua
CATEGORIES:OTROS
END:VEVENT
BEGIN:VEVENT
DTSTART;TZID=America/Managua:20251101T090000
DTEND;TZID=America/Managua:20251101T120000
DTSTAMP:20260423T113240
CREATED:20251029T193941Z
LAST-MODIFIED:20251029T193941Z
UID:27875-1761987600-1761998400@www.una.edu.ni
SUMMARY:Taller sobre Investigación Científica
DESCRIPTION:
URL:https://www.una.edu.ni/event/taller-sobre-investigacion-cientifica/
LOCATION:Centros Penitenciarios de Estelí y Matagalpa\, Nicaragua
CATEGORIES:OTROS
END:VEVENT
BEGIN:VEVENT
DTSTART;TZID=America/Managua:20251101T130000
DTEND;TZID=America/Managua:20251101T170000
DTSTAMP:20260423T113240
CREATED:20251029T193629Z
LAST-MODIFIED:20251029T193629Z
UID:27870-1762002000-1762016400@www.una.edu.ni
SUMMARY:Encuentro con productores sobre Fertilización del cultivo de plátano
DESCRIPTION:
URL:https://www.una.edu.ni/event/encuentro-con-productores-sobre-fertilizacion-del-cultivo-de-platano/
LOCATION:comunidad San Marcos\, Isla de Ometepe\, Nicaragua
CATEGORIES:ENCUENTRO
END:VEVENT
BEGIN:VEVENT
DTSTART;TZID=America/Managua:20251103T080000
DTEND;TZID=America/Managua:20251103T120000
DTSTAMP:20260423T113240
CREATED:20251103T144529Z
LAST-MODIFIED:20251103T144529Z
UID:27907-1762156800-1762171200@www.una.edu.ni
SUMMARY:Establecimiento de huerto escolar
DESCRIPTION:
URL:https://www.una.edu.ni/event/establecimiento-de-huerto-escolar/
LOCATION:UNICAM San Lorenzo\, Boaco\, Nicaragua
CATEGORIES:OTROS
END:VEVENT
BEGIN:VEVENT
DTSTART;TZID=America/Managua:20251103T090000
DTEND;TZID=America/Managua:20251103T120000
DTSTAMP:20260423T113240
CREATED:20251103T144019Z
LAST-MODIFIED:20251103T144019Z
UID:27901-1762160400-1762171200@www.una.edu.ni
SUMMARY:Curso de Diagnóstico por imágenes
DESCRIPTION:
URL:https://www.una.edu.ni/event/curso-de-diagnostico-por-imagenes/
LOCATION:Universidad Nacional Agraria\, Managua\, km 12 1/2\, Managua\, Nicaragua
CATEGORIES:CURSO
END:VEVENT
BEGIN:VEVENT
DTSTART;TZID=America/Managua:20251103T090000
DTEND;TZID=America/Managua:20251103T120000
DTSTAMP:20260423T113240
CREATED:20251103T144158Z
LAST-MODIFIED:20251103T144158Z
UID:27903-1762160400-1762171200@www.una.edu.ni
SUMMARY:Conferencia sobre técnicas modernas de ensilajes para alimentación animal
DESCRIPTION:
URL:https://www.una.edu.ni/event/conferencia-sobre-tecnicas-modernas-de-ensilajes-para-alimentacion-animal/
LOCATION:Universidad Nacional Agraria\, Managua\, km 12 1/2\, Managua\, Nicaragua
CATEGORIES:CONFERENCIA
END:VEVENT
BEGIN:VEVENT
DTSTART;TZID=America/Managua:20251103T140000
DTEND;TZID=America/Managua:20251103T170000
DTSTAMP:20260423T113240
CREATED:20251103T144416Z
LAST-MODIFIED:20251103T144416Z
UID:27905-1762178400-1762189200@www.una.edu.ni
SUMMARY:Taller sobre Manejo agronómico de los cultivos de cacao y arroz
DESCRIPTION:
URL:https://www.una.edu.ni/event/taller-sobre-manejo-agronomico-de-los-cultivos-de-cacao-y-arroz/
LOCATION:Centro Universitario Regional UNA Juigalpa\, Juigapa
CATEGORIES:TALLER
END:VEVENT
BEGIN:VEVENT
DTSTART;TZID=America/Managua:20251104T080000
DTEND;TZID=America/Managua:20251104T120000
DTSTAMP:20260423T113240
CREATED:20251103T222203Z
LAST-MODIFIED:20251103T222203Z
UID:27918-1762243200-1762257600@www.una.edu.ni
SUMMARY:Taller sobre Establecimiento de variedades de frijol
DESCRIPTION:
URL:https://www.una.edu.ni/event/taller-sobre-establecimiento-de-variedades-de-frijol/
LOCATION:Centro Universitario “Don Orlando”\, Niquinohomo\, Nicaragua
CATEGORIES:TALLER
END:VEVENT
BEGIN:VEVENT
DTSTART;TZID=America/Managua:20251104T080000
DTEND;TZID=America/Managua:20251104T120000
DTSTAMP:20260423T113240
CREATED:20251103T222434Z
LAST-MODIFIED:20251103T222434Z
UID:27920-1762243200-1762257600@www.una.edu.ni
SUMMARY:Expo feria “Agro emprende”
DESCRIPTION:
URL:https://www.una.edu.ni/event/expo-feria-agro-emprende/
LOCATION:Universidad Nacional Agraria\, Managua\, km 12 1/2\, Managua\, Nicaragua
CATEGORIES:OTROS
END:VEVENT
BEGIN:VEVENT
DTSTART;TZID=America/Managua:20251104T090000
DTEND;TZID=America/Managua:20251104T120000
DTSTAMP:20260423T113240
CREATED:20251103T221558Z
LAST-MODIFIED:20251103T221558Z
UID:27911-1762246800-1762257600@www.una.edu.ni
SUMMARY:Foro de biotecnología genética de los cultivos vegetales
DESCRIPTION:
URL:https://www.una.edu.ni/event/foro-de-biotecnologia-genetica-de-los-cultivos-vegetales/
LOCATION:Universidad Nacional Agraria\, Managua\, km 12 1/2\, Managua\, Nicaragua
CATEGORIES:FORO
END:VEVENT
BEGIN:VEVENT
DTSTART;TZID=America/Managua:20251104T090000
DTEND;TZID=America/Managua:20251104T120000
DTSTAMP:20260423T113240
CREATED:20251103T222023Z
LAST-MODIFIED:20251103T222023Z
UID:27916-1762246800-1762257600@www.una.edu.ni
SUMMARY:Taller sobre Manejo nutricional de tilapias
DESCRIPTION:
URL:https://www.una.edu.ni/event/taller-sobre-manejo-nutricional-de-tilapias/
LOCATION:Universidad Nacional Agraria\, Managua\, km 12 1/2\, Managua\, Nicaragua
CATEGORIES:TALLER
END:VEVENT
BEGIN:VEVENT
DTSTART;TZID=America/Managua:20251104T100000
DTEND;TZID=America/Managua:20251104T120000
DTSTAMP:20260423T113240
CREATED:20251103T221319Z
LAST-MODIFIED:20251103T221319Z
UID:27909-1762250400-1762257600@www.una.edu.ni
SUMMARY:Entrega de Certificados a protagonistas del curso Diagnóstico veterinario
DESCRIPTION:
URL:https://www.una.edu.ni/event/entrega-de-certificados-a-protagonistas-del-curso-diagnostico-veterinario/
LOCATION:Centro Universitario Regional UNA Camoapa\, Camoapa
END:VEVENT
BEGIN:VEVENT
DTSTART;TZID=America/Managua:20251104T100000
DTEND;TZID=America/Managua:20251104T120000
DTSTAMP:20260423T113240
CREATED:20251103T221834Z
LAST-MODIFIED:20251103T221834Z
UID:27913-1762250400-1762257600@www.una.edu.ni
SUMMARY:Diplomado en procesamiento y agregación de valor del marango para la elaboración de productos medicinales
DESCRIPTION:
URL:https://www.una.edu.ni/event/diplomado-en-procesamiento-y-agregacion-de-valor-del-marango-para-la-elaboracion-de-productos-medicinales/
LOCATION:Centro de Desarrollo Moringa Comandante Fidel\, municipio de León\, Nicaragua
CATEGORIES:DIPLOMADO
END:VEVENT
BEGIN:VEVENT
DTSTART;TZID=America/Managua:20251104T170000
DTEND;TZID=America/Managua:20251104T190000
DTSTAMP:20260423T113240
CREATED:20251103T222612Z
LAST-MODIFIED:20251103T222612Z
UID:27922-1762275600-1762282800@www.una.edu.ni
SUMMARY:Campeonato estudiantil de la Liga interna de voleibol y fútbol sala
DESCRIPTION:
URL:https://www.una.edu.ni/event/campeonato-estudiantil-de-la-liga-interna-de-voleibol-y-futbol-sala/
LOCATION:Universidad Nacional Agraria\, Managua\, km 12 1/2\, Managua\, Nicaragua
CATEGORIES:OTROS
END:VEVENT
BEGIN:VEVENT
DTSTART;TZID=America/Managua:20251105T080000
DTEND;TZID=America/Managua:20251105T120000
DTSTAMP:20260423T113240
CREATED:20251105T030610Z
LAST-MODIFIED:20251105T030610Z
UID:27961-1762329600-1762344000@www.una.edu.ni
SUMMARY:Diplomado sobre inventario forestal de cultivos de marango
DESCRIPTION:
URL:https://www.una.edu.ni/event/diplomado-sobre-inventario-forestal-de-cultivos-de-marango/
LOCATION:Centro de Desarrollo Moringa Comandante Fidel\, municipio de León\, Nicaragua
CATEGORIES:DIPLOMADO
END:VEVENT
BEGIN:VEVENT
DTSTART;TZID=America/Managua:20251105T080000
DTEND;TZID=America/Managua:20251105T120000
DTSTAMP:20260423T113240
CREATED:20251105T031202Z
LAST-MODIFIED:20251105T031202Z
UID:27971-1762329600-1762344000@www.una.edu.ni
SUMMARY:Taller sobre Establecimiento de variedades de frijol
DESCRIPTION:
URL:https://www.una.edu.ni/event/taller-sobre-establecimiento-de-variedades-de-frijol-2/
LOCATION:Centro Universitario “Don Orlando”\, Niquinohomo\, Nicaragua
CATEGORIES:TALLER
END:VEVENT
BEGIN:VEVENT
DTSTART;TZID=America/Managua:20251105T090000
DTEND;TZID=America/Managua:20251105T120000
DTSTAMP:20260423T113240
CREATED:20251105T030312Z
LAST-MODIFIED:20251105T030312Z
UID:27956-1762333200-1762344000@www.una.edu.ni
SUMMARY:Entrega de equipos y uniformes deportivos a protagonistas del Programa Integral de Educación Superior para Presos
DESCRIPTION:
URL:https://www.una.edu.ni/event/entrega-de-equipos-y-uniformes-deportivos-a-protagonistas-del-programa-integral-de-educacion-superior-para-presos/
LOCATION:Sistemas Penitenciarios de Granada y Tipitapa\, Nicaragua
CATEGORIES:OTROS
END:VEVENT
BEGIN:VEVENT
DTSTART;TZID=America/Managua:20251105T090000
DTEND;TZID=America/Managua:20251105T120000
DTSTAMP:20260423T113240
CREATED:20251105T030435Z
LAST-MODIFIED:20251105T030435Z
UID:27959-1762333200-1762344000@www.una.edu.ni
SUMMARY:Simposio sobre la calidad genética del cacao\, degustación y presentación gastronómica
DESCRIPTION:
URL:https://www.una.edu.ni/event/simposio-sobre-la-calidad-genetica-del-cacao-degustacion-y-presentacion-gastronomica/
LOCATION:Centro Universitario Regional UNA Juigalpa\, Juigapa
CATEGORIES:Simposio
END:VEVENT
BEGIN:VEVENT
DTSTART;TZID=America/Managua:20251105T090000
DTEND;TZID=America/Managua:20251105T120000
DTSTAMP:20260423T113240
CREATED:20251105T031016Z
LAST-MODIFIED:20251105T031016Z
UID:27969-1762333200-1762344000@www.una.edu.ni
SUMMARY:Curso sobre Registro contable agropecuario para emprendedores
DESCRIPTION:
URL:https://www.una.edu.ni/event/curso-sobre-registro-contable-agropecuario-para-emprendedores/
LOCATION:UNICAM Morrito\, Nicaragua
CATEGORIES:CURSO
END:VEVENT
BEGIN:VEVENT
DTSTART;TZID=America/Managua:20251105T100000
DTEND;TZID=America/Managua:20251105T130000
DTSTAMP:20260423T113240
CREATED:20251105T030729Z
LAST-MODIFIED:20251105T030729Z
UID:27963-1762336800-1762347600@www.una.edu.ni
SUMMARY:Diplomado sobre Técnicas de Biotecnología reproductiva bovina
DESCRIPTION:
URL:https://www.una.edu.ni/event/diplomado-sobre-tecnicas-de-biotecnologia-reproductiva-bovina/
LOCATION:Centro Universitario Regional UNA Juigalpa\, Juigapa
CATEGORIES:DIPLOMADO
END:VEVENT
BEGIN:VEVENT
DTSTART;TZID=America/Managua:20251105T100000
DTEND;TZID=America/Managua:20251105T130000
DTSTAMP:20260423T113240
CREATED:20251105T030824Z
LAST-MODIFIED:20251105T030824Z
UID:27965-1762336800-1762347600@www.una.edu.ni
SUMMARY:Curso sobre procesamiento y transformación de lácteos
DESCRIPTION:
URL:https://www.una.edu.ni/event/curso-sobre-procesamiento-y-transformacion-de-lacteos/
LOCATION:Centro Universitario Regional UNA Juigalpa\, Juigapa
CATEGORIES:CURSO
END:VEVENT
BEGIN:VEVENT
DTSTART;TZID=America/Managua:20251105T100000
DTEND;TZID=America/Managua:20251105T130000
DTSTAMP:20260423T113240
CREATED:20251105T030920Z
LAST-MODIFIED:20251105T030920Z
UID:27967-1762336800-1762347600@www.una.edu.ni
SUMMARY:Curso sobre logística aduanera para la exportación
DESCRIPTION:
URL:https://www.una.edu.ni/event/curso-sobre-logistica-aduanera-para-la-exportacion/
LOCATION:Universidad Nacional Agraria\, Managua\, km 12 1/2\, Managua\, Nicaragua
CATEGORIES:CURSO
END:VEVENT
BEGIN:VEVENT
DTSTART;TZID=America/Managua:20251105T100000
DTEND;TZID=America/Managua:20251105T130000
DTSTAMP:20260423T113240
CREATED:20251105T031313Z
LAST-MODIFIED:20251105T031313Z
UID:27973-1762336800-1762347600@www.una.edu.ni
SUMMARY:Taller sobre Elaboración de suplementos multinutricionales para bovinos
DESCRIPTION:
URL:https://www.una.edu.ni/event/taller-sobre-elaboracion-de-suplementos-multinutricionales-para-bovinos/
LOCATION:UNICAM San Pedro del Norte\, Nicaragua
CATEGORIES:TALLER
END:VEVENT
END:VCALENDAR