BEGIN:VCALENDAR
VERSION:2.0
PRODID:-//Universidad Nacional Agraria - ECPv6.15.20//NONSGML v1.0//EN
CALSCALE:GREGORIAN
METHOD:PUBLISH
X-WR-CALNAME:Universidad Nacional Agraria
X-ORIGINAL-URL:https://www.una.edu.ni
X-WR-CALDESC:Eventos para Universidad Nacional Agraria
REFRESH-INTERVAL;VALUE=DURATION:PT1H
X-Robots-Tag:noindex
X-PUBLISHED-TTL:PT1H
BEGIN:VTIMEZONE
TZID:America/Managua
BEGIN:STANDARD
TZOFFSETFROM:-0600
TZOFFSETTO:-0600
TZNAME:CST
DTSTART:20240101T000000
END:STANDARD
END:VTIMEZONE
BEGIN:VTIMEZONE
TZID:Europe/Madrid
BEGIN:DAYLIGHT
TZOFFSETFROM:+0100
TZOFFSETTO:+0200
TZNAME:CEST
DTSTART:20240331T010000
END:DAYLIGHT
BEGIN:STANDARD
TZOFFSETFROM:+0200
TZOFFSETTO:+0100
TZNAME:CET
DTSTART:20241027T010000
END:STANDARD
BEGIN:DAYLIGHT
TZOFFSETFROM:+0100
TZOFFSETTO:+0200
TZNAME:CEST
DTSTART:20250330T010000
END:DAYLIGHT
BEGIN:STANDARD
TZOFFSETFROM:+0200
TZOFFSETTO:+0100
TZNAME:CET
DTSTART:20251026T010000
END:STANDARD
BEGIN:DAYLIGHT
TZOFFSETFROM:+0100
TZOFFSETTO:+0200
TZNAME:CEST
DTSTART:20260329T010000
END:DAYLIGHT
BEGIN:STANDARD
TZOFFSETFROM:+0200
TZOFFSETTO:+0100
TZNAME:CET
DTSTART:20261025T010000
END:STANDARD
END:VTIMEZONE
BEGIN:VEVENT
DTSTART;TZID=America/Managua:20251110T080000
DTEND;TZID=America/Managua:20251110T120000
DTSTAMP:20260423T113238
CREATED:20251110T142427Z
LAST-MODIFIED:20251110T142427Z
UID:28012-1762761600-1762776000@www.una.edu.ni
SUMMARY:Diplomado sobre alternativas nutricionales para la alimentación porcina sostenible
DESCRIPTION:
URL:https://www.una.edu.ni/event/diplomado-sobre-alternativas-nutricionales-para-la-alimentacion-porcina-sostenible/
LOCATION:Universidad Nacional Agraria\, Managua\, km 12 1/2\, Managua\, Nicaragua
CATEGORIES:DIPLOMADO
END:VEVENT
BEGIN:VEVENT
DTSTART;TZID=America/Managua:20251110T080000
DTEND;TZID=America/Managua:20251110T120000
DTSTAMP:20260423T113238
CREATED:20251110T142529Z
LAST-MODIFIED:20251110T142529Z
UID:28014-1762761600-1762776000@www.una.edu.ni
SUMMARY:Encuentro con productores y estudiantes sobre Manejo agronómico de frijol genéticamente mejorado
DESCRIPTION:
URL:https://www.una.edu.ni/event/encuentro-con-productores-y-estudiantes-sobre-manejo-agronomico-de-frijol-geneticamente-mejorado/
LOCATION:Centro Universitario “Don Orlando”\, Niquinohomo\, Nicaragua
CATEGORIES:ENCUENTRO
END:VEVENT
BEGIN:VEVENT
DTSTART;TZID=America/Managua:20251110T090000
DTEND;TZID=America/Managua:20251110T120000
DTSTAMP:20260423T113238
CREATED:20251110T142637Z
LAST-MODIFIED:20251110T142637Z
UID:28016-1762765200-1762776000@www.una.edu.ni
SUMMARY:Panel sobre Buenas prácticas de manufactura en los procesos de transformación cárnica
DESCRIPTION:
URL:https://www.una.edu.ni/event/panel-sobre-buenas-practicas-de-manufactura-en-los-procesos-de-transformacion-carnica/
LOCATION:Universidad Nacional Agraria\, Managua\, km 12 1/2\, Managua\, Nicaragua
CATEGORIES:PANEL
END:VEVENT
BEGIN:VEVENT
DTSTART;TZID=America/Managua:20251110T090000
DTEND;TZID=America/Managua:20251110T120000
DTSTAMP:20260423T113238
CREATED:20251110T142845Z
LAST-MODIFIED:20251110T142845Z
UID:28020-1762765200-1762776000@www.una.edu.ni
SUMMARY:Taller sobre Análisis de modelos acuapónicos
DESCRIPTION:
URL:https://www.una.edu.ni/event/taller-sobre-analisis-de-modelos-acuaponicos/
LOCATION:Universidad Nacional Agraria\, Managua\, km 12 1/2\, Managua\, Nicaragua
CATEGORIES:TALLER
END:VEVENT
BEGIN:VEVENT
DTSTART;TZID=America/Managua:20251110T140000
DTEND;TZID=America/Managua:20251110T170000
DTSTAMP:20260423T113238
CREATED:20251110T142745Z
LAST-MODIFIED:20251110T142745Z
UID:28018-1762783200-1762794000@www.una.edu.ni
SUMMARY:Taller sobre Manejo zoosanitario de réptiles
DESCRIPTION:
URL:https://www.una.edu.ni/event/taller-sobre-manejo-zoosanitario-de-reptiles/
LOCATION:Universidad Nacional Agraria\, Managua\, km 12 1/2\, Managua\, Nicaragua
CATEGORIES:TALLER
END:VEVENT
BEGIN:VEVENT
DTSTART;TZID=America/Managua:20251111T080000
DTEND;TZID=America/Managua:20251111T120000
DTSTAMP:20260423T113238
CREATED:20251111T151838Z
LAST-MODIFIED:20251111T151838Z
UID:28150-1762848000-1762862400@www.una.edu.ni
SUMMARY:Diplomado sobre costos de producción en la transformación de marango
DESCRIPTION:
URL:https://www.una.edu.ni/event/diplomado-sobre-costos-de-produccion-en-la-transformacion-de-marango/
LOCATION:Centro de Desarrollo Moringa Comandante Fidel\, municipio de León\, Nicaragua
CATEGORIES:DIPLOMADO
END:VEVENT
BEGIN:VEVENT
DTSTART;TZID=America/Managua:20251111T080000
DTEND;TZID=America/Managua:20251111T120000
DTSTAMP:20260423T113238
CREATED:20251111T151932Z
LAST-MODIFIED:20251111T151932Z
UID:28152-1762848000-1762862400@www.una.edu.ni
SUMMARY:Encuentro con estudiantes y productores sobre Tecnologías modernas para el manejo de granjas porcinas
DESCRIPTION:
URL:https://www.una.edu.ni/event/encuentro-con-estudiantes-y-productores-sobre-tecnologias-modernas-para-el-manejo-de-granjas-porcinas/
LOCATION:Universidad Nacional Agraria\, Managua\, km 12 1/2\, Managua\, Nicaragua
CATEGORIES:ENCUENTRO
END:VEVENT
BEGIN:VEVENT
DTSTART;TZID=America/Managua:20251111T090000
DTEND;TZID=America/Managua:20251111T120000
DTSTAMP:20260423T113238
CREATED:20251111T152027Z
LAST-MODIFIED:20251111T152027Z
UID:28154-1762851600-1762862400@www.una.edu.ni
SUMMARY:Conferencia sobre producción sostenible del cultivo de cacao
DESCRIPTION:
URL:https://www.una.edu.ni/event/conferencia-sobre-produccion-sostenible-del-cultivo-de-cacao/
LOCATION:Universidad Nacional Agraria\, Managua\, km 12 1/2\, Managua\, Nicaragua
CATEGORIES:CONFERENCIA
END:VEVENT
BEGIN:VEVENT
DTSTART;TZID=America/Managua:20251111T100000
DTEND;TZID=America/Managua:20251111T120000
DTSTAMP:20260423T113238
CREATED:20251111T151744Z
LAST-MODIFIED:20251111T151744Z
UID:28148-1762855200-1762862400@www.una.edu.ni
SUMMARY:Curso sobre Técnicas modernas de apicultura
DESCRIPTION:
URL:https://www.una.edu.ni/event/curso-sobre-tecnicas-modernas-de-apicultura/
LOCATION:UNICAM Boaco Viejo\, Nicaragua
CATEGORIES:CURSO
END:VEVENT
BEGIN:VEVENT
DTSTART;TZID=America/Managua:20251112T080000
DTEND;TZID=America/Managua:20251112T120000
DTSTAMP:20260423T113238
CREATED:20251112T141235Z
LAST-MODIFIED:20251112T141235Z
UID:28355-1762934400-1762948800@www.una.edu.ni
SUMMARY:Diplomado sobre inventario forestal de plantaciones de marango
DESCRIPTION:
URL:https://www.una.edu.ni/event/diplomado-sobre-inventario-forestal-de-plantaciones-de-marango/
LOCATION:Centro de Desarrollo Moringa Comandante Fidel\, municipio de León\, Nicaragua
CATEGORIES:DIPLOMADO
END:VEVENT
BEGIN:VEVENT
DTSTART;TZID=America/Managua:20251112T080000
DTEND;TZID=America/Managua:20251112T120000
DTSTAMP:20260423T113238
CREATED:20251112T141349Z
LAST-MODIFIED:20251112T141349Z
UID:28357-1762934400-1762948800@www.una.edu.ni
SUMMARY:Diplomado sobre Emprendimientos en cafeterías rentables
DESCRIPTION:
URL:https://www.una.edu.ni/event/diplomado-sobre-emprendimientos-en-cafeterias-rentables/
LOCATION:Palacio de Bellas Artes\, Nicaragua
CATEGORIES:DIPLOMADO
END:VEVENT
BEGIN:VEVENT
DTSTART;TZID=America/Managua:20251112T080000
DTEND;TZID=America/Managua:20251112T120000
DTSTAMP:20260423T113238
CREATED:20251112T141503Z
LAST-MODIFIED:20251112T141503Z
UID:28360-1762934400-1762948800@www.una.edu.ni
SUMMARY:Curso sobre Diseño agroturístico de fincas productivas
DESCRIPTION:
URL:https://www.una.edu.ni/event/curso-sobre-diseno-agroturistico-de-fincas-productivas/
LOCATION:Centro Universitario Regional UNA Camoapa\, Camoapa
CATEGORIES:CURSO
END:VEVENT
BEGIN:VEVENT
DTSTART;TZID=America/Managua:20251112T080000
DTEND;TZID=America/Managua:20251112T120000
DTSTAMP:20260423T113238
CREATED:20251112T141903Z
LAST-MODIFIED:20251112T141904Z
UID:28367-1762934400-1762948800@www.una.edu.ni
SUMMARY:Establecimiento de vivero forestal en el marco de la Campaña “Verde que te quiero verde”
DESCRIPTION:
URL:https://www.una.edu.ni/event/establecimiento-de-vivero-forestal-en-el-marco-de-la-campana-verde-que-te-quiero-verde/
LOCATION:Universidad Nacional Agraria\, Managua\, km 12 1/2\, Managua\, Nicaragua
CATEGORIES:OTROS
END:VEVENT
BEGIN:VEVENT
DTSTART;TZID=America/Managua:20251112T090000
DTEND;TZID=America/Managua:20251112T120000
DTSTAMP:20260423T113238
CREATED:20251112T141001Z
LAST-MODIFIED:20251112T141001Z
UID:28351-1762938000-1762948800@www.una.edu.ni
SUMMARY:Inauguración de arboretum
DESCRIPTION:
URL:https://www.una.edu.ni/event/inauguracion-de-arboretum/
LOCATION:Universidad Nacional Agraria\, Managua\, km 12 1/2\, Managua\, Nicaragua
CATEGORIES:INAUGURACIÓN
END:VEVENT
BEGIN:VEVENT
DTSTART;TZID=Europe/Madrid:20251112T090000
DTEND;TZID=Europe/Madrid:20251112T120000
DTSTAMP:20260423T113238
CREATED:20251112T141132Z
LAST-MODIFIED:20251112T141132Z
UID:28353-1762938000-1762948800@www.una.edu.ni
SUMMARY:Lanzamiento e inicio del Diplomado en valor agregado y transformación de plátano
DESCRIPTION:
URL:https://www.una.edu.ni/event/lanzamiento-e-inicio-del-diplomado-en-valor-agregado-y-transformacion-de-platano/
LOCATION:Centro Universitario Regional UNA Juigalpa\, Juigapa
CATEGORIES:LANZAMIENTO
END:VEVENT
BEGIN:VEVENT
DTSTART;TZID=America/Managua:20251112T090000
DTEND;TZID=America/Managua:20251112T120000
DTSTAMP:20260423T113238
CREATED:20251112T141629Z
LAST-MODIFIED:20251112T141629Z
UID:28363-1762938000-1762948800@www.una.edu.ni
SUMMARY:Conferencia científica sobre tratamiento de enfermedades en caninos y felinos
DESCRIPTION:
URL:https://www.una.edu.ni/event/conferencia-cientifica-sobre-tratamiento-de-enfermedades-en-caninos-y-felinos/
LOCATION:Universidad Nacional Agraria\, Managua\, km 12 1/2\, Managua\, Nicaragua
CATEGORIES:CONFERENCIA
END:VEVENT
BEGIN:VEVENT
DTSTART;TZID=America/Managua:20251112T100000
DTEND;TZID=America/Managua:20251112T120000
DTSTAMP:20260423T113238
CREATED:20251112T141729Z
LAST-MODIFIED:20251112T141729Z
UID:28365-1762941600-1762948800@www.una.edu.ni
SUMMARY:Taller sobre Manejo zoosanitario de granjas porcinas
DESCRIPTION:
URL:https://www.una.edu.ni/event/taller-sobre-manejo-zoosanitario-de-granjas-porcinas-2/
LOCATION:Programa Porcino “Cocibolca”\, Nicaragua
CATEGORIES:TALLER
END:VEVENT
BEGIN:VEVENT
DTSTART;TZID=America/Managua:20251112T100000
DTEND;TZID=America/Managua:20251112T120000
DTSTAMP:20260423T113238
CREATED:20251112T214425Z
LAST-MODIFIED:20251112T214425Z
UID:28373-1762941600-1762948800@www.una.edu.ni
SUMMARY:Inauguración de Zoocriadero “Mi Universidad verde”
DESCRIPTION:
URL:https://www.una.edu.ni/event/inauguracion-de-zoocriadero-mi-universidad-verde/
LOCATION:Centro Universitario Regional UNA Juigalpa\, Juigapa
CATEGORIES:INAUGURACIÓN
END:VEVENT
BEGIN:VEVENT
DTSTART;TZID=America/Managua:20251113T080000
DTEND;TZID=America/Managua:20251113T120000
DTSTAMP:20260423T113238
CREATED:20251112T215317Z
LAST-MODIFIED:20251112T215317Z
UID:28386-1763020800-1763035200@www.una.edu.ni
SUMMARY:Congreso estudiantil de Medicina Veterinaria\, en conmemoración al Natalicio del Comandante Gaspar García Laviana
DESCRIPTION:
URL:https://www.una.edu.ni/event/congreso-estudiantil-de-medicina-veterinaria-en-conmemoracion-al-natalicio-del-comandante-gaspar-garcia-laviana/
LOCATION:Universidad Nacional Agraria\, Managua\, km 12 1/2\, Managua\, Nicaragua
CATEGORIES:CONGRESO
END:VEVENT
BEGIN:VEVENT
DTSTART;TZID=America/Managua:20251113T090000
DTEND;TZID=America/Managua:20251113T120000
DTSTAMP:20260423T113238
CREATED:20251112T214316Z
LAST-MODIFIED:20251112T214316Z
UID:28371-1763024400-1763035200@www.una.edu.ni
SUMMARY:Graduación de protagonistas del Diplomado de Tecnologías productivas
DESCRIPTION:
URL:https://www.una.edu.ni/event/graduacion-de-protagonistas-del-diplomado-de-tecnologias-productivas/
LOCATION:UNICAM San Francisco Libre\, Nicaragua
CATEGORIES:GRADUACIÓN
END:VEVENT
BEGIN:VEVENT
DTSTART;TZID=America/Managua:20251113T090000
DTEND;TZID=America/Managua:20251113T120000
DTSTAMP:20260423T113238
CREATED:20251112T214921Z
LAST-MODIFIED:20251112T214921Z
UID:28380-1763024400-1763035200@www.una.edu.ni
SUMMARY:Diplomado sobre inseminación artificial en bovinos
DESCRIPTION:
URL:https://www.una.edu.ni/event/diplomado-sobre-inseminacion-artificial-en-bovinos/
LOCATION:Centro Universitario Regional UNA Camoapa\, Camoapa
CATEGORIES:DIPLOMADO
END:VEVENT
BEGIN:VEVENT
DTSTART;TZID=America/Managua:20251113T090000
DTEND;TZID=America/Managua:20251113T120000
DTSTAMP:20260423T113238
CREATED:20251112T215043Z
LAST-MODIFIED:20251112T215043Z
UID:28382-1763024400-1763035200@www.una.edu.ni
SUMMARY:Diplomado sobre inseminación artificial en porcinos
DESCRIPTION:
URL:https://www.una.edu.ni/event/diplomado-sobre-inseminacion-artificial-en-porcinos/
LOCATION:Centro Universitario Regional UNA Camoapa\, Camoapa
CATEGORIES:DIPLOMADO
END:VEVENT
BEGIN:VEVENT
DTSTART;TZID=America/Managua:20251113T090000
DTEND;TZID=America/Managua:20251113T120000
DTSTAMP:20260423T113238
CREATED:20251112T215204Z
LAST-MODIFIED:20251112T215204Z
UID:28384-1763024400-1763035200@www.una.edu.ni
SUMMARY:Foro veterinario “Ciencia y compromiso con la salud animal”
DESCRIPTION:
URL:https://www.una.edu.ni/event/foro-veterinario-ciencia-y-compromiso-con-la-salud-animal/
LOCATION:Centro Universitario Regional UNA Camoapa\, Camoapa
CATEGORIES:FORO
END:VEVENT
BEGIN:VEVENT
DTSTART;TZID=America/Managua:20251113T090000
DTEND;TZID=America/Managua:20251113T120000
DTSTAMP:20260423T113238
CREATED:20251112T215519Z
LAST-MODIFIED:20251112T215519Z
UID:28388-1763024400-1763035200@www.una.edu.ni
SUMMARY:Taller sobre Biotecnología de la reproducción porcina
DESCRIPTION:
URL:https://www.una.edu.ni/event/taller-sobre-biotecnologia-de-la-reproduccion-porcina/
LOCATION:Programa Porcino “Cocibolca”\, Nicaragua
CATEGORIES:TALLER
END:VEVENT
BEGIN:VEVENT
DTSTART;TZID=America/Managua:20251113T090000
DTEND;TZID=America/Managua:20251113T120000
DTSTAMP:20260423T113238
CREATED:20251112T215717Z
LAST-MODIFIED:20251112T215717Z
UID:28390-1763024400-1763035200@www.una.edu.ni
SUMMARY:Feria “Cacao y café\, tradición nicaragüense”\, presentación\, degustación y barismo de café y cacao
DESCRIPTION:
URL:https://www.una.edu.ni/event/feria-cacao-y-cafe-tradicion-nicaraguense-presentacion-degustacion-y-barismo-de-cafe-y-cacao/
LOCATION:Centro Universitario “Padre y Comandante Camilo Tórres Restrepo”\, Matagalpa\, Nicaragua
CATEGORIES:FERIA
END:VEVENT
BEGIN:VEVENT
DTSTART;TZID=America/Managua:20251113T090000
DTEND;TZID=America/Managua:20251113T120000
DTSTAMP:20260423T113238
CREATED:20251112T215829Z
LAST-MODIFIED:20251112T215829Z
UID:28392-1763024400-1763035200@www.una.edu.ni
SUMMARY:Feria Vocacional “Una experiencia agraria”
DESCRIPTION:
URL:https://www.una.edu.ni/event/feria-vocacional-una-experiencia-agraria/
LOCATION:Universidad Nacional Agraria\, Managua\, km 12 1/2\, Managua\, Nicaragua
CATEGORIES:FERIA
END:VEVENT
BEGIN:VEVENT
DTSTART;TZID=America/Managua:20251113T100000
DTEND;TZID=America/Managua:20251113T130000
DTSTAMP:20260423T113238
CREATED:20251112T215946Z
LAST-MODIFIED:20251112T215946Z
UID:28394-1763028000-1763038800@www.una.edu.ni
SUMMARY:Establecimiento de huertos escolares en el marco de la Campaña “Verde que te quiero verde”
DESCRIPTION:
URL:https://www.una.edu.ni/event/establecimiento-de-huertos-escolares-en-el-marco-de-la-campana-verde-que-te-quiero-verde/
LOCATION:UNICAM San Pedro de Lóvago\, Nicaragua
CATEGORIES:OTROS
END:VEVENT
BEGIN:VEVENT
DTSTART;TZID=America/Managua:20251113T110000
DTEND;TZID=America/Managua:20251113T130000
DTSTAMP:20260423T113238
CREATED:20251112T214754Z
LAST-MODIFIED:20251112T214754Z
UID:28377-1763031600-1763038800@www.una.edu.ni
SUMMARY:Sesión No. 41 del Diplomado de Tecnologías productivas\, con el tema “Nuevas tendencias e innovaciones para la producción de café especial”
DESCRIPTION:
URL:https://www.una.edu.ni/event/sesion-no-41-del-diplomado-de-tecnologias-productivas-con-el-tema-nuevas-tendencias-e-innovaciones-para-la-produccion-de-cafe-especial/
LOCATION:Plataforma UALN\, Nicaragua
CATEGORIES:DIPLOMADO
END:VEVENT
BEGIN:VEVENT
DTSTART;TZID=America/Managua:20251113T130000
DTEND;TZID=America/Managua:20251113T170000
DTSTAMP:20260423T113238
CREATED:20251112T214621Z
LAST-MODIFIED:20251112T214621Z
UID:28375-1763038800-1763053200@www.una.edu.ni
SUMMARY:Entrega de certificados a participantes del Diplomado sobre Valor agregado de marango
DESCRIPTION:
URL:https://www.una.edu.ni/event/entrega-de-certificados-a-participantes-del-diplomado-sobre-valor-agregado-de-marango/
LOCATION:Centro de Desarrollo Moringa Comandante Fidel\, municipio de León\, Nicaragua
CATEGORIES:OTROS
END:VEVENT
BEGIN:VEVENT
DTSTART;TZID=America/Managua:20251114T080000
DTEND;TZID=America/Managua:20251114T120000
DTSTAMP:20260423T113238
CREATED:20251113T150704Z
LAST-MODIFIED:20251113T150704Z
UID:28402-1763107200-1763121600@www.una.edu.ni
SUMMARY:Diplomado en café y tostaduría
DESCRIPTION:
URL:https://www.una.edu.ni/event/diplomado-en-cafe-y-tostaduria/
LOCATION:Museo del Café\, Jinotega\, Nicaragua
CATEGORIES:DIPLOMADO
END:VEVENT
END:VCALENDAR