BEGIN:VCALENDAR
VERSION:2.0
PRODID:-//Universidad Nacional Agraria - ECPv6.15.20//NONSGML v1.0//EN
CALSCALE:GREGORIAN
METHOD:PUBLISH
X-WR-CALNAME:Universidad Nacional Agraria
X-ORIGINAL-URL:https://www.una.edu.ni
X-WR-CALDESC:Eventos para Universidad Nacional Agraria
REFRESH-INTERVAL;VALUE=DURATION:PT1H
X-Robots-Tag:noindex
X-PUBLISHED-TTL:PT1H
BEGIN:VTIMEZONE
TZID:America/Managua
BEGIN:STANDARD
TZOFFSETFROM:-0600
TZOFFSETTO:-0600
TZNAME:CST
DTSTART:20240101T000000
END:STANDARD
END:VTIMEZONE
BEGIN:VEVENT
DTSTART;TZID=America/Managua:20251126T080000
DTEND;TZID=America/Managua:20251126T120000
DTSTAMP:20260423T113234
CREATED:20251124T191929Z
LAST-MODIFIED:20251125T154506Z
UID:28652-1764144000-1764158400@www.una.edu.ni
SUMMARY:Diplomado de Emprendimientos de cafeterías rentables
DESCRIPTION:
URL:https://www.una.edu.ni/event/diplomado-de-emprendimientos-de-cafeterias-rentables/
LOCATION:Palacio de Bellas Artes\, Carazo\, Nicaragua
CATEGORIES:DIPLOMADO
END:VEVENT
BEGIN:VEVENT
DTSTART;TZID=America/Managua:20251126T080000
DTEND;TZID=America/Managua:20251126T120000
DTSTAMP:20260423T113234
CREATED:20251124T192038Z
LAST-MODIFIED:20251124T192038Z
UID:28655-1764144000-1764158400@www.una.edu.ni
SUMMARY:Conferencia científica sobre Diagnóstico\, tratamiento\, prevención y control de enfermedades en mascotas
DESCRIPTION:
URL:https://www.una.edu.ni/event/conferencia-cientifica-sobre-diagnostico-tratamiento-prevencion-y-control-de-enfermedades-en-mascotas/
LOCATION:Universidad Nacional Agraria\, Managua\, km 12 1/2\, Managua\, Nicaragua
CATEGORIES:CONFERENCIA
END:VEVENT
BEGIN:VEVENT
DTSTART;TZID=America/Managua:20251126T100000
DTEND;TZID=America/Managua:20251126T120000
DTSTAMP:20260423T113234
CREATED:20251124T175750Z
LAST-MODIFIED:20251125T153835Z
UID:28645-1764151200-1764158400@www.una.edu.ni
SUMMARY:Panel: “Legado y memoria histórica de un héroe y su influencia en el pensamiento latinoamericano” en conmemoración del noveno Aniversario del Tránsito a la inmortalidad del Comandante Fidel Castro
DESCRIPTION:
URL:https://www.una.edu.ni/event/panel-legado-y-memoria-historica-de-un-heroe-y-su-influencia-en-el-pensamiento-latinoamericano-en-conmemoracion-del-noveno-aniversario-del-transito-a-la-inmortalidad-del-comandante/
LOCATION:Universidad Nacional Agraria\, Managua\, km 12 1/2\, Managua\, Nicaragua
CATEGORIES:PANEL
END:VEVENT
BEGIN:VEVENT
DTSTART;TZID=America/Managua:20251126T100000
DTEND;TZID=America/Managua:20251126T120000
DTSTAMP:20260423T113234
CREATED:20251124T192249Z
LAST-MODIFIED:20251124T192249Z
UID:28657-1764151200-1764158400@www.una.edu.ni
SUMMARY:Panel con especialistas sobre Producción orgánica en Nicaragua”
DESCRIPTION:
URL:https://www.una.edu.ni/event/panel-con-especialistas-sobre-produccion-organica-en-nicaragua/
LOCATION:Universidad Nacional Agraria\, Managua\, km 12 1/2\, Managua\, Nicaragua
CATEGORIES:PANEL
END:VEVENT
BEGIN:VEVENT
DTSTART;TZID=America/Managua:20251126T140000
DTEND;TZID=America/Managua:20251126T170000
DTSTAMP:20260423T113234
CREATED:20251124T191753Z
LAST-MODIFIED:20251124T191753Z
UID:28650-1764165600-1764176400@www.una.edu.ni
SUMMARY:Entrega de Certificados a protagonistas del Curso sobre Diagnóstico por imágenes
DESCRIPTION:
URL:https://www.una.edu.ni/event/entrega-de-certificados-a-protagonistas-del-curso-sobre-diagnostico-por-imagenes/
LOCATION:Universidad Nacional Agraria\, Managua\, km 12 1/2\, Managua\, Nicaragua
CATEGORIES:OTROS
END:VEVENT
BEGIN:VEVENT
DTSTART;TZID=America/Managua:20251127T080000
DTEND;TZID=America/Managua:20251127T120000
DTSTAMP:20260423T113234
CREATED:20251125T154941Z
LAST-MODIFIED:20251125T154941Z
UID:28668-1764230400-1764244800@www.una.edu.ni
SUMMARY:Diplomado en Caficultura sostenible y regenerativa”
DESCRIPTION:
URL:https://www.una.edu.ni/event/diplomado-en-caficultura-sostenible-y-regenerativa/
LOCATION:Escuela del Café\, Ocotal\, Nicaragua
CATEGORIES:DIPLOMADO
END:VEVENT
BEGIN:VEVENT
DTSTART;TZID=America/Managua:20251127T080000
DTEND;TZID=America/Managua:20251127T120000
DTSTAMP:20260423T113234
CREATED:20251125T155320Z
LAST-MODIFIED:20251125T155320Z
UID:28676-1764230400-1764244800@www.una.edu.ni
SUMMARY:Debate interactivo estudiantil sobre Técnicas modernas para garantizar la nutrición y alimentación bovina
DESCRIPTION:
URL:https://www.una.edu.ni/event/debate-interactivo-estudiantil-sobre-tecnicas-modernas-para-garantizar-la-nutricion-y-alimentacion-bovina/
LOCATION:Universidad Nacional Agraria\, Managua\, km 12 1/2\, Managua\, Nicaragua
CATEGORIES:DEBATE
END:VEVENT
BEGIN:VEVENT
DTSTART;TZID=America/Managua:20251127T080000
DTEND;TZID=America/Managua:20251127T120000
DTSTAMP:20260423T113234
CREATED:20251125T155438Z
LAST-MODIFIED:20251125T155438Z
UID:28678-1764230400-1764244800@www.una.edu.ni
SUMMARY:Feria de salud animal\, con atención a mascotas y ganado bovino
DESCRIPTION:
URL:https://www.una.edu.ni/event/feria-de-salud-animal-con-atencion-a-mascotas-y-ganado-bovino-2/
LOCATION:UNICAM Boaco Viejo\, Nicaragua
CATEGORIES:FERIA
END:VEVENT
BEGIN:VEVENT
DTSTART;TZID=America/Managua:20251127T083000
DTEND;TZID=America/Managua:20251127T120000
DTSTAMP:20260423T113234
CREATED:20251125T155020Z
LAST-MODIFIED:20251125T155020Z
UID:28670-1764232200-1764244800@www.una.edu.ni
SUMMARY:Curso sobre Tecnología y anatomía de la madera
DESCRIPTION:
URL:https://www.una.edu.ni/event/curso-sobre-tecnologia-y-anatomia-de-la-madera/
LOCATION:Universidad Nacional Agraria\, Managua\, km 12 1/2\, Managua\, Nicaragua
CATEGORIES:CURSO
END:VEVENT
BEGIN:VEVENT
DTSTART;TZID=America/Managua:20251127T083000
DTEND;TZID=America/Managua:20251127T120000
DTSTAMP:20260423T113234
CREATED:20251125T155118Z
LAST-MODIFIED:20251125T155118Z
UID:28672-1764232200-1764244800@www.una.edu.ni
SUMMARY:Curso sobre Sistemas de Información geográfica para el mapeo de cultivos agrícolas
DESCRIPTION:
URL:https://www.una.edu.ni/event/curso-sobre-sistemas-de-informacion-geografica-para-el-mapeo-de-cultivos-agricolas/
LOCATION:Universidad Nacional Agraria\, Managua\, km 12 1/2\, Managua\, Nicaragua
CATEGORIES:CURSO
END:VEVENT
BEGIN:VEVENT
DTSTART;TZID=America/Managua:20251127T083000
DTEND;TZID=America/Managua:20251127T120000
DTSTAMP:20260423T113234
CREATED:20251125T155215Z
LAST-MODIFIED:20251125T155215Z
UID:28674-1764232200-1764244800@www.una.edu.ni
SUMMARY:Encuentro técnico juvenil “Revolucionando la ciencia\, innovando en la producción agropecuaria”
DESCRIPTION:
URL:https://www.una.edu.ni/event/encuentro-tecnico-juvenil-revolucionando-la-ciencia-innovando-en-la-produccion-agropecuaria/
LOCATION:Universidad Nacional Agraria\, Managua\, km 12 1/2\, Managua\, Nicaragua
CATEGORIES:ENCUENTRO
END:VEVENT
BEGIN:VEVENT
DTSTART;TZID=America/Managua:20251127T090000
DTEND;TZID=America/Managua:20251127T120000
DTSTAMP:20260423T113234
CREATED:20251125T155526Z
LAST-MODIFIED:20251125T155526Z
UID:28680-1764234000-1764244800@www.una.edu.ni
SUMMARY:Feria académica pecuaria 2025 “Evolucionando el conocimiento y la ciencia para el desarrollo económico y social”
DESCRIPTION:
URL:https://www.una.edu.ni/event/feria-academica-pecuaria-2025-evolucionando-el-conocimiento-y-la-ciencia-para-el-desarrollo-economico-y-social/
LOCATION:Universidad Nacional Agraria\, Managua\, km 12 1/2\, Managua\, Nicaragua
CATEGORIES:FERIA
END:VEVENT
BEGIN:VEVENT
DTSTART;TZID=America/Managua:20251127T100000
DTEND;TZID=America/Managua:20251127T130000
DTSTAMP:20260423T113234
CREATED:20251125T154752Z
LAST-MODIFIED:20251125T154752Z
UID:28664-1764237600-1764248400@www.una.edu.ni
SUMMARY:Entrega de Certificados a protagonistas del Curso sobre Manejo de apiarios
DESCRIPTION:
URL:https://www.una.edu.ni/event/entrega-de-certificados-a-protagonistas-del-curso-sobre-manejo-de-apiarios/
LOCATION:UNICAM Esquipulas\, Nicaragua
CATEGORIES:OTROS
END:VEVENT
BEGIN:VEVENT
DTSTART;TZID=America/Managua:20251127T110000
DTEND;TZID=America/Managua:20251127T130000
DTSTAMP:20260423T113234
CREATED:20251125T154849Z
LAST-MODIFIED:20251125T154849Z
UID:28666-1764241200-1764248400@www.una.edu.ni
SUMMARY:Sesión No. 43 del Diplomado de Tecnologías productivas\, con el tema: “Mapa floral del café para la identificación de olores y sabores como criterios de la taza de excelencia”
DESCRIPTION:
URL:https://www.una.edu.ni/event/sesion-no-43-del-diplomado-de-tecnologias-productivas-con-el-tema-mapa-floral-del-cafe-para-la-identificacion-de-olores-y-sabores-como-criterios-de-la-taza-de-excelencia/
LOCATION:Plataforma UALN\, Nicaragua
CATEGORIES:DIPLOMADO
END:VEVENT
BEGIN:VEVENT
DTSTART;TZID=America/Managua:20251128T080000
DTEND;TZID=America/Managua:20251128T120000
DTSTAMP:20260423T113234
CREATED:20251126T143534Z
LAST-MODIFIED:20251126T143534Z
UID:28697-1764316800-1764331200@www.una.edu.ni
SUMMARY:Entrega de Certificados a protagonistas del Diplomado de Biotecnología de la reproducción porcina
DESCRIPTION:
URL:https://www.una.edu.ni/event/entrega-de-certificados-a-protagonistas-del-diplomado-de-biotecnologia-de-la-reproduccion-porcina/
LOCATION:Programa Porcino “Cocibolca”\, Nicaragua
CATEGORIES:OTROS
END:VEVENT
BEGIN:VEVENT
DTSTART;TZID=America/Managua:20251128T080000
DTEND;TZID=America/Managua:20251128T120000
DTSTAMP:20260423T113234
CREATED:20251126T143619Z
LAST-MODIFIED:20251126T143619Z
UID:28699-1764316800-1764331200@www.una.edu.ni
SUMMARY:Diplomado de Emprendimientos de cafeterías rentables
DESCRIPTION:
URL:https://www.una.edu.ni/event/diplomado-de-emprendimientos-de-cafeterias-rentables-2/
LOCATION:Museo del Café\, Jinotega\, Nicaragua
CATEGORIES:DIPLOMADO
END:VEVENT
BEGIN:VEVENT
DTSTART;TZID=America/Managua:20251128T080000
DTEND;TZID=America/Managua:20251128T120000
DTSTAMP:20260423T113234
CREATED:20251126T143811Z
LAST-MODIFIED:20251126T143811Z
UID:28703-1764316800-1764331200@www.una.edu.ni
SUMMARY:Simposio sobre avances científicos y tecnológicos en exámenes diagnósticos especializados
DESCRIPTION:
URL:https://www.una.edu.ni/event/simposio-sobre-avances-cientificos-y-tecnologicos-en-examenes-diagnosticos-especializados/
LOCATION:Universidad Nacional Agraria\, Managua\, km 12 1/2\, Managua\, Nicaragua
CATEGORIES:Simposio
END:VEVENT
BEGIN:VEVENT
DTSTART;TZID=America/Managua:20251128T080000
DTEND;TZID=America/Managua:20251128T120000
DTSTAMP:20260423T113234
CREATED:20251126T143906Z
LAST-MODIFIED:20251126T143906Z
UID:28705-1764316800-1764331200@www.una.edu.ni
SUMMARY:Foro sobre Protocolos de manejo zoo higiénico de sistemas de producción acuícola
DESCRIPTION:
URL:https://www.una.edu.ni/event/foro-sobre-protocolos-de-manejo-zoo-higienico-de-sistemas-de-produccion-acuicola/
LOCATION:Universidad Nacional Agraria\, Managua\, km 12 1/2\, Managua\, Nicaragua
CATEGORIES:FORO
END:VEVENT
BEGIN:VEVENT
DTSTART;TZID=America/Managua:20251128T083000
DTEND;TZID=America/Managua:20251128T120000
DTSTAMP:20260423T113234
CREATED:20251126T143316Z
LAST-MODIFIED:20251126T143316Z
UID:28693-1764318600-1764331200@www.una.edu.ni
SUMMARY:Presentación de variedades de maíz y frijol mejorados para incrementar productividad
DESCRIPTION:
URL:https://www.una.edu.ni/event/presentacion-de-variedades-de-maiz-y-frijol-mejorados-para-incrementar-productividad/
LOCATION:Universidad Nacional Agraria\, Managua\, km 12 1/2\, Managua\, Nicaragua
CATEGORIES:PRESENTACIÓN
END:VEVENT
BEGIN:VEVENT
DTSTART;TZID=America/Managua:20251128T083000
DTEND;TZID=America/Managua:20251128T120000
DTSTAMP:20260423T113234
CREATED:20251126T144139Z
LAST-MODIFIED:20251126T144139Z
UID:28707-1764318600-1764331200@www.una.edu.ni
SUMMARY:Feria académica pecuaria 2025 “Evolucionando el conocimiento y la ciencia para el desarrollo económico y social”
DESCRIPTION:
URL:https://www.una.edu.ni/event/feria-academica-pecuaria-2025-evolucionando-el-conocimiento-y-la-ciencia-para-el-desarrollo-economico-y-social-2/
LOCATION:Universidad Nacional Agraria\, Managua\, km 12 1/2\, Managua\, Nicaragua
CATEGORIES:FERIA
END:VEVENT
BEGIN:VEVENT
DTSTART;TZID=America/Managua:20251128T100000
DTEND;TZID=America/Managua:20251128T120000
DTSTAMP:20260423T113234
CREATED:20251126T143438Z
LAST-MODIFIED:20251126T143438Z
UID:28695-1764324000-1764331200@www.una.edu.ni
SUMMARY:Entrega de Certificados a protagonistas del Curso de contabilidad agropecuaria
DESCRIPTION:
URL:https://www.una.edu.ni/event/entrega-de-certificados-a-protagonistas-del-curso-de-contabilidad-agropecuaria/
LOCATION:Universidad Nacional Agraria\, Managua\, km 12 1/2\, Managua\, Nicaragua
CATEGORIES:OTROS
END:VEVENT
BEGIN:VEVENT
DTSTART;TZID=America/Managua:20251128T110000
DTEND;TZID=America/Managua:20251128T120000
DTSTAMP:20260423T113234
CREATED:20251126T143713Z
LAST-MODIFIED:20251126T143713Z
UID:28701-1764327600-1764331200@www.una.edu.ni
SUMMARY:Curso sobre restauración de suelos agrícolas
DESCRIPTION:
URL:https://www.una.edu.ni/event/curso-sobre-restauracion-de-suelos-agricolas/
LOCATION:Universidad Nacional Agraria\, Managua\, km 12 1/2\, Managua\, Nicaragua
CATEGORIES:CURSO
END:VEVENT
BEGIN:VEVENT
DTSTART;TZID=America/Managua:20251130T090000
DTEND;TZID=America/Managua:20251130T120000
DTSTAMP:20260423T113234
CREATED:20251126T144229Z
LAST-MODIFIED:20251126T144229Z
UID:28709-1764493200-1764504000@www.una.edu.ni
SUMMARY:Feria navideña agropecuaria\, con degustación de platillos de la época
DESCRIPTION:
URL:https://www.una.edu.ni/event/feria-navidena-agropecuaria-con-degustacion-de-platillos-de-la-epoca/
LOCATION:UNICAM Matiguás\, Nicaragua
CATEGORIES:FERIA
END:VEVENT
BEGIN:VEVENT
DTSTART;TZID=America/Managua:20251201T100000
DTEND;TZID=America/Managua:20251201T120000
DTSTAMP:20260423T113234
CREATED:20251201T144723Z
LAST-MODIFIED:20251201T144723Z
UID:28791-1764583200-1764590400@www.una.edu.ni
SUMMARY:Inauguración del Diplomado de Tecnología de la Madera
DESCRIPTION:
URL:https://www.una.edu.ni/event/inauguracion-del-diplomado-de-tecnologia-de-la-madera/
LOCATION:Universidad Nacional Agraria\, Managua\, km 12 1/2\, Managua\, Nicaragua
CATEGORIES:INAUGURACIÓN
END:VEVENT
BEGIN:VEVENT
DTSTART;TZID=America/Managua:20251201T130000
DTEND;TZID=America/Managua:20251201T170000
DTSTAMP:20260423T113234
CREATED:20251201T141659Z
LAST-MODIFIED:20251201T141659Z
UID:28739-1764594000-1764608400@www.una.edu.ni
SUMMARY:Presentación de Resultados en investigaciones sobre producción de peces en estanques
DESCRIPTION:
URL:https://www.una.edu.ni/event/presentacion-de-resultados-en-investigaciones-sobre-produccion-de-peces-en-estanques/
LOCATION:Universidad Nacional Agraria\, Managua\, km 12 1/2\, Managua\, Nicaragua
CATEGORIES:PRESENTACIÓN
END:VEVENT
BEGIN:VEVENT
DTSTART;TZID=America/Managua:20251202T080000
DTEND;TZID=America/Managua:20251202T120000
DTSTAMP:20260423T113234
CREATED:20251201T141901Z
LAST-MODIFIED:20251201T141901Z
UID:28743-1764662400-1764676800@www.una.edu.ni
SUMMARY:Curso especializado sobre elaboración de quesos y derivados lácteos
DESCRIPTION:
URL:https://www.una.edu.ni/event/curso-especializado-sobre-elaboracion-de-quesos-y-derivados-lacteos/
LOCATION:Centro Universitario Regional UNA Juigalpa\, Juigapa
CATEGORIES:CURSO
END:VEVENT
BEGIN:VEVENT
DTSTART;TZID=America/Managua:20251202T080000
DTEND;TZID=America/Managua:20251202T120000
DTSTAMP:20260423T113234
CREATED:20251201T141952Z
LAST-MODIFIED:20251201T141952Z
UID:28745-1764662400-1764676800@www.una.edu.ni
SUMMARY:Encuentro con productores sobre manejo agronómico y sanitario de cultivos de frijol
DESCRIPTION:
URL:https://www.una.edu.ni/event/encuentro-con-productores-sobre-manejo-agronomico-y-sanitario-de-cultivos-de-frijol/
LOCATION:Centro Universitario “Don Orlando”\, Niquinohomo\, Nicaragua
CATEGORIES:ENCUENTRO
END:VEVENT
BEGIN:VEVENT
DTSTART;TZID=America/Managua:20251202T083000
DTEND;TZID=America/Managua:20251202T120000
DTSTAMP:20260423T113234
CREATED:20251201T142058Z
LAST-MODIFIED:20251201T142058Z
UID:28747-1764664200-1764676800@www.una.edu.ni
SUMMARY:Taller sobre Técnicas de producción de pastos para alimentación animal
DESCRIPTION:
URL:https://www.una.edu.ni/event/taller-sobre-tecnicas-de-produccion-de-pastos-para-alimentacion-animal/
LOCATION:Universidad Nacional Agraria\, Managua\, km 12 1/2\, Managua\, Nicaragua
CATEGORIES:TALLER
END:VEVENT
BEGIN:VEVENT
DTSTART;TZID=America/Managua:20251202T090000
DTEND;TZID=America/Managua:20251202T120000
DTSTAMP:20260423T113234
CREATED:20251201T141809Z
LAST-MODIFIED:20251201T141809Z
UID:28741-1764666000-1764676800@www.una.edu.ni
SUMMARY:Entrega de Certificados a participantes del Diplomado en Tecnologías digitales para producción agrícola
DESCRIPTION:
URL:https://www.una.edu.ni/event/entrega-de-certificados-a-participantes-del-diplomado-en-tecnologias-digitales-para-produccion-agricola/
LOCATION:UNICAM Jinotega\, Nicaragua
CATEGORIES:OTROS
END:VEVENT
BEGIN:VEVENT
DTSTART;TZID=America/Managua:20251203T080000
DTEND;TZID=America/Managua:20251203T120000
DTSTAMP:20260423T113234
CREATED:20251201T142426Z
LAST-MODIFIED:20251201T142426Z
UID:28751-1764748800-1764763200@www.una.edu.ni
SUMMARY:Diplomado sobre Emprendimientos de cafeterías rentables
DESCRIPTION:
URL:https://www.una.edu.ni/event/diplomado-sobre-emprendimientos-de-cafeterias-rentables/
LOCATION:Palacio de Bellas Artes\, Carazo\, Nicaragua
CATEGORIES:DIPLOMADO
END:VEVENT
END:VCALENDAR