BEGIN:VCALENDAR
VERSION:2.0
PRODID:-//Universidad Nacional Agraria - ECPv6.15.20//NONSGML v1.0//EN
CALSCALE:GREGORIAN
METHOD:PUBLISH
X-WR-CALNAME:Universidad Nacional Agraria
X-ORIGINAL-URL:https://www.una.edu.ni
X-WR-CALDESC:Eventos para Universidad Nacional Agraria
REFRESH-INTERVAL;VALUE=DURATION:PT1H
X-Robots-Tag:noindex
X-PUBLISHED-TTL:PT1H
BEGIN:VTIMEZONE
TZID:America/Managua
BEGIN:STANDARD
TZOFFSETFROM:-0600
TZOFFSETTO:-0600
TZNAME:CST
DTSTART:20250101T000000
END:STANDARD
END:VTIMEZONE
BEGIN:VEVENT
DTSTART;TZID=America/Managua:20260114T090000
DTEND;TZID=America/Managua:20260114T120000
DTSTAMP:20260424T023256
CREATED:20260109T221848Z
LAST-MODIFIED:20260109T221848Z
UID:29241-1768381200-1768392000@www.una.edu.ni
SUMMARY:Encuentro con productores sobre Piscicultura como emprendimiento clave en la seguridad alimentaria
DESCRIPTION:
URL:https://www.una.edu.ni/event/encuentro-con-productores-sobre-piscicultura-como-emprendimiento-clave-en-la-seguridad-alimentaria/
LOCATION:Centro Universitario Regional UNA Camoapa\, Camoapa
CATEGORIES:ENCUENTRO
END:VEVENT
BEGIN:VEVENT
DTSTART;TZID=America/Managua:20260114T090000
DTEND;TZID=America/Managua:20260114T120000
DTSTAMP:20260424T023256
CREATED:20260109T221940Z
LAST-MODIFIED:20260109T221940Z
UID:29243-1768381200-1768392000@www.una.edu.ni
SUMMARY:Conferencia sobre Manejo de plagas en cultivos de cítricos
DESCRIPTION:
URL:https://www.una.edu.ni/event/conferencia-sobre-manejo-de-plagas-en-cultivos-de-citricos/
LOCATION:Universidad Nacional Agraria\, Managua\, km 12 1/2\, Managua\, Nicaragua
CATEGORIES:CONFERENCIA
END:VEVENT
BEGIN:VEVENT
DTSTART;TZID=America/Managua:20260114T090000
DTEND;TZID=America/Managua:20260114T120000
DTSTAMP:20260424T023256
CREATED:20260109T222037Z
LAST-MODIFIED:20260109T222037Z
UID:29245-1768381200-1768392000@www.una.edu.ni
SUMMARY:Taller sobre Procesamiento y agregación de valor de Marango
DESCRIPTION:
URL:https://www.una.edu.ni/event/taller-sobre-procesamiento-y-agregacion-de-valor-de-marango/
LOCATION:Centro de Desarrollo Moringa Comandante Fidel\, municipio de León\, Nicaragua
CATEGORIES:TALLER
END:VEVENT
BEGIN:VEVENT
DTSTART;TZID=America/Managua:20260114T100000
DTEND;TZID=America/Managua:20260114T120000
DTSTAMP:20260424T023256
CREATED:20260109T221745Z
LAST-MODIFIED:20260109T221745Z
UID:29238-1768384800-1768392000@www.una.edu.ni
SUMMARY:Inauguración de pabellón de aulas
DESCRIPTION:
URL:https://www.una.edu.ni/event/inauguracion-de-pabellon-de-aulas-2/
LOCATION:Centro Universitario Regional “Héroes de Chinandega”\, Nicaragua
CATEGORIES:INAUGURACIÓN
END:VEVENT
BEGIN:VEVENT
DTSTART;TZID=America/Managua:20260115T080000
DTEND;TZID=America/Managua:20260115T120000
DTSTAMP:20260424T023256
CREATED:20260112T164124Z
LAST-MODIFIED:20260112T164124Z
UID:29258-1768464000-1768478400@www.una.edu.ni
SUMMARY:Taller sobre Técnicas de establecimiento de cultivos de avena forrajera
DESCRIPTION:
URL:https://www.una.edu.ni/event/taller-sobre-tecnicas-de-establecimiento-de-cultivos-de-avena-forrajera/
LOCATION:Centro Universitario “Don Orlando”\, Niquinohomo\, Nicaragua
CATEGORIES:TALLER
END:VEVENT
BEGIN:VEVENT
DTSTART;TZID=America/Managua:20260115T080000
DTEND;TZID=America/Managua:20260115T120000
DTSTAMP:20260424T023256
CREATED:20260112T165852Z
LAST-MODIFIED:20260112T165852Z
UID:29260-1768464000-1768478400@www.una.edu.ni
SUMMARY:Taller sobre Establecimiento de hortalizas en Agricultura protegida
DESCRIPTION:
URL:https://www.una.edu.ni/event/taller-sobre-establecimiento-de-hortalizas-en-agricultura-protegida/
LOCATION:Centro Universitario “Don Orlando”\, Niquinohomo\, Nicaragua
CATEGORIES:TALLER
END:VEVENT
BEGIN:VEVENT
DTSTART;TZID=America/Managua:20260115T083000
DTEND;TZID=America/Managua:20260115T163000
DTSTAMP:20260424T023256
CREATED:20260112T150729Z
LAST-MODIFIED:20260112T150729Z
UID:29247-1768465800-1768494600@www.una.edu.ni
SUMMARY:Encuentro Nacional de Médicos Veterinarios fortaleciendo la actualización científica y técnica a través del intercambio de experiencias y conocimientos
DESCRIPTION:
URL:https://www.una.edu.ni/event/encuentro-nacional-de-medicos-veterinarios-fortaleciendo-la-actualizacion-cientifica-y-tecnica-a-traves-del-intercambio-de-experiencias-y-conocimientos/
LOCATION:Universidad Nacional Agraria\, Managua\, km 12 1/2\, Managua\, Nicaragua
CATEGORIES:ENCUENTRO
END:VEVENT
BEGIN:VEVENT
DTSTART;TZID=America/Managua:20260115T090000
DTEND;TZID=America/Managua:20260115T120000
DTSTAMP:20260424T023256
CREATED:20260112T151110Z
LAST-MODIFIED:20260112T151110Z
UID:29249-1768467600-1768478400@www.una.edu.ni
SUMMARY:Diplomado en Inseminación artificial bovina
DESCRIPTION:
URL:https://www.una.edu.ni/event/diplomado-en-inseminacion-artificial-bovina-2/
LOCATION:Centro Universitario Regional «Padre y Comandante Camilo Torres Restrepo”\, Matagalpa\, Nicaragua
CATEGORIES:DIPLOMADO
END:VEVENT
BEGIN:VEVENT
DTSTART;TZID=America/Managua:20260115T090000
DTEND;TZID=America/Managua:20260115T120000
DTSTAMP:20260424T023256
CREATED:20260112T163634Z
LAST-MODIFIED:20260112T163634Z
UID:29252-1768467600-1768478400@www.una.edu.ni
SUMMARY:Curso sobre Agro industrialización de harina de plátano
DESCRIPTION:
URL:https://www.una.edu.ni/event/curso-sobre-agro-industrializacion-de-harina-de-platano/
LOCATION:Centro Universitario Regional UNA Juigalpa\, Juigapa
CATEGORIES:CURSO
END:VEVENT
BEGIN:VEVENT
DTSTART;TZID=America/Managua:20260115T090000
DTEND;TZID=America/Managua:20260115T120000
DTSTAMP:20260424T023256
CREATED:20260112T163944Z
LAST-MODIFIED:20260112T163944Z
UID:29256-1768467600-1768478400@www.una.edu.ni
SUMMARY:Taller sobre Procesamiento y agregación de valor de Marango
DESCRIPTION:
URL:https://www.una.edu.ni/event/taller-sobre-procesamiento-y-agregacion-de-valor-de-marango-2/
LOCATION:Centro de Desarrollo Moringa Comandante Fidel\, municipio de León\, Nicaragua
END:VEVENT
BEGIN:VEVENT
DTSTART;TZID=America/Managua:20260115T140000
DTEND;TZID=America/Managua:20260115T170000
DTSTAMP:20260424T023256
CREATED:20260112T163748Z
LAST-MODIFIED:20260112T163748Z
UID:29254-1768485600-1768496400@www.una.edu.ni
SUMMARY:Encuentro con productores sobre Manejo nutricional de aves de patio
DESCRIPTION:
URL:https://www.una.edu.ni/event/encuentro-con-productores-sobre-manejo-nutricional-de-aves-de-patio/
LOCATION:UNICAM Muelle de los Bueyes\, Nicaragua
CATEGORIES:ENCUENTRO
END:VEVENT
BEGIN:VEVENT
DTSTART;TZID=America/Managua:20260116T083000
DTEND;TZID=America/Managua:20260116T120000
DTSTAMP:20260424T023256
CREATED:20260112T170026Z
LAST-MODIFIED:20260112T170026Z
UID:29262-1768552200-1768564800@www.una.edu.ni
SUMMARY:Lanzamiento de Diplomado sobre Uso de la Inteligencia artificial aplicada a la investigación científica
DESCRIPTION:
URL:https://www.una.edu.ni/event/lanzamiento-de-diplomado-sobre-uso-de-la-inteligencia-artificial-aplicada-a-la-investigacion-cientifica/
LOCATION:Universidad Nacional Agraria\, Managua\, km 12 1/2\, Managua\, Nicaragua
CATEGORIES:LANZAMIENTO
END:VEVENT
BEGIN:VEVENT
DTSTART;TZID=America/Managua:20260116T090000
DTEND;TZID=America/Managua:20260116T120000
DTSTAMP:20260424T023256
CREATED:20260112T171021Z
LAST-MODIFIED:20260112T171021Z
UID:29269-1768554000-1768564800@www.una.edu.ni
SUMMARY:Taller sobre Procesamiento y agregación de valor de Marango
DESCRIPTION:
URL:https://www.una.edu.ni/event/taller-sobre-procesamiento-y-agregacion-de-valor-de-marango-3/
LOCATION:Centro de Desarrollo Moringa Comandante Fidel\, municipio de León\, Nicaragua
CATEGORIES:TALLER
END:VEVENT
BEGIN:VEVENT
DTSTART;TZID=America/Managua:20260116T090000
DTEND;TZID=America/Managua:20260116T120000
DTSTAMP:20260424T023256
CREATED:20260112T171336Z
LAST-MODIFIED:20260112T171336Z
UID:29273-1768554000-1768564800@www.una.edu.ni
SUMMARY:Gala cultural en conmemoración del Poeta
DESCRIPTION:
URL:https://www.una.edu.ni/event/gala-cultural-en-conmemoracion-del-poeta/
LOCATION:Universidad Nacional Agraria\, Managua\, km 12 1/2\, Managua\, Nicaragua
CATEGORIES:OTROS
END:VEVENT
BEGIN:VEVENT
DTSTART;TZID=America/Managua:20260116T100000
DTEND;TZID=America/Managua:20260116T130000
DTSTAMP:20260424T023256
CREATED:20260112T170258Z
LAST-MODIFIED:20260112T170258Z
UID:29264-1768557600-1768568400@www.una.edu.ni
SUMMARY:Entrega de Certificados a 300 protagonistas del Diplomado en Tecnologías productivas
DESCRIPTION:
URL:https://www.una.edu.ni/event/entrega-de-certificados-a-300-protagonistas-del-diplomado-en-tecnologias-productivas/
LOCATION:Casa de la cultura\, Nandaime\, Nicaragua
CATEGORIES:OTROS
END:VEVENT
BEGIN:VEVENT
DTSTART;TZID=America/Managua:20260116T100000
DTEND;TZID=America/Managua:20260116T130000
DTSTAMP:20260424T023256
CREATED:20260112T171219Z
LAST-MODIFIED:20260112T171219Z
UID:29271-1768557600-1768568400@www.una.edu.ni
SUMMARY:Taller sobre Buenas prácticas de ordeño
DESCRIPTION:
URL:https://www.una.edu.ni/event/taller-sobre-buenas-practicas-de-ordeno-3/
LOCATION:Centro Universitario Regional UNA Juigalpa\, Juigapa
CATEGORIES:TALLER
END:VEVENT
BEGIN:VEVENT
DTSTART;TZID=America/Managua:20260116T140000
DTEND;TZID=America/Managua:20260116T170000
DTSTAMP:20260424T023256
CREATED:20260112T170427Z
LAST-MODIFIED:20260112T170427Z
UID:29267-1768572000-1768582800@www.una.edu.ni
SUMMARY:Intercambio de experiencias con productores sobre valor agregado de productos lácteos
DESCRIPTION:
URL:https://www.una.edu.ni/event/intercambio-de-experiencias-con-productores-sobre-valor-agregado-de-productos-lacteos/
LOCATION:Centro Universitario Regional UNA Juigalpa\, Juigapa
CATEGORIES:OTROS
END:VEVENT
BEGIN:VEVENT
DTSTART;TZID=America/Managua:20260117T083000
DTEND;TZID=America/Managua:20260117T120000
DTSTAMP:20260424T023256
CREATED:20260116T203853Z
LAST-MODIFIED:20260116T203853Z
UID:29296-1768638600-1768651200@www.una.edu.ni
SUMMARY:Lanzamiento e inicio de Especialidad en Medicina veterinaria preventiva
DESCRIPTION:
URL:https://www.una.edu.ni/event/lanzamiento-e-inicio-de-especialidad-en-medicina-veterinaria-preventiva/
LOCATION:Universidad Nacional Agraria\, Managua\, km 12 1/2\, Managua\, Nicaragua
CATEGORIES:LANZAMIENTO
END:VEVENT
BEGIN:VEVENT
DTSTART;TZID=America/Managua:20260117T090000
DTEND;TZID=America/Managua:20260117T120000
DTSTAMP:20260424T023256
CREATED:20260116T204205Z
LAST-MODIFIED:20260116T204205Z
UID:29298-1768640400-1768651200@www.una.edu.ni
SUMMARY:Taller sobre Elaboración de abonos orgánicos
DESCRIPTION:
URL:https://www.una.edu.ni/event/taller-sobre-elaboracion-de-abonos-organicos-2/
LOCATION:UNICAM Boaco Viejo\, Nicaragua
CATEGORIES:TALLER
END:VEVENT
BEGIN:VEVENT
DTSTART;TZID=America/Managua:20260117T100000
DTEND;TZID=America/Managua:20260117T120000
DTSTAMP:20260424T023256
CREATED:20260116T204422Z
LAST-MODIFIED:20260116T204422Z
UID:29300-1768644000-1768651200@www.una.edu.ni
SUMMARY:Taller sobre Diagnóstico reproductivo bovino
DESCRIPTION:
URL:https://www.una.edu.ni/event/taller-sobre-diagnostico-reproductivo-bovino/
LOCATION:Centro Universitario Regional UNA Juigalpa\, Juigapa
CATEGORIES:TALLER
END:VEVENT
BEGIN:VEVENT
DTSTART;TZID=America/Managua:20260118T090000
DTEND;TZID=America/Managua:20260118T120000
DTSTAMP:20260424T023256
CREATED:20260116T204533Z
LAST-MODIFIED:20260116T204533Z
UID:29302-1768726800-1768737600@www.una.edu.ni
SUMMARY:Jornada de atención médica veterinaria en bovinos
DESCRIPTION:
URL:https://www.una.edu.ni/event/jornada-de-atencion-medica-veterinaria-en-bovinos/
LOCATION:Universidad Nacional Agraria\, Managua\, km 12 1/2\, Managua\, Nicaragua
CATEGORIES:JORNADA
END:VEVENT
BEGIN:VEVENT
DTSTART;TZID=America/Managua:20260119T083000
DTEND;TZID=America/Managua:20260119T120000
DTSTAMP:20260424T023256
CREATED:20260116T220859Z
LAST-MODIFIED:20260116T220859Z
UID:29314-1768811400-1768824000@www.una.edu.ni
SUMMARY:Maestría en Sistema de producción animal sostenible
DESCRIPTION:
URL:https://www.una.edu.ni/event/maestria-en-sistema-de-produccion-animal-sostenible/
LOCATION:Universidad Nacional Agraria\, Managua\, km 12 1/2\, Managua\, Nicaragua
CATEGORIES:OTROS
END:VEVENT
BEGIN:VEVENT
DTSTART;TZID=America/Managua:20260119T090000
DTEND;TZID=America/Managua:20260119T120000
DTSTAMP:20260424T023256
CREATED:20260116T220949Z
LAST-MODIFIED:20260116T220949Z
UID:29316-1768813200-1768824000@www.una.edu.ni
SUMMARY:Diplomado sobre Valor agregado de marango
DESCRIPTION:
URL:https://www.una.edu.ni/event/diplomado-sobre-valor-agregado-de-marango/
LOCATION:Centro de Desarrollo Moringa Comandante Fidel\, municipio de León\, Nicaragua
CATEGORIES:DIPLOMADO
END:VEVENT
BEGIN:VEVENT
DTSTART;TZID=America/Managua:20260119T100000
DTEND;TZID=America/Managua:20260119T130000
DTSTAMP:20260424T023256
CREATED:20260116T220437Z
LAST-MODIFIED:20260116T220437Z
UID:29308-1768816800-1768827600@www.una.edu.ni
SUMMARY:Círculo literario con sus obras más representativas en conmemoración al 159 Aniversario del natalicio del Príncipe de las letras castellanas Rubén Darío
DESCRIPTION:
URL:https://www.una.edu.ni/event/circulo-literario-con-sus-obras-mas-representativas-en-conmemoracion-al-159-aniversario-del-natalicio-del-principe-de-las-letras-castellanas-ruben-dario/
LOCATION:Universidad Nacional Agraria\, Managua\, km 12 1/2\, Managua\, Nicaragua
CATEGORIES:OTROS
END:VEVENT
BEGIN:VEVENT
DTSTART;TZID=America/Managua:20260119T100000
DTEND;TZID=America/Managua:20260119T130000
DTSTAMP:20260424T023256
CREATED:20260116T220629Z
LAST-MODIFIED:20260116T220629Z
UID:29310-1768816800-1768827600@www.una.edu.ni
SUMMARY:Cineforo "Azul de Rubén" en conmemoración al 159 Aniversario del natalicio del Príncipe de las letras castellanas Rubén Darío
DESCRIPTION:
URL:https://www.una.edu.ni/event/cineforo-azul-de-ruben-en-conmemoracion-al-159-aniversario-del-natalicio-del-principe-de-las-letras-castellanas-ruben-dario/
LOCATION:Universidad Nacional Agraria\, Managua\, km 12 1/2\, Managua\, Nicaragua
CATEGORIES:OTROS
END:VEVENT
BEGIN:VEVENT
DTSTART;TZID=America/Managua:20260119T140000
DTEND;TZID=America/Managua:20260119T170000
DTSTAMP:20260424T023256
CREATED:20260116T220250Z
LAST-MODIFIED:20260116T220250Z
UID:29306-1768831200-1768842000@www.una.edu.ni
SUMMARY:Lanzamiento de Programa de creación de Agro negocios innovadores
DESCRIPTION:
URL:https://www.una.edu.ni/event/lanzamiento-de-programa-de-creacion-de-agro-negocios-innovadores/
LOCATION:Universidad Nacional Agraria\, Managua\, km 12 1/2\, Managua\, Nicaragua
CATEGORIES:LANZAMIENTO
END:VEVENT
BEGIN:VEVENT
DTSTART;TZID=America/Managua:20260119T170000
DTEND;TZID=America/Managua:20260119T190000
DTSTAMP:20260424T023256
CREATED:20260116T220754Z
LAST-MODIFIED:20260116T220754Z
UID:29312-1768842000-1768849200@www.una.edu.ni
SUMMARY:Inicio de Campeonato deportivo de Voleibol
DESCRIPTION:
URL:https://www.una.edu.ni/event/inicio-de-campeonato-deportivo-de-voleibol/
LOCATION:Universidad Nacional Agraria\, Managua\, km 12 1/2\, Managua\, Nicaragua
CATEGORIES:OTROS
END:VEVENT
BEGIN:VEVENT
DTSTART;TZID=America/Managua:20260120T090000
DTEND;TZID=America/Managua:20260120T120000
DTSTAMP:20260424T023256
CREATED:20260119T162219Z
LAST-MODIFIED:20260119T162219Z
UID:29323-1768899600-1768910400@www.una.edu.ni
SUMMARY:Curso sobre Técnicas especializadas en corte de aves
DESCRIPTION:
URL:https://www.una.edu.ni/event/curso-sobre-tecnicas-especializadas-en-corte-de-aves/
LOCATION:Universidad Nacional Agraria\, Managua\, km 12 1/2\, Managua\, Nicaragua
CATEGORIES:CURSO
END:VEVENT
BEGIN:VEVENT
DTSTART;TZID=America/Managua:20260120T090000
DTEND;TZID=America/Managua:20260120T120000
DTSTAMP:20260424T023256
CREATED:20260119T162318Z
LAST-MODIFIED:20260119T162318Z
UID:29326-1768899600-1768910400@www.una.edu.ni
SUMMARY:Intercambio docente para la formación académica agro productiva
DESCRIPTION:
URL:https://www.una.edu.ni/event/intercambio-docente-para-la-formacion-academica-agro-productiva/
LOCATION:Universidad Nacional Agraria\, Managua\, km 12 1/2\, Managua\, Nicaragua
CATEGORIES:OTROS
END:VEVENT
BEGIN:VEVENT
DTSTART;TZID=America/Managua:20260120T090000
DTEND;TZID=America/Managua:20260120T120000
DTSTAMP:20260424T023256
CREATED:20260119T162434Z
LAST-MODIFIED:20260119T162434Z
UID:29328-1768899600-1768910400@www.una.edu.ni
SUMMARY:Taller sobre Injertación en plantaciones ornamentales
DESCRIPTION:
URL:https://www.una.edu.ni/event/taller-sobre-injertacion-en-plantaciones-ornamentales/
LOCATION:Universidad Nacional Agraria\, Managua\, km 12 1/2\, Managua\, Nicaragua
CATEGORIES:TALLER
END:VEVENT
END:VCALENDAR