BEGIN:VCALENDAR
VERSION:2.0
PRODID:-//Universidad Nacional Agraria - ECPv6.15.20//NONSGML v1.0//EN
CALSCALE:GREGORIAN
METHOD:PUBLISH
X-WR-CALNAME:Universidad Nacional Agraria
X-ORIGINAL-URL:https://www.una.edu.ni
X-WR-CALDESC:Eventos para Universidad Nacional Agraria
REFRESH-INTERVAL;VALUE=DURATION:PT1H
X-Robots-Tag:noindex
X-PUBLISHED-TTL:PT1H
BEGIN:VTIMEZONE
TZID:America/Managua
BEGIN:STANDARD
TZOFFSETFROM:-0600
TZOFFSETTO:-0600
TZNAME:CST
DTSTART:20250101T000000
END:STANDARD
END:VTIMEZONE
BEGIN:VTIMEZONE
TZID:Europe/Madrid
BEGIN:DAYLIGHT
TZOFFSETFROM:+0100
TZOFFSETTO:+0200
TZNAME:CEST
DTSTART:20250330T010000
END:DAYLIGHT
BEGIN:STANDARD
TZOFFSETFROM:+0200
TZOFFSETTO:+0100
TZNAME:CET
DTSTART:20251026T010000
END:STANDARD
BEGIN:DAYLIGHT
TZOFFSETFROM:+0100
TZOFFSETTO:+0200
TZNAME:CEST
DTSTART:20260329T010000
END:DAYLIGHT
BEGIN:STANDARD
TZOFFSETFROM:+0200
TZOFFSETTO:+0100
TZNAME:CET
DTSTART:20261025T010000
END:STANDARD
BEGIN:DAYLIGHT
TZOFFSETFROM:+0100
TZOFFSETTO:+0200
TZNAME:CEST
DTSTART:20270328T010000
END:DAYLIGHT
BEGIN:STANDARD
TZOFFSETFROM:+0200
TZOFFSETTO:+0100
TZNAME:CET
DTSTART:20271031T010000
END:STANDARD
END:VTIMEZONE
BEGIN:VEVENT
DTSTART;TZID=America/Managua:20260117T083000
DTEND;TZID=America/Managua:20260117T120000
DTSTAMP:20260424T023256
CREATED:20260116T203853Z
LAST-MODIFIED:20260116T203853Z
UID:29296-1768638600-1768651200@www.una.edu.ni
SUMMARY:Lanzamiento e inicio de Especialidad en Medicina veterinaria preventiva
DESCRIPTION:
URL:https://www.una.edu.ni/event/lanzamiento-e-inicio-de-especialidad-en-medicina-veterinaria-preventiva/
LOCATION:Universidad Nacional Agraria\, Managua\, km 12 1/2\, Managua\, Nicaragua
CATEGORIES:LANZAMIENTO
END:VEVENT
BEGIN:VEVENT
DTSTART;TZID=America/Managua:20260117T090000
DTEND;TZID=America/Managua:20260117T120000
DTSTAMP:20260424T023256
CREATED:20260116T204205Z
LAST-MODIFIED:20260116T204205Z
UID:29298-1768640400-1768651200@www.una.edu.ni
SUMMARY:Taller sobre Elaboración de abonos orgánicos
DESCRIPTION:
URL:https://www.una.edu.ni/event/taller-sobre-elaboracion-de-abonos-organicos-2/
LOCATION:UNICAM Boaco Viejo\, Nicaragua
CATEGORIES:TALLER
END:VEVENT
BEGIN:VEVENT
DTSTART;TZID=America/Managua:20260117T100000
DTEND;TZID=America/Managua:20260117T120000
DTSTAMP:20260424T023256
CREATED:20260116T204422Z
LAST-MODIFIED:20260116T204422Z
UID:29300-1768644000-1768651200@www.una.edu.ni
SUMMARY:Taller sobre Diagnóstico reproductivo bovino
DESCRIPTION:
URL:https://www.una.edu.ni/event/taller-sobre-diagnostico-reproductivo-bovino/
LOCATION:Centro Universitario Regional UNA Juigalpa\, Juigapa
CATEGORIES:TALLER
END:VEVENT
BEGIN:VEVENT
DTSTART;TZID=America/Managua:20260118T090000
DTEND;TZID=America/Managua:20260118T120000
DTSTAMP:20260424T023256
CREATED:20260116T204533Z
LAST-MODIFIED:20260116T204533Z
UID:29302-1768726800-1768737600@www.una.edu.ni
SUMMARY:Jornada de atención médica veterinaria en bovinos
DESCRIPTION:
URL:https://www.una.edu.ni/event/jornada-de-atencion-medica-veterinaria-en-bovinos/
LOCATION:Universidad Nacional Agraria\, Managua\, km 12 1/2\, Managua\, Nicaragua
CATEGORIES:JORNADA
END:VEVENT
BEGIN:VEVENT
DTSTART;TZID=America/Managua:20260119T083000
DTEND;TZID=America/Managua:20260119T120000
DTSTAMP:20260424T023256
CREATED:20260116T220859Z
LAST-MODIFIED:20260116T220859Z
UID:29314-1768811400-1768824000@www.una.edu.ni
SUMMARY:Maestría en Sistema de producción animal sostenible
DESCRIPTION:
URL:https://www.una.edu.ni/event/maestria-en-sistema-de-produccion-animal-sostenible/
LOCATION:Universidad Nacional Agraria\, Managua\, km 12 1/2\, Managua\, Nicaragua
CATEGORIES:OTROS
END:VEVENT
BEGIN:VEVENT
DTSTART;TZID=America/Managua:20260119T090000
DTEND;TZID=America/Managua:20260119T120000
DTSTAMP:20260424T023256
CREATED:20260116T220949Z
LAST-MODIFIED:20260116T220949Z
UID:29316-1768813200-1768824000@www.una.edu.ni
SUMMARY:Diplomado sobre Valor agregado de marango
DESCRIPTION:
URL:https://www.una.edu.ni/event/diplomado-sobre-valor-agregado-de-marango/
LOCATION:Centro de Desarrollo Moringa Comandante Fidel\, municipio de León\, Nicaragua
CATEGORIES:DIPLOMADO
END:VEVENT
BEGIN:VEVENT
DTSTART;TZID=America/Managua:20260119T100000
DTEND;TZID=America/Managua:20260119T130000
DTSTAMP:20260424T023256
CREATED:20260116T220437Z
LAST-MODIFIED:20260116T220437Z
UID:29308-1768816800-1768827600@www.una.edu.ni
SUMMARY:Círculo literario con sus obras más representativas en conmemoración al 159 Aniversario del natalicio del Príncipe de las letras castellanas Rubén Darío
DESCRIPTION:
URL:https://www.una.edu.ni/event/circulo-literario-con-sus-obras-mas-representativas-en-conmemoracion-al-159-aniversario-del-natalicio-del-principe-de-las-letras-castellanas-ruben-dario/
LOCATION:Universidad Nacional Agraria\, Managua\, km 12 1/2\, Managua\, Nicaragua
CATEGORIES:OTROS
END:VEVENT
BEGIN:VEVENT
DTSTART;TZID=America/Managua:20260119T100000
DTEND;TZID=America/Managua:20260119T130000
DTSTAMP:20260424T023256
CREATED:20260116T220629Z
LAST-MODIFIED:20260116T220629Z
UID:29310-1768816800-1768827600@www.una.edu.ni
SUMMARY:Cineforo "Azul de Rubén" en conmemoración al 159 Aniversario del natalicio del Príncipe de las letras castellanas Rubén Darío
DESCRIPTION:
URL:https://www.una.edu.ni/event/cineforo-azul-de-ruben-en-conmemoracion-al-159-aniversario-del-natalicio-del-principe-de-las-letras-castellanas-ruben-dario/
LOCATION:Universidad Nacional Agraria\, Managua\, km 12 1/2\, Managua\, Nicaragua
CATEGORIES:OTROS
END:VEVENT
BEGIN:VEVENT
DTSTART;TZID=America/Managua:20260119T140000
DTEND;TZID=America/Managua:20260119T170000
DTSTAMP:20260424T023256
CREATED:20260116T220250Z
LAST-MODIFIED:20260116T220250Z
UID:29306-1768831200-1768842000@www.una.edu.ni
SUMMARY:Lanzamiento de Programa de creación de Agro negocios innovadores
DESCRIPTION:
URL:https://www.una.edu.ni/event/lanzamiento-de-programa-de-creacion-de-agro-negocios-innovadores/
LOCATION:Universidad Nacional Agraria\, Managua\, km 12 1/2\, Managua\, Nicaragua
CATEGORIES:LANZAMIENTO
END:VEVENT
BEGIN:VEVENT
DTSTART;TZID=America/Managua:20260119T170000
DTEND;TZID=America/Managua:20260119T190000
DTSTAMP:20260424T023256
CREATED:20260116T220754Z
LAST-MODIFIED:20260116T220754Z
UID:29312-1768842000-1768849200@www.una.edu.ni
SUMMARY:Inicio de Campeonato deportivo de Voleibol
DESCRIPTION:
URL:https://www.una.edu.ni/event/inicio-de-campeonato-deportivo-de-voleibol/
LOCATION:Universidad Nacional Agraria\, Managua\, km 12 1/2\, Managua\, Nicaragua
CATEGORIES:OTROS
END:VEVENT
BEGIN:VEVENT
DTSTART;TZID=America/Managua:20260120T090000
DTEND;TZID=America/Managua:20260120T120000
DTSTAMP:20260424T023256
CREATED:20260119T162219Z
LAST-MODIFIED:20260119T162219Z
UID:29323-1768899600-1768910400@www.una.edu.ni
SUMMARY:Curso sobre Técnicas especializadas en corte de aves
DESCRIPTION:
URL:https://www.una.edu.ni/event/curso-sobre-tecnicas-especializadas-en-corte-de-aves/
LOCATION:Universidad Nacional Agraria\, Managua\, km 12 1/2\, Managua\, Nicaragua
CATEGORIES:CURSO
END:VEVENT
BEGIN:VEVENT
DTSTART;TZID=America/Managua:20260120T090000
DTEND;TZID=America/Managua:20260120T120000
DTSTAMP:20260424T023256
CREATED:20260119T162318Z
LAST-MODIFIED:20260119T162318Z
UID:29326-1768899600-1768910400@www.una.edu.ni
SUMMARY:Intercambio docente para la formación académica agro productiva
DESCRIPTION:
URL:https://www.una.edu.ni/event/intercambio-docente-para-la-formacion-academica-agro-productiva/
LOCATION:Universidad Nacional Agraria\, Managua\, km 12 1/2\, Managua\, Nicaragua
CATEGORIES:OTROS
END:VEVENT
BEGIN:VEVENT
DTSTART;TZID=America/Managua:20260120T090000
DTEND;TZID=America/Managua:20260120T120000
DTSTAMP:20260424T023256
CREATED:20260119T162434Z
LAST-MODIFIED:20260119T162434Z
UID:29328-1768899600-1768910400@www.una.edu.ni
SUMMARY:Taller sobre Injertación en plantaciones ornamentales
DESCRIPTION:
URL:https://www.una.edu.ni/event/taller-sobre-injertacion-en-plantaciones-ornamentales/
LOCATION:Universidad Nacional Agraria\, Managua\, km 12 1/2\, Managua\, Nicaragua
CATEGORIES:TALLER
END:VEVENT
BEGIN:VEVENT
DTSTART;TZID=America/Managua:20260120T100000
DTEND;TZID=America/Managua:20260120T130000
DTSTAMP:20260424T023256
CREATED:20260119T162548Z
LAST-MODIFIED:20260119T162548Z
UID:29330-1768903200-1768914000@www.una.edu.ni
SUMMARY:Taller sobre Buenas prácticas de ordeño
DESCRIPTION:
URL:https://www.una.edu.ni/event/taller-sobre-buenas-practicas-de-ordeno-4/
LOCATION:Municipio de San Miguelito\, Río San Juan\, Nicaragua
CATEGORIES:TALLER
END:VEVENT
BEGIN:VEVENT
DTSTART;TZID=Europe/Madrid:20260121T070000
DTEND;TZID=Europe/Madrid:20260121T120000
DTSTAMP:20260424T023256
CREATED:20260119T174502Z
LAST-MODIFIED:20260119T174502Z
UID:29344-1768978800-1768996800@www.una.edu.ni
SUMMARY:Taller sobre Adaptación de cultivo de frijol ante cambio climático
DESCRIPTION:
URL:https://www.una.edu.ni/event/taller-sobre-adaptacion-de-cultivo-de-frijol-ante-cambio-climatico/
LOCATION:Municipio de San Miguelito\, Río San Juan\, Nicaragua
CATEGORIES:TALLER
END:VEVENT
BEGIN:VEVENT
DTSTART;TZID=America/Managua:20260121T080000
DTEND;TZID=America/Managua:20260121T120000
DTSTAMP:20260424T023256
CREATED:20260119T173728Z
LAST-MODIFIED:20260119T173728Z
UID:29336-1768982400-1768996800@www.una.edu.ni
SUMMARY:Capacitación a productores sobre mejoramiento genético del cultivo de café
DESCRIPTION:
URL:https://www.una.edu.ni/event/capacitacion-a-productores-sobre-mejoramiento-genetico-del-cultivo-de-cafe/
LOCATION:Comunidad Mombachito\, Municipio de Boaco\, Nicaragua
CATEGORIES:CAPACITACION
END:VEVENT
BEGIN:VEVENT
DTSTART;TZID=Europe/Madrid:20260121T080000
DTEND;TZID=Europe/Madrid:20260121T120000
DTSTAMP:20260424T023256
CREATED:20260119T173838Z
LAST-MODIFIED:20260119T173838Z
UID:29339-1768982400-1768996800@www.una.edu.ni
SUMMARY:Encuentro con productores sobre producción de papa para incrementar el rendimiento productivo
DESCRIPTION:
URL:https://www.una.edu.ni/event/encuentro-con-productores-sobre-produccion-de-papa-para-incrementar-el-rendimiento-productivo/
LOCATION:Municipio de Jinotega\, Nicaragua
CATEGORIES:ENCUENTRO
END:VEVENT
BEGIN:VEVENT
DTSTART;TZID=America/Managua:20260121T090000
DTEND;TZID=America/Managua:20260121T120000
DTSTAMP:20260424T023256
CREATED:20260119T174057Z
LAST-MODIFIED:20260119T174057Z
UID:29342-1768986000-1768996800@www.una.edu.ni
SUMMARY:Taller sobre Conservación arbórea
DESCRIPTION:
URL:https://www.una.edu.ni/event/taller-sobre-conservacion-arborea/
LOCATION:Universidad Nacional Agraria\, Managua\, km 12 1/2\, Managua\, Nicaragua
CATEGORIES:TALLER
END:VEVENT
BEGIN:VEVENT
DTSTART;TZID=America/Managua:20260121T090000
DTEND;TZID=America/Managua:20260121T120000
DTSTAMP:20260424T023256
CREATED:20260119T174653Z
LAST-MODIFIED:20260119T174653Z
UID:29346-1768986000-1768996800@www.una.edu.ni
SUMMARY:Jornada de embellecimiento y reforestación en los recintos de la Universidad
DESCRIPTION:
URL:https://www.una.edu.ni/event/jornada-de-embellecimiento-y-reforestacion-en-los-recintos-de-la-universidad/
LOCATION:Universidad Nacional Agraria\, Managua\, km 12 1/2\, Managua\, Nicaragua
CATEGORIES:JORNADA
END:VEVENT
BEGIN:VEVENT
DTSTART;TZID=Europe/Madrid:20260121T090000
DTEND;TZID=Europe/Madrid:20260123T170000
DTSTAMP:20260424T023256
CREATED:20260119T173615Z
LAST-MODIFIED:20260119T173615Z
UID:29334-1768986000-1769187600@www.una.edu.ni
SUMMARY:Curso especializado en Gestión y Técnicas modernas de cafetería
DESCRIPTION:
URL:https://www.una.edu.ni/event/curso-especializado-en-gestion-y-tecnicas-modernas-de-cafeteria/
LOCATION:Centro Universitario Regional «Padre y Comandante Camilo Torres Restrepo”\, Matagalpa\, Nicaragua
CATEGORIES:CURSO
END:VEVENT
BEGIN:VEVENT
DTSTART;TZID=America/Managua:20260121T100000
DTEND;TZID=America/Managua:20260121T130000
DTSTAMP:20260424T023256
CREATED:20260119T173451Z
LAST-MODIFIED:20260119T173451Z
UID:29332-1768989600-1769000400@www.una.edu.ni
SUMMARY:Entrega de Certificados a protagonistas del curso Diseño y establecimiento de sistemas agroforestales
DESCRIPTION:
URL:https://www.una.edu.ni/event/entrega-de-certificados-a-protagonistas-del-curso-diseno-y-establecimiento-de-sistemas-agroforestales/
LOCATION:Universidad Nacional Agraria\, Managua\, km 12 1/2\, Managua\, Nicaragua
CATEGORIES:OTROS
END:VEVENT
BEGIN:VEVENT
DTSTART;TZID=America/Managua:20260122T080000
DTEND;TZID=America/Managua:20260122T120000
DTSTAMP:20260424T023256
CREATED:20260120T170801Z
LAST-MODIFIED:20260120T170801Z
UID:29353-1769068800-1769083200@www.una.edu.ni
SUMMARY:Entrega de certificados a protagonistas del curso sobre planes de negocios agropecuarios
DESCRIPTION:
URL:https://www.una.edu.ni/event/entrega-de-certificados-a-protagonistas-del-curso-sobre-planes-de-negocios-agropecuarios/
LOCATION:San José de los Remates\, Boaco\, Nicaragua
CATEGORIES:OTROS
END:VEVENT
BEGIN:VEVENT
DTSTART;TZID=America/Managua:20260122T090000
DTEND;TZID=America/Managua:20260122T120000
DTSTAMP:20260424T023256
CREATED:20260120T171037Z
LAST-MODIFIED:20260120T171037Z
UID:29355-1769072400-1769083200@www.una.edu.ni
SUMMARY:Diplomado en Biotecnología de la reproducción bovina
DESCRIPTION:
URL:https://www.una.edu.ni/event/diplomado-en-biotecnologia-de-la-reproduccion-bovina/
LOCATION:Centro Universitario “Padre y Comandante Camilo Tórres Restrepo”\, Matagalpa\, Nicaragua
CATEGORIES:DIPLOMADO
END:VEVENT
BEGIN:VEVENT
DTSTART;TZID=America/Managua:20260122T090000
DTEND;TZID=America/Managua:20260122T120000
DTSTAMP:20260424T023256
CREATED:20260120T171227Z
LAST-MODIFIED:20260120T171227Z
UID:29357-1769072400-1769083200@www.una.edu.ni
SUMMARY:Diplomado sobre Valor Agregado del cultivo de plátano
DESCRIPTION:
URL:https://www.una.edu.ni/event/diplomado-sobre-valor-agregado-del-cultivo-de-platano/
LOCATION:San Pedro\, Isla de Ometepe\, Nicaragua
CATEGORIES:DIPLOMADO
END:VEVENT
BEGIN:VEVENT
DTSTART;TZID=America/Managua:20260122T090000
DTEND;TZID=America/Managua:20260122T120000
DTSTAMP:20260424T023256
CREATED:20260120T171446Z
LAST-MODIFIED:20260120T171446Z
UID:29361-1769072400-1769083200@www.una.edu.ni
SUMMARY:Taller sobre Manejo agronómico de maíz
DESCRIPTION:
URL:https://www.una.edu.ni/event/taller-sobre-manejo-agronomico-de-maiz/
LOCATION:Centro Universitario “Don Orlando”\, Niquinohomo\, Nicaragua
CATEGORIES:TALLER
END:VEVENT
BEGIN:VEVENT
DTSTART;TZID=America/Managua:20260122T100000
DTEND;TZID=America/Managua:20260122T130000
DTSTAMP:20260424T023256
CREATED:20260119T224756Z
LAST-MODIFIED:20260119T224756Z
UID:29349-1769076000-1769086800@www.una.edu.ni
SUMMARY:Lanzamiento e inicio de Diplomado en Nutrición animal
DESCRIPTION:
URL:https://www.una.edu.ni/event/lanzamiento-e-inicio-de-diplomado-en-nutricion-animal/
LOCATION:Centro Universitario Regional UNA Camoapa\, Camoapa
CATEGORIES:LANZAMIENTO
END:VEVENT
BEGIN:VEVENT
DTSTART;TZID=America/Managua:20260122T100000
DTEND;TZID=America/Managua:20260122T130000
DTSTAMP:20260424T023256
CREATED:20260120T171553Z
LAST-MODIFIED:20260120T171553Z
UID:29363-1769076000-1769086800@www.una.edu.ni
SUMMARY:Exposición de las tradiciones del pacífico de Nicaragua
DESCRIPTION:
URL:https://www.una.edu.ni/event/exposicion-de-las-tradiciones-del-pacifico-de-nicaragua/
LOCATION:Universidad Nacional Agraria\, Managua\, km 12 1/2\, Managua\, Nicaragua
CATEGORIES:OTROS
END:VEVENT
BEGIN:VEVENT
DTSTART;TZID=America/Managua:20260122T140000
DTEND;TZID=America/Managua:20260122T170000
DTSTAMP:20260424T023256
CREATED:20260120T171332Z
LAST-MODIFIED:20260120T171332Z
UID:29359-1769090400-1769101200@www.una.edu.ni
SUMMARY:Intercambio de experiencias con productores sobre Manejo reproductivo avícola
DESCRIPTION:
URL:https://www.una.edu.ni/event/intercambio-de-experiencias-con-productores-sobre-manejo-reproductivo-avicola/
LOCATION:Centro Universitario Regional UNA Camoapa\, Camoapa
CATEGORIES:OTROS
END:VEVENT
BEGIN:VEVENT
DTSTART;TZID=America/Managua:20260123T100000
DTEND;TZID=America/Managua:20260123T130000
DTSTAMP:20260424T023256
CREATED:20260120T211320Z
LAST-MODIFIED:20260120T211320Z
UID:29369-1769162400-1769173200@www.una.edu.ni
SUMMARY:Taller sobre Identificación de enfermedades en especies mayores
DESCRIPTION:
URL:https://www.una.edu.ni/event/taller-sobre-identificacion-de-enfermedades-en-especies-mayores/
LOCATION:UNICAM Muelle de los Bueyes\, Nicaragua
CATEGORIES:TALLER
END:VEVENT
BEGIN:VEVENT
DTSTART;TZID=America/Managua:20260123T133000
DTEND;TZID=America/Managua:20260123T170000
DTSTAMP:20260424T023256
CREATED:20260120T210958Z
LAST-MODIFIED:20260120T210958Z
UID:29365-1769175000-1769187600@www.una.edu.ni
SUMMARY:Entrega de certificados a protagonistas del curso Metodología de investigación ambiental
DESCRIPTION:
URL:https://www.una.edu.ni/event/entrega-de-certificados-a-protagonistas-del-curso-metodologia-de-investigacion-ambiental/
LOCATION:Universidad Nacional Agraria\, Managua\, km 12 1/2\, Managua\, Nicaragua
CATEGORIES:OTROS
END:VEVENT
END:VCALENDAR