BEGIN:VCALENDAR
VERSION:2.0
PRODID:-//Universidad Nacional Agraria - ECPv6.15.20//NONSGML v1.0//EN
CALSCALE:GREGORIAN
METHOD:PUBLISH
X-WR-CALNAME:Universidad Nacional Agraria
X-ORIGINAL-URL:https://www.una.edu.ni
X-WR-CALDESC:Eventos para Universidad Nacional Agraria
REFRESH-INTERVAL;VALUE=DURATION:PT1H
X-Robots-Tag:noindex
X-PUBLISHED-TTL:PT1H
BEGIN:VTIMEZONE
TZID:America/Managua
BEGIN:STANDARD
TZOFFSETFROM:-0600
TZOFFSETTO:-0600
TZNAME:CST
DTSTART:20250101T000000
END:STANDARD
END:VTIMEZONE
BEGIN:VEVENT
DTSTART;TZID=America/Managua:20260209T110000
DTEND;TZID=America/Managua:20260209T130000
DTSTAMP:20260424T004023
CREATED:20260209T143829Z
LAST-MODIFIED:20260209T143829Z
UID:29519-1770634800-1770642000@www.una.edu.ni
SUMMARY:Taller sobre Técnicas de injertación en cítricos
DESCRIPTION:
URL:https://www.una.edu.ni/event/taller-sobre-tecnicas-de-injertacion-en-citricos/
LOCATION:Finca Las Colinas\, Nicaragua
CATEGORIES:TALLER
END:VEVENT
BEGIN:VEVENT
DTSTART;TZID=America/Managua:20260209T140000
DTEND;TZID=America/Managua:20260209T160000
DTSTAMP:20260424T004023
CREATED:20260209T143704Z
LAST-MODIFIED:20260209T143704Z
UID:29517-1770645600-1770652800@www.una.edu.ni
SUMMARY:Lanzamiento de la Primera Edición del Diplomado en Cafeterías Rentables en modalidad nocturna
DESCRIPTION:
URL:https://www.una.edu.ni/event/lanzamiento-de-la-primera-edicion-del-diplomado-en-cafeterias-rentables-en-modalidad-nocturna/
LOCATION:Universidad Nacional Agraria\, Managua\, km 12 1/2\, Managua\, Nicaragua
CATEGORIES:LANZAMIENTO
END:VEVENT
BEGIN:VEVENT
DTSTART;TZID=America/Managua:20260210T080000
DTEND;TZID=America/Managua:20260210T120000
DTSTAMP:20260424T004023
CREATED:20260209T144246Z
LAST-MODIFIED:20260209T144246Z
UID:29529-1770710400-1770724800@www.una.edu.ni
SUMMARY:Feria Agropecuaria “Fomentando la cultura emprendedora”
DESCRIPTION:
URL:https://www.una.edu.ni/event/feria-agropecuaria-fomentando-la-cultura-emprendedora/
LOCATION:Universidad Nacional Agraria\, Managua\, km 12 1/2\, Managua\, Nicaragua
CATEGORIES:FERIA
END:VEVENT
BEGIN:VEVENT
DTSTART;TZID=America/Managua:20260210T080000
DTEND;TZID=America/Managua:20260210T120000
DTSTAMP:20260424T004023
CREATED:20260209T160214Z
LAST-MODIFIED:20260209T160214Z
UID:29566-1770710400-1770724800@www.una.edu.ni
SUMMARY:Taller sobre Valor agregado de marango
DESCRIPTION:
URL:https://www.una.edu.ni/event/taller-sobre-valor-agregado-de-marango-2/
LOCATION:Centro de Desarrollo Moringa Comandante Fidel\, municipio de León\, Nicaragua
CATEGORIES:TALLER
END:VEVENT
BEGIN:VEVENT
DTSTART;TZID=America/Managua:20260210T090000
DTEND;TZID=America/Managua:20260210T120000
DTSTAMP:20260424T004023
CREATED:20260209T144049Z
LAST-MODIFIED:20260209T144049Z
UID:29524-1770714000-1770724800@www.una.edu.ni
SUMMARY:Taller sobre Diagnóstico de enfermedades parasitarias en animales domésticos
DESCRIPTION:
URL:https://www.una.edu.ni/event/taller-sobre-diagnostico-de-enfermedades-parasitarias-en-animales-domesticos/
LOCATION:Comunidad Tesorero\, Boaco\, Nicaragua
CATEGORIES:TALLER
END:VEVENT
BEGIN:VEVENT
DTSTART;TZID=America/Managua:20260210T100000
DTEND;TZID=America/Managua:20260210T120000
DTSTAMP:20260424T004023
CREATED:20260209T143938Z
LAST-MODIFIED:20260209T143938Z
UID:29522-1770717600-1770724800@www.una.edu.ni
SUMMARY:Re-inauguración de Mejoras en Biblioteca de medicina veterinaria y zootecnia
DESCRIPTION:
URL:https://www.una.edu.ni/event/re-inauguracion-de-mejoras-en-biblioteca-de-medicina-veterinaria-y-zootecnia/
LOCATION:Universidad Nacional Agraria\, Managua\, km 12 1/2\, Managua\, Nicaragua
CATEGORIES:INAUGURACIÓN
END:VEVENT
BEGIN:VEVENT
DTSTART;TZID=America/Managua:20260210T140000
DTEND;TZID=America/Managua:20260210T170000
DTSTAMP:20260424T004023
CREATED:20260209T144151Z
LAST-MODIFIED:20260209T144151Z
UID:29527-1770732000-1770742800@www.una.edu.ni
SUMMARY:Taller sobre Establecimiento de hortalizas en sistemas protegidos
DESCRIPTION:
URL:https://www.una.edu.ni/event/taller-sobre-establecimiento-de-hortalizas-en-sistemas-protegidos/
LOCATION:UNICAM El Ayote\, Juigalpa\, Nicaragua
CATEGORIES:TALLER
END:VEVENT
BEGIN:VEVENT
DTSTART;TZID=America/Managua:20260211T080000
DTEND;TZID=America/Managua:20260211T120000
DTSTAMP:20260424T004023
CREATED:20260209T144846Z
LAST-MODIFIED:20260209T144846Z
UID:29535-1770796800-1770811200@www.una.edu.ni
SUMMARY:Diplomado sobre Emprendimiento de Cafeterías rentables
DESCRIPTION:
URL:https://www.una.edu.ni/event/diplomado-sobre-emprendimiento-de-cafeterias-rentables/
LOCATION:Escuela Boutique de Café\, Managua\, Nicaragua
CATEGORIES:DIPLOMADO
END:VEVENT
BEGIN:VEVENT
DTSTART;TZID=America/Managua:20260211T080000
DTEND;TZID=America/Managua:20260211T120000
DTSTAMP:20260424T004023
CREATED:20260209T145319Z
LAST-MODIFIED:20260209T145319Z
UID:29544-1770796800-1770811200@www.una.edu.ni
SUMMARY:Taller sobre Elaboración de productos medicinales a base de marango
DESCRIPTION:
URL:https://www.una.edu.ni/event/taller-sobre-elaboracion-de-productos-medicinales-a-base-de-marango/
LOCATION:Centro de Desarrollo Moringa Comandante Fidel\, municipio de León\, Nicaragua
CATEGORIES:TALLER
END:VEVENT
BEGIN:VEVENT
DTSTART;TZID=America/Managua:20260211T090000
DTEND;TZID=America/Managua:20260211T120000
DTSTAMP:20260424T004023
CREATED:20260209T144944Z
LAST-MODIFIED:20260209T144944Z
UID:29538-1770800400-1770811200@www.una.edu.ni
SUMMARY:Encuentro de formación docente en la aplicación en uso de equipos tecnológicos para la atención veterinaria
DESCRIPTION:
URL:https://www.una.edu.ni/event/encuentro-de-formacion-docente-en-la-aplicacion-en-uso-de-equipos-tecnologicos-para-la-atencion-veterinaria/
LOCATION:Universidad Nacional Agraria\, Managua\, km 12 1/2\, Managua\, Nicaragua
CATEGORIES:OTROS
END:VEVENT
BEGIN:VEVENT
DTSTART;TZID=America/Managua:20260211T100000
DTEND;TZID=America/Managua:20260211T160000
DTSTAMP:20260424T004023
CREATED:20260209T144723Z
LAST-MODIFIED:20260209T144723Z
UID:29533-1770804000-1770825600@www.una.edu.ni
SUMMARY:Certificados a protagonistas del Diplomado en Valor agregado de moringa
DESCRIPTION:
URL:https://www.una.edu.ni/event/certificados-a-protagonistas-del-diplomado-en-valor-agregado-de-moringa/
LOCATION:Universidad Nacional Agraria\, Managua\, km 12 1/2\, Managua\, Nicaragua
CATEGORIES:DIPLOMADO
END:VEVENT
BEGIN:VEVENT
DTSTART;TZID=America/Managua:20260211T110000
DTEND;TZID=America/Managua:20260211T160000
DTSTAMP:20260424T004023
CREATED:20260209T145047Z
LAST-MODIFIED:20260209T145047Z
UID:29540-1770807600-1770825600@www.una.edu.ni
SUMMARY:Jornada de aprendizaje sobre Diagnóstico de gestación bovina y caprina
DESCRIPTION:
URL:https://www.una.edu.ni/event/jornada-de-aprendizaje-sobre-diagnostico-de-gestacion-bovina-y-caprina/
LOCATION:Universidad Nacional Agraria\, Managua\, km 12 1/2\, Managua\, Nicaragua
CATEGORIES:JORNADA
END:VEVENT
BEGIN:VEVENT
DTSTART;TZID=America/Managua:20260211T140000
DTEND;TZID=America/Managua:20260211T160000
DTSTAMP:20260424T004023
CREATED:20260209T144400Z
LAST-MODIFIED:20260209T144400Z
UID:29531-1770818400-1770825600@www.una.edu.ni
SUMMARY:Entrega de Equipos para la enseñanza en medicina veterinaria
DESCRIPTION:
URL:https://www.una.edu.ni/event/entrega-de-equipos-para-la-ensenanza-en-medicina-veterinaria/
LOCATION:Universidad Nacional Agraria\, Managua\, km 12 1/2\, Managua\, Nicaragua
CATEGORIES:OTROS
END:VEVENT
BEGIN:VEVENT
DTSTART;TZID=America/Managua:20260211T140000
DTEND;TZID=America/Managua:20260211T170000
DTSTAMP:20260424T004023
CREATED:20260209T145201Z
LAST-MODIFIED:20260209T145201Z
UID:29542-1770818400-1770829200@www.una.edu.ni
SUMMARY:Taller sobre Buenas prácticas de ordeño
DESCRIPTION:
URL:https://www.una.edu.ni/event/taller-sobre-buenas-practicas-de-ordeno-5/
LOCATION:UNICAM Bocana de Paiwas\, Nicaragua
CATEGORIES:TALLER
END:VEVENT
BEGIN:VEVENT
DTSTART;TZID=America/Managua:20260211T150000
DTEND;TZID=America/Managua:20260211T170000
DTSTAMP:20260424T004023
CREATED:20260209T145419Z
LAST-MODIFIED:20260209T145419Z
UID:29546-1770822000-1770829200@www.una.edu.ni
SUMMARY:Taller sobre Manejo agronómico de cultivo de cacao
DESCRIPTION:
URL:https://www.una.edu.ni/event/taller-sobre-manejo-agronomico-de-cultivo-de-cacao/
LOCATION:Centro Universitario Regional UNA Juigalpa\, Juigapa
CATEGORIES:TALLER
END:VEVENT
BEGIN:VEVENT
DTSTART;TZID=America/Managua:20260212T080000
DTEND;TZID=America/Managua:20260212T120000
DTSTAMP:20260424T004023
CREATED:20260209T151844Z
LAST-MODIFIED:20260209T151844Z
UID:29552-1770883200-1770897600@www.una.edu.ni
SUMMARY:Diplomado en Caficultura sostenible y regenerativa con énfasis en café especial
DESCRIPTION:
URL:https://www.una.edu.ni/event/diplomado-en-caficultura-sostenible-y-regenerativa-con-enfasis-en-cafe-especial/
LOCATION:INATEC\, Ocotal\, Nueva Segovia\, Nicaragua
CATEGORIES:DIPLOMADO
END:VEVENT
BEGIN:VEVENT
DTSTART;TZID=America/Managua:20260212T080000
DTEND;TZID=America/Managua:20260212T120000
DTSTAMP:20260424T004023
CREATED:20260209T152048Z
LAST-MODIFIED:20260209T152048Z
UID:29555-1770883200-1770897600@www.una.edu.ni
SUMMARY:Curso sobre Técnicas especializadas en procesamiento de carne de cerdo y elaboración de embutidos
DESCRIPTION:
URL:https://www.una.edu.ni/event/curso-sobre-tecnicas-especializadas-en-procesamiento-de-carne-de-cerdo-y-elaboracion-de-embutidos/
LOCATION:La Paz Centro\, León\, Nicaragua
CATEGORIES:CURSO
END:VEVENT
BEGIN:VEVENT
DTSTART;TZID=America/Managua:20260212T080000
DTEND;TZID=America/Managua:20260212T120000
DTSTAMP:20260424T004023
CREATED:20260209T152234Z
LAST-MODIFIED:20260209T152234Z
UID:29558-1770883200-1770897600@www.una.edu.ni
SUMMARY:Curso sobre Nutrición animal
DESCRIPTION:
URL:https://www.una.edu.ni/event/curso-sobre-nutricion-animal-2/
LOCATION:UNICAM San José de los Remates\, Nicaragua
CATEGORIES:CURSO
END:VEVENT
BEGIN:VEVENT
DTSTART;TZID=America/Managua:20260212T080000
DTEND;TZID=America/Managua:20260212T120000
DTSTAMP:20260424T004023
CREATED:20260209T152518Z
LAST-MODIFIED:20260209T152518Z
UID:29561-1770883200-1770897600@www.una.edu.ni
SUMMARY:Taller sobre Valor agregado de marango
DESCRIPTION:
URL:https://www.una.edu.ni/event/taller-sobre-valor-agregado-de-marango/
LOCATION:Centro de Desarrollo Moringa Comandante Fidel\, municipio de León\, Nicaragua
CATEGORIES:TALLER
END:VEVENT
BEGIN:VEVENT
DTSTART;TZID=America/Managua:20260212T100000
DTEND;TZID=America/Managua:20260212T120000
DTSTAMP:20260424T004023
CREATED:20260209T150417Z
LAST-MODIFIED:20260209T150417Z
UID:29548-1770890400-1770897600@www.una.edu.ni
SUMMARY:Reinauguración del Laboratorio de Biología
DESCRIPTION:
URL:https://www.una.edu.ni/event/reinauguracion-del-laboratorio-de-biologia/
LOCATION:Universidad Nacional Agraria\, Managua\, km 12 1/2\, Managua\, Nicaragua
CATEGORIES:INAUGURACIÓN
END:VEVENT
BEGIN:VEVENT
DTSTART;TZID=America/Managua:20260212T100000
DTEND;TZID=America/Managua:20260212T130000
DTSTAMP:20260424T004023
CREATED:20260209T150541Z
LAST-MODIFIED:20260209T150541Z
UID:29550-1770890400-1770901200@www.una.edu.ni
SUMMARY:Sesión No.2 Diplomado en Tecnologías productivas\, con el tema: Manejo de ganado bovino en verano
DESCRIPTION:
URL:https://www.una.edu.ni/event/sesion-no-2-diplomado-en-tecnologias-productivas-con-el-tema-manejo-de-ganado-bovino-en-verano/
LOCATION:Plataforma UALN\, Nicaragua
CATEGORIES:DIPLOMADO
END:VEVENT
BEGIN:VEVENT
DTSTART;TZID=America/Managua:20260212T170000
DTEND;TZID=America/Managua:20260212T200000
DTSTAMP:20260424T004023
CREATED:20260209T152734Z
LAST-MODIFIED:20260209T152734Z
UID:29563-1770915600-1770926400@www.una.edu.ni
SUMMARY:Campeonato de Futbol sala “De Darío a Sandino”
DESCRIPTION:
URL:https://www.una.edu.ni/event/campeonato-de-futbol-sala-de-dario-a-sandino/
LOCATION:Universidad Nacional Agraria\, Managua\, km 12 1/2\, Managua\, Nicaragua
CATEGORIES:OTROS
END:VEVENT
BEGIN:VEVENT
DTSTART;TZID=America/Managua:20260213T080000
DTEND;TZID=America/Managua:20260213T120000
DTSTAMP:20260424T004023
CREATED:20260210T145346Z
LAST-MODIFIED:20260210T145346Z
UID:29576-1770969600-1770984000@www.una.edu.ni
SUMMARY:Diplomado en Agronegocios\, tostadurías y Cafeterías rentables
DESCRIPTION:
URL:https://www.una.edu.ni/event/diplomado-en-agronegocios-tostadurias-y-cafeterias-rentables/
LOCATION:Museo del Café\, Jinotega\, Nicaragua
CATEGORIES:DIPLOMADO
END:VEVENT
BEGIN:VEVENT
DTSTART;TZID=America/Managua:20260213T080000
DTEND;TZID=America/Managua:20260213T120000
DTSTAMP:20260424T004023
CREATED:20260210T145607Z
LAST-MODIFIED:20260210T145607Z
UID:29580-1770969600-1770984000@www.una.edu.ni
SUMMARY:Curso sobre Nutrición animal
DESCRIPTION:
URL:https://www.una.edu.ni/event/curso-sobre-nutricion-animal-3/
LOCATION:UNICAM El Portón\, Nicaragua
CATEGORIES:OTROS
END:VEVENT
BEGIN:VEVENT
DTSTART;TZID=America/Managua:20260213T080000
DTEND;TZID=America/Managua:20260213T120000
DTSTAMP:20260424T004023
CREATED:20260210T145839Z
LAST-MODIFIED:20260210T145839Z
UID:29583-1770969600-1770984000@www.una.edu.ni
SUMMARY:Taller sobre Técnicas para el establecimiento de variedades de especies hortícolas
DESCRIPTION:
URL:https://www.una.edu.ni/event/taller-sobre-tecnicas-para-el-establecimiento-de-variedades-de-especies-horticolas/
LOCATION:Centro Universitario “Don Orlando”\, Niquinohomo\, Nicaragua
CATEGORIES:TALLER
END:VEVENT
BEGIN:VEVENT
DTSTART;TZID=America/Managua:20260213T090000
DTEND;TZID=America/Managua:20260213T120000
DTSTAMP:20260424T004023
CREATED:20260210T145453Z
LAST-MODIFIED:20260210T145453Z
UID:29578-1770973200-1770984000@www.una.edu.ni
SUMMARY:Curso sobre Técnicas especializadas en agro procesamiento de frutas y hortalizas
DESCRIPTION:
URL:https://www.una.edu.ni/event/curso-sobre-tecnicas-especializadas-en-agro-procesamiento-de-frutas-y-hortalizas/
LOCATION:Centro Universitario “Don Orlando”\, Niquinohomo\, Nicaragua
CATEGORIES:CURSO
END:VEVENT
BEGIN:VEVENT
DTSTART;TZID=America/Managua:20260213T090000
DTEND;TZID=America/Managua:20260213T120000
DTSTAMP:20260424T004023
CREATED:20260210T150046Z
LAST-MODIFIED:20260210T150046Z
UID:29587-1770973200-1770984000@www.una.edu.ni
SUMMARY:Jornada de embellecimiento y Reciclaje “Con amor al medio ambiente”
DESCRIPTION:
URL:https://www.una.edu.ni/event/jornada-de-embellecimiento-y-reciclaje-con-amor-al-medio-ambiente/
LOCATION:Universidad Nacional Agraria\, Managua\, km 12 1/2\, Managua\, Nicaragua
CATEGORIES:JORNADA
END:VEVENT
BEGIN:VEVENT
DTSTART;TZID=America/Managua:20260213T100000
DTEND;TZID=America/Managua:20260213T130000
DTSTAMP:20260424T004023
CREATED:20260210T145945Z
LAST-MODIFIED:20260210T145945Z
UID:29585-1770976800-1770987600@www.una.edu.ni
SUMMARY:Taller sobre Elaboración de fertilizantes orgánicos
DESCRIPTION:
URL:https://www.una.edu.ni/event/taller-sobre-elaboracion-de-fertilizantes-organicos/
LOCATION:Centro Penitenciario Jorge Navarro\, Tipitapa\, Nicaragua
CATEGORIES:TALLER
END:VEVENT
BEGIN:VEVENT
DTSTART;TZID=America/Managua:20260213T100000
DTEND;TZID=America/Managua:20260213T150000
DTSTAMP:20260424T004023
CREATED:20260210T150224Z
LAST-MODIFIED:20260210T150224Z
UID:29589-1770976800-1770994800@www.una.edu.ni
SUMMARY:Tardeada deportiva con torneos amistosos de fútbol y baloncesto masculino
DESCRIPTION:
URL:https://www.una.edu.ni/event/tardeada-deportiva-con-torneos-amistosos-de-futbol-y-baloncesto-masculino/
LOCATION:UNICAM Muelle de los Bueyes\, Nicaragua
CATEGORIES:OTROS
END:VEVENT
BEGIN:VEVENT
DTSTART;TZID=America/Managua:20260213T110000
DTEND;TZID=America/Managua:20260213T130000
DTSTAMP:20260424T004023
CREATED:20260210T145057Z
LAST-MODIFIED:20260210T145057Z
UID:29572-1770980400-1770987600@www.una.edu.ni
SUMMARY:Entrega de certificados a protagonistas del Curso Especializado de procesamiento de frutas y hortalizas a mujeres productoras
DESCRIPTION:
URL:https://www.una.edu.ni/event/entrega-de-certificados-a-protagonistas-del-curso-especializado-de-procesamiento-de-frutas-y-hortalizas-a-mujeres-productoras/
LOCATION:Centro Universitario “Don Orlando”\, Niquinohomo\, Nicaragua
CATEGORIES:OTROS
END:VEVENT
END:VCALENDAR