BEGIN:VCALENDAR
VERSION:2.0
PRODID:-//Universidad Nacional Agraria - ECPv6.15.20//NONSGML v1.0//EN
CALSCALE:GREGORIAN
METHOD:PUBLISH
X-WR-CALNAME:Universidad Nacional Agraria
X-ORIGINAL-URL:https://www.una.edu.ni
X-WR-CALDESC:Eventos para Universidad Nacional Agraria
REFRESH-INTERVAL;VALUE=DURATION:PT1H
X-Robots-Tag:noindex
X-PUBLISHED-TTL:PT1H
BEGIN:VTIMEZONE
TZID:America/Managua
BEGIN:STANDARD
TZOFFSETFROM:-0600
TZOFFSETTO:-0600
TZNAME:CST
DTSTART:20250101T000000
END:STANDARD
END:VTIMEZONE
BEGIN:VEVENT
DTSTART;TZID=America/Managua:20260219T080000
DTEND;TZID=America/Managua:20260219T120000
DTSTAMP:20260424T004017
CREATED:20260216T161715Z
LAST-MODIFIED:20260216T161715Z
UID:29632-1771488000-1771502400@www.una.edu.ni
SUMMARY:Diplomado en Caficultura sostenible y regenerativa”
DESCRIPTION:
URL:https://www.una.edu.ni/event/diplomado-en-caficultura-sostenible-y-regenerativa-2/
LOCATION:INATEC\, Ocotal\, Nueva Segovia\, Nicaragua
CATEGORIES:DIPLOMADO
END:VEVENT
BEGIN:VEVENT
DTSTART;TZID=America/Managua:20260219T083000
DTEND;TZID=America/Managua:20260219T120000
DTSTAMP:20260424T004017
CREATED:20260216T161422Z
LAST-MODIFIED:20260216T161422Z
UID:29628-1771489800-1771502400@www.una.edu.ni
SUMMARY:Maestría en Producción animal sostenible
DESCRIPTION:
URL:https://www.una.edu.ni/event/maestria-en-produccion-animal-sostenible/
LOCATION:Universidad Nacional Agraria\, Managua\, km 12 1/2\, Managua\, Nicaragua
CATEGORIES:OTROS
END:VEVENT
BEGIN:VEVENT
DTSTART;TZID=America/Managua:20260219T090000
DTEND;TZID=America/Managua:20260219T120000
DTSTAMP:20260424T004017
CREATED:20260216T161819Z
LAST-MODIFIED:20260216T161819Z
UID:29634-1771491600-1771502400@www.una.edu.ni
SUMMARY:Curso especializado en procesamiento de lácteos y sus derivados
DESCRIPTION:
URL:https://www.una.edu.ni/event/curso-especializado-en-procesamiento-de-lacteos-y-sus-derivados/
LOCATION:La Paz Centro\, León\, Nicaragua
CATEGORIES:CURSO
END:VEVENT
BEGIN:VEVENT
DTSTART;TZID=America/Managua:20260219T090000
DTEND;TZID=America/Managua:20260219T120000
DTSTAMP:20260424T004017
CREATED:20260216T161956Z
LAST-MODIFIED:20260216T161956Z
UID:29636-1771491600-1771502400@www.una.edu.ni
SUMMARY:Capacitación a productores sobre Técnicas de procesamiento y agregación de valor de marango
DESCRIPTION:
URL:https://www.una.edu.ni/event/capacitacion-a-productores-sobre-tecnicas-de-procesamiento-y-agregacion-de-valor-de-marango/
LOCATION:Centro de Desarrollo Moringa Comandante Fidel\, municipio de León\, Nicaragua
CATEGORIES:CAPACITACION
END:VEVENT
BEGIN:VEVENT
DTSTART;TZID=America/Managua:20260219T110000
DTEND;TZID=America/Managua:20260219T130000
DTSTAMP:20260424T004017
CREATED:20260216T161542Z
LAST-MODIFIED:20260216T161542Z
UID:29630-1771498800-1771506000@www.una.edu.ni
SUMMARY:Sesión No.3 Diplomado en Tecnologías productivas\, con el tema: Relación beneficio-costo de la producción de granos básicos
DESCRIPTION:
URL:https://www.una.edu.ni/event/sesion-no-3-diplomado-en-tecnologias-productivas-con-el-tema-relacion-beneficio-costo-de-la-produccion-de-granos-basicos/
LOCATION:Plataforma UALN\, Nicaragua
CATEGORIES:DIPLOMADO
END:VEVENT
BEGIN:VEVENT
DTSTART;TZID=America/Managua:20260219T140000
DTEND;TZID=America/Managua:20260219T170000
DTSTAMP:20260424T004017
CREATED:20260216T162124Z
LAST-MODIFIED:20260216T162124Z
UID:29638-1771509600-1771520400@www.una.edu.ni
SUMMARY:Taller sobre Diagnóstico de enfermedades en bovinos
DESCRIPTION:
URL:https://www.una.edu.ni/event/taller-sobre-diagnostico-de-enfermedades-en-bovinos/
LOCATION:Centro Universitario Regional UNA Camoapa\, Camoapa
CATEGORIES:TALLER
END:VEVENT
BEGIN:VEVENT
DTSTART;TZID=America/Managua:20260219T150000
DTEND;TZID=America/Managua:20260219T170000
DTSTAMP:20260424T004017
CREATED:20260216T170508Z
LAST-MODIFIED:20260216T170508Z
UID:29671-1771513200-1771520400@www.una.edu.ni
SUMMARY:Recital poético danzario y musical “Sandino Luz y Verdad” en conmemorando el 92 Aniversario del General de hombres y mujeres libres\, Augusto C. Sandino
DESCRIPTION:
URL:https://www.una.edu.ni/event/recital-poetico-danzario-y-musical-sandino-luz-y-verdad-en-conmemorando-el-92-aniversario-del-general-de-hombres-y-mujeres-libres-augusto-c-sandino/
LOCATION:Universidad Nacional Agraria\, Managua\, km 12 1/2\, Managua\, Nicaragua
CATEGORIES:OTROS
END:VEVENT
BEGIN:VEVENT
DTSTART;TZID=America/Managua:20260220T080000
DTEND;TZID=America/Managua:20260220T120000
DTSTAMP:20260424T004017
CREATED:20260216T164110Z
LAST-MODIFIED:20260216T164110Z
UID:29642-1771574400-1771588800@www.una.edu.ni
SUMMARY:Diplomado en Agronegocios y Cafeterías rentables
DESCRIPTION:
URL:https://www.una.edu.ni/event/diplomado-en-agronegocios-y-cafeterias-rentables/
LOCATION:Museo del Café\, Jinotega\, Nicaragua
CATEGORIES:DIPLOMADO
END:VEVENT
BEGIN:VEVENT
DTSTART;TZID=America/Managua:20260220T080000
DTEND;TZID=America/Managua:20260220T120000
DTSTAMP:20260424T004017
CREATED:20260216T165014Z
LAST-MODIFIED:20260216T165014Z
UID:29652-1771574400-1771588800@www.una.edu.ni
SUMMARY:Intercambio de experiencias con productores sobre Manejo agronómico de hortalizas
DESCRIPTION:
URL:https://www.una.edu.ni/event/intercambio-de-experiencias-con-productores-sobre-manejo-agronomico-de-hortalizas/
LOCATION:Centro Universitario “Don Orlando”\, Niquinohomo\, Nicaragua
CATEGORIES:OTROS
END:VEVENT
BEGIN:VEVENT
DTSTART;TZID=America/Managua:20260220T080000
DTEND;TZID=America/Managua:20260220T120000
DTSTAMP:20260424T004017
CREATED:20260216T165403Z
LAST-MODIFIED:20260216T165403Z
UID:29658-1771574400-1771588800@www.una.edu.ni
SUMMARY:Jornada de desparasitación y vitaminación de ganado bovino
DESCRIPTION:
URL:https://www.una.edu.ni/event/jornada-de-desparasitacion-y-vitaminacion-de-ganado-bovino/
LOCATION:UNICAM San Lorenzo/ Dirección de Ciencia Animal\, Nicaragua
CATEGORIES:JORNADA
END:VEVENT
BEGIN:VEVENT
DTSTART;TZID=America/Managua:20260220T083000
DTEND;TZID=America/Managua:20260220T120000
DTSTAMP:20260424T004017
CREATED:20260216T165109Z
LAST-MODIFIED:20260216T165109Z
UID:29654-1771576200-1771588800@www.una.edu.ni
SUMMARY:Taller sobre Nutrición de pasturas forrajeras
DESCRIPTION:
URL:https://www.una.edu.ni/event/taller-sobre-nutricion-de-pasturas-forrajeras/
LOCATION:Universidad Nacional Agraria\, Managua\, km 12 1/2\, Managua\, Nicaragua
CATEGORIES:TALLER
END:VEVENT
BEGIN:VEVENT
DTSTART;TZID=America/Managua:20260220T090000
DTEND;TZID=America/Managua:20260220T120000
DTSTAMP:20260424T004017
CREATED:20260216T164441Z
LAST-MODIFIED:20260216T164441Z
UID:29648-1771578000-1771588800@www.una.edu.ni
SUMMARY:Curso de ecografía en caninos y felinos
DESCRIPTION:
URL:https://www.una.edu.ni/event/curso-de-ecografia-en-caninos-y-felinos/
LOCATION:Centro Universitario Regional UNA Camoapa\, Camoapa
CATEGORIES:CURSO
END:VEVENT
BEGIN:VEVENT
DTSTART;TZID=America/Managua:20260220T090000
DTEND;TZID=America/Managua:20260220T120000
DTSTAMP:20260424T004017
CREATED:20260216T164711Z
LAST-MODIFIED:20260216T164711Z
UID:29650-1771578000-1771588800@www.una.edu.ni
SUMMARY:Curso sobre Técnicas especializadas en Procesamiento de frutas y hortalizas
DESCRIPTION:
URL:https://www.una.edu.ni/event/curso-sobre-tecnicas-especializadas-en-procesamiento-de-frutas-y-hortalizas/
LOCATION:Centro Universitario “Don Orlando”\, Niquinohomo\, Nicaragua
CATEGORIES:CURSO
END:VEVENT
BEGIN:VEVENT
DTSTART;TZID=America/Managua:20260220T090000
DTEND;TZID=America/Managua:20260220T160000
DTSTAMP:20260424T004017
CREATED:20260216T200201Z
LAST-MODIFIED:20260216T200201Z
UID:29697-1771578000-1771603200@www.una.edu.ni
SUMMARY:Jornada de embellecimiento y reforestación con la siembra de más de 200 plantas ornamentales
DESCRIPTION:
URL:https://www.una.edu.ni/event/jornada-de-embellecimiento-y-reforestacion-con-la-siembra-de-mas-de-200-plantas-ornamentales-2/
LOCATION:Universidad Nacional Agraria\, Managua\, km 12 1/2\, Managua\, Nicaragua
CATEGORIES:JORNADA
END:VEVENT
BEGIN:VEVENT
DTSTART;TZID=America/Managua:20260220T100000
DTEND;TZID=America/Managua:20260220T120000
DTSTAMP:20260424T004017
CREATED:20260216T163824Z
LAST-MODIFIED:20260216T163824Z
UID:29640-1771581600-1771588800@www.una.edu.ni
SUMMARY:Inauguración de invernaderos para la formación en producción\, injertación y mejora de plantas de frutas y hortalizas
DESCRIPTION:
URL:https://www.una.edu.ni/event/inauguracion-de-invernaderos-para-la-formacion-en-produccion-injertacion-y-mejora-de-plantas-de-frutas-y-hortalizas/
LOCATION:Universidad Nacional Agraria\, Managua\, km 12 1/2\, Managua\, Nicaragua
CATEGORIES:INAUGURACIÓN
END:VEVENT
BEGIN:VEVENT
DTSTART;TZID=America/Managua:20260220T110000
DTEND;TZID=America/Managua:20260220T160000
DTSTAMP:20260424T004017
CREATED:20260216T165227Z
LAST-MODIFIED:20260216T165227Z
UID:29656-1771585200-1771603200@www.una.edu.ni
SUMMARY:Feria de emprendimientos e innovación agropecuaria
DESCRIPTION:
URL:https://www.una.edu.ni/event/feria-de-emprendimientos-e-innovacion-agropecuaria/
LOCATION:Universidad Nacional Agraria\, Managua\, km 12 1/2\, Managua\, Nicaragua
CATEGORIES:FERIA
END:VEVENT
BEGIN:VEVENT
DTSTART;TZID=America/Managua:20260220T130000
DTEND;TZID=America/Managua:20260220T170000
DTSTAMP:20260424T004017
CREATED:20260216T164237Z
LAST-MODIFIED:20260216T164237Z
UID:29644-1771592400-1771606800@www.una.edu.ni
SUMMARY:Curso sobre Emprendimiento agropecuario
DESCRIPTION:
URL:https://www.una.edu.ni/event/curso-sobre-emprendimiento-agropecuario/
LOCATION:UNICAM Boaco Viejo\, Nicaragua
CATEGORIES:CURSO
END:VEVENT
BEGIN:VEVENT
DTSTART;TZID=America/Managua:20260220T130000
DTEND;TZID=America/Managua:20260220T170000
DTSTAMP:20260424T004017
CREATED:20260216T164332Z
LAST-MODIFIED:20260216T164332Z
UID:29646-1771592400-1771606800@www.una.edu.ni
SUMMARY:Curso sobre Investigación e Innovación sobre cultivo de café
DESCRIPTION:
URL:https://www.una.edu.ni/event/curso-sobre-investigacion-e-innovacion-sobre-cultivo-de-cafe/
LOCATION:Centro Universitario Regional UNA Camoapa\, Camoapa
CATEGORIES:CURSO
END:VEVENT
BEGIN:VEVENT
DTSTART;TZID=America/Managua:20260221T080000
DTEND;TZID=America/Managua:20260221T120000
DTSTAMP:20260424T004017
CREATED:20260216T170141Z
LAST-MODIFIED:20260216T170141Z
UID:29665-1771660800-1771675200@www.una.edu.ni
SUMMARY:Inicio del Módulo sobre Manejo de plaguicidas en la Maestría en Sanidad Vegetal
DESCRIPTION:
URL:https://www.una.edu.ni/event/inicio-del-modulo-sobre-manejo-de-plaguicidas-en-la-maestria-en-sanidad-vegetal/
LOCATION:Universidad Nacional Agraria\, Managua\, km 12 1/2\, Managua\, Nicaragua
CATEGORIES:OTROS
END:VEVENT
BEGIN:VEVENT
DTSTART;TZID=America/Managua:20260221T100000
DTEND;TZID=America/Managua:20260221T130000
DTSTAMP:20260424T004017
CREATED:20260216T165947Z
LAST-MODIFIED:20260216T165947Z
UID:29661-1771668000-1771678800@www.una.edu.ni
SUMMARY:Inauguración de “Don Orlando\, Niquinohomo”\, conmemorando el 92 Aniversario del Tránsito a la inmortalidad del General de Hombres y mujeres libres\, Augusto C. Sandino.
DESCRIPTION:
URL:https://www.una.edu.ni/event/inauguracion-de-don-orlando-niquinohomo-conmemorando-el-92-aniversario-del-transito-a-la-inmortalidad-del-general-de-hombres-y-mujeres-libres-augusto-c-sandino/
LOCATION:Centro Universitario “Don Orlando”\, Niquinohomo\, Nicaragua
CATEGORIES:INAUGURACIÓN
END:VEVENT
BEGIN:VEVENT
DTSTART;TZID=America/Managua:20260221T100000
DTEND;TZID=America/Managua:20260221T130000
DTSTAMP:20260424T004017
CREATED:20260216T170042Z
LAST-MODIFIED:20260216T170042Z
UID:29663-1771668000-1771678800@www.una.edu.ni
SUMMARY:Entrega de Certificados a protagonistas del Curso sobre Inseminación artificial bovina
DESCRIPTION:
URL:https://www.una.edu.ni/event/entrega-de-certificados-a-protagonistas-del-curso-sobre-inseminacion-artificial-bovina/
LOCATION:Centro Universitario Regional UNA Juigalpa\, Juigapa
CATEGORIES:OTROS
END:VEVENT
BEGIN:VEVENT
DTSTART;TZID=America/Managua:20260221T100000
DTEND;TZID=America/Managua:20260221T130000
DTSTAMP:20260424T004017
CREATED:20260216T170325Z
LAST-MODIFIED:20260216T170325Z
UID:29667-1771668000-1771678800@www.una.edu.ni
SUMMARY:Ofrenda Floral y acto cultural revolucionario “Sandino vive” en conmemorando el 92 Aniversario del General de hombres y mujeres libres\, Augusto C. Sandino
DESCRIPTION:
URL:https://www.una.edu.ni/event/ofrenda-floral-y-acto-cultural-revolucionario-sandino-vive-en-conmemorando-el-92-aniversario-del-general-de-hombres-y-mujeres-libres-augusto-c-sandino/
LOCATION:Todos los CUR y Sede Central\, Nicaragua
CATEGORIES:OTROS
END:VEVENT
BEGIN:VEVENT
DTSTART;TZID=America/Managua:20260222T110000
DTEND;TZID=America/Managua:20260222T160000
DTSTAMP:20260424T004017
CREATED:20260216T170800Z
LAST-MODIFIED:20260216T170800Z
UID:29674-1771758000-1771776000@www.una.edu.ni
SUMMARY:Feria de emprendimientos e innovación agropecuaria
DESCRIPTION:
URL:https://www.una.edu.ni/event/feria-de-emprendimientos-e-innovacion-agropecuaria-2/
LOCATION:Centro Universitario Regional UNA Juigalpa\, Juigapa
CATEGORIES:FERIA
END:VEVENT
BEGIN:VEVENT
DTSTART;TZID=America/Managua:20260222T140000
DTEND;TZID=America/Managua:20260222T170000
DTSTAMP:20260424T004017
CREATED:20260216T170856Z
LAST-MODIFIED:20260216T170856Z
UID:29676-1771768800-1771779600@www.una.edu.ni
SUMMARY:Encuentro de estudiantes de los Programas Académicos Universidad en el Campo
DESCRIPTION:
URL:https://www.una.edu.ni/event/encuentro-de-estudiantes-de-los-programas-academicos-universidad-en-el-campo/
LOCATION:UNICAM El Rama\, Nicaragua
CATEGORIES:ENCUENTRO
END:VEVENT
BEGIN:VEVENT
DTSTART;TZID=America/Managua:20260417T100000
DTEND;TZID=America/Managua:20260417T130000
DTSTAMP:20260424T004017
CREATED:20260414T170113Z
LAST-MODIFIED:20260416T200810Z
UID:30110-1776420000-1776430800@www.una.edu.ni
SUMMARY:Inauguración del Centro Nacional de Biotecnología Vegetal
DESCRIPTION:
URL:https://www.una.edu.ni/event/inauguracion-centro-nacional-de-biotecnologia-vegetal/
LOCATION:Universidad Nacional Agraria\, Managua\, km 12 1/2\, Managua\, Nicaragua
CATEGORIES:INAUGURACIÓN
END:VEVENT
BEGIN:VEVENT
DTSTART;TZID=America/Managua:20260420T090000
DTEND;TZID=America/Managua:20260420T120000
DTSTAMP:20260424T004017
CREATED:20260414T170417Z
LAST-MODIFIED:20260414T170417Z
UID:30112-1776675600-1776686400@www.una.edu.ni
SUMMARY:Lección Inaugural 2026 "Perspectivas y crecimiento en las exportaciones agropecuarias en el país"
DESCRIPTION:
URL:https://www.una.edu.ni/event/leccion-inaugural-2026-perspectivas-y-crecimiento-en-las-exportaciones-agropecuarias-en-el-pais/
LOCATION:Universidad Nacional Agraria\, Managua\, km 12 1/2\, Managua\, Nicaragua
CATEGORIES:INAUGURACIÓN
END:VEVENT
END:VCALENDAR